Workbook

Sheet Rekapitulácia
A2: Rekapitulácia rozpočtu | F2: Sadzby DPH
F3: A | G3: B
A4: Stavba Zvyšenie energetickej hospodárnosti Materskej školy Vyšný Žipov | F4: 0.2 | G4: 0
A6: Názov objektu | B6: ZRN | C6: VRN | D6: HZS | E6: Kompl.čin. | F6: Ost. náklady | G6: Cena
A7: Zateplenie obvodového plášťa | B7: ='SO 11544'!I45-Rekapitulácia!D7 -> 0 | C7: ='Kryci_list 11544'!J26 -> 0 | D7: 0 | E7: ='Kryci_list 11544'!J17 -> 0 | F7: 0 | G7: =B7+C7+D7+E7+F7 -> 0 | K7: ='SO 11544'!K45 -> 0 | Q7: 30.126
A8: Výmena výplní otvorov | B8: ='SO 11547'!I100-Rekapitulácia!D8 -> 0 | C8: ='Kryci_list 11547'!J26 -> 0 | D8: 0 | E8: ='Kryci_list 11547'!J17 -> 0 | F8: 0 | G8: =B8+C8+D8+E8+F8 -> 0 | K8: ='SO 11547'!K100 -> 0 | Q8: 30.126
A9: Zateplenie strešného plášťa | B9: ='SO 11560'!I106-Rekapitulácia!D9 -> 0 | C9: ='Kryci_list 11560'!J26 -> 0 | D9: 0 | E9: ='Kryci_list 11560'!J17 -> 0 | F9: 0 | G9: =B9+C9+D9+E9+F9 -> 0 | K9: ='SO 11560'!K106 -> 0 | Q9: 30.126
A10: Ostatné práce | B10: ='SO 11561'!I170-Rekapitulácia!D10 -> 0 | C10: ='Kryci_list 11561'!J26 -> 0 | D10: 0 | E10: ='Kryci_list 11561'!J17 -> 0 | F10: 0 | G10: =B10+C10+D10+E10+F10 -> 0 | K10: ='SO 11561'!K170 -> 0 | Q10: 30.126
A11: Ústredné vykurovanie | B11: ='SO 11562'!I155-Rekapitulácia!D11 -> 0 | C11: ='Kryci_list 11562'!J26 -> 0 | D11: 0 | E11: ='Kryci_list 11562'!J17 -> 0 | F11: 0 | G11: =B11+C11+D11+E11+F11 -> 0 | K11: ='SO 11562'!K155 -> 0 | Q11: 30.126
A12: Zmena plynofikácie | B12: ='SO 11563'!I49-Rekapitulácia!D12 -> 0 | C12: ='Kryci_list 11563'!J26 -> 0 | D12: 0 | E12: ='Kryci_list 11563'!J17 -> 0 | F12: 0 | G12: =B12+C12+D12+E12+F12 -> 0 | K12: ='SO 11563'!K49 -> 0 | Q12: 30.126
A13: Elektroinštalácia | B13: ='SO 11564'!I155-Rekapitulácia!D13 -> 0 | C13: ='Kryci_list 11564'!J26 -> 0 | D13: 0 | E13: ='Kryci_list 11564'!J17 -> 0 | F13: 0 | G13: =B13+C13+D13+E13+F13 -> 0 | K13: ='SO 11564'!K155 -> 0 | Q13: 30.126
A14: Celkom bez DPH | B14: =SUM(B7:B13) -> 0 | C14: =SUM(C7:C13) -> 0 | D14: =SUM(D7:D13) -> 0 | E14: =SUM(E7:E13) -> 0 | F14: =SUM(F7:F13) -> 0 | G14: =SUM(G7:G13)-SUM(Z7:Z13) -> 0
A15: DPH 20% z | B15: =G14-SUM(Rekapitulácia!K7:'Rekapitulácia'!K13)*1 -> 0 | G15: =ROUND(((ROUND(B15,2)*20)/100),2)*1 -> 0
A16: DPH 0% z | B16: =(G14-B15) -> 0 | G16: =ROUND(((ROUND(B16,2)*0)/100),2) -> 0
A17: Celkom | G17: =SUM(G14:G16) -> 0

Sheet Krycí list stavby
F1: Krycí list stavby | W1: 30.126
B2: Stavba Zvyšenie energetickej hospodárnosti Materskej školy Vyšný Žipov | G2: Miesto:
G3: Ks:
B5: Zákazka: | F5: Spracoval: | I5: Dňa | J5: 25.03.2017
B6: Odberateľ: Obec Vyšný Žipov | G6: IČO:
G7: DIČ:
B8: Dodávateľ: Ing. arch. Ľubomír Naňák | G8: IČO:
G9: DIČ:
B10: Projektant: | G10: IČO:
G11: DIČ:
B15: A | C15: ZRN | D15: Montáž | E15: Materiál | F15: ZRN spolu | G15: B | H15: Ďalšie náklady
B16: 1 | C16: HSV | D16: ='Kryci_list 11544'!D16+'Kryci_list 11547'!D16+'Kryci_list 11560'!D16+'Kryci_list 11561'!D16+'Kryci_list 11562'!D16+'Kryci_list 11563'!D16+'Kryci_list 11564'!D16 -> 0 | E16: ='Kryci_list 11544'!E16+'Kryci_list 11547'!E16+'Kryci_list 11560'!E16+'Kryci_list 11561'!E16+'Kryci_list 11562'!E16+'Kryci_list 11563'!E16+'Kryci_list 11564'!E16 -> 0 | F16: ='Kryci_list 11544'!F16+'Kryci_list 11547'!F16+'Kryci_list 11560'!F16+'Kryci_list 11561'!F16+'Kryci_list 11562'!F16+'Kryci_list 11563'!F16+'Kryci_list 11564'!F16 -> 0 | G16: 6 | H16: Ostatné náklady | J16: =Rekapitulácia!F14 -> 0
B17: 2 | C17: PSV | D17: ='Kryci_list 11544'!D17+'Kryci_list 11547'!D17+'Kryci_list 11560'!D17+'Kryci_list 11561'!D17+'Kryci_list 11562'!D17+'Kryci_list 11563'!D17+'Kryci_list 11564'!D17 -> 0 | E17: ='Kryci_list 11544'!E17+'Kryci_list 11547'!E17+'Kryci_list 11560'!E17+'Kryci_list 11561'!E17+'Kryci_list 11562'!E17+'Kryci_list 11563'!E17+'Kryci_list 11564'!E17 -> 0 | F17: ='Kryci_list 11544'!F17+'Kryci_list 11547'!F17+'Kryci_list 11560'!F17+'Kryci_list 11561'!F17+'Kryci_list 11562'!F17+'Kryci_list 11563'!F17+'Kryci_list 11564'!F17 -> 0 | G17: 7 | H17: Kompletačná činnosť | J17: =Rekapitulácia!E14 -> 0
B18: 3 | C18: MONT | D18: ='Kryci_list 11544'!D18+'Kryci_list 11547'!D18+'Kryci_list 11560'!D18+'Kryci_list 11561'!D18+'Kryci_list 11562'!D18+'Kryci_list 11563'!D18+'Kryci_list 11564'!D18 -> 0 | E18: ='Kryci_list 11544'!E18+'Kryci_list 11547'!E18+'Kryci_list 11560'!E18+'Kryci_list 11561'!E18+'Kryci_list 11562'!E18+'Kryci_list 11563'!E18+'Kryci_list 11564'!E18 -> 0 | F18: ='Kryci_list 11544'!F18+'Kryci_list 11547'!F18+'Kryci_list 11560'!F18+'Kryci_list 11561'!F18+'Kryci_list 11562'!F18+'Kryci_list 11563'!F18+'Kryci_list 11564'!F18 -> 0 | G18: 8 | H18: HZS | J18: =Rekapitulácia!D14 -> 0
B19: 4 | G19: 9
B20: 5 | C20: Spolu | F20: =SUM(F16:F19) -> 0 | G20: 10 | H20: Spolu | J20: =SUM(J16:J19) -> 0
B21: C | C21: VRN | G21: D | H21: VRN
B22: 11 | C22: Zariadenie staveniska | F22: ='Kryci_list 11544'!F22+'Kryci_list 11547'!F22+'Kryci_list 11560'!F22+'Kryci_list 11561'!F22+'Kryci_list 11562'!F22+'Kryci_list 11563'!F22+'Kryci_list 11564'!F22 -> 0 | G22: 16 | H22: Mimoriadne sťaž.podmienky | J22: ='Kryci_list 11544'!J22+'Kryci_list 11547'!J22+'Kryci_list 11560'!J22+'Kryci_list 11561'!J22+'Kryci_list 11562'!J22+'Kryci_list 11563'!J22+'Kryci_list 11564'!J22 -> 0
B23: 12 | C23: Územie so sťaž. podmienk. | F23: ='Kryci_list 11544'!F23+'Kryci_list 11547'!F23+'Kryci_list 11560'!F23+'Kryci_list 11561'!F23+'Kryci_list 11562'!F23+'Kryci_list 11563'!F23+'Kryci_list 11564'!F23 -> 0 | G23: 17 | H23: Horské oblasti | J23: ='Kryci_list 11544'!J23+'Kryci_list 11547'!J23+'Kryci_list 11560'!J23+'Kryci_list 11561'!J23+'Kryci_list 11562'!J23+'Kryci_list 11563'!J23+'Kryci_list 11564'!J23 -> 0
B24: 13 | C24: Prevádzkové vplyvy | F24: ='Kryci_list 11544'!F24+'Kryci_list 11547'!F24+'Kryci_list 11560'!F24+'Kryci_list 11561'!F24+'Kryci_list 11562'!F24+'Kryci_list 11563'!F24+'Kryci_list 11564'!F24 -> 0 | G24: 18 | H24: Mimostavenisková doprava | J24: ='Kryci_list 11544'!J24+'Kryci_list 11547'!J24+'Kryci_list 11560'!J24+'Kryci_list 11561'!J24+'Kryci_list 11562'!J24+'Kryci_list 11563'!J24+'Kryci_list 11564'!J24 -> 0
B25: 14 | G25: 19
B26: 15 | G26: 20 | H26: Spolu | J26: =SUM(J22:J25)+SUM(F22:F25) -> 0
C27: Projektant,rozpočtár | G27: E | H27: Celkové náklady
G28: 21 | H28: Súčet riadkov 5,10,15,20 | J28: =F20+J20+F26+J26 -> 0
G29: 22 | H29: DPH 20% z | I29: =Rekapitulácia!B15 -> 0 | J29: =ROUND(((ROUND(I29,2)*20)/100),2)*1 -> 0
G30: 23 | H30: DPH 0% z | I30: =Rekapitulácia!B16 -> 0 | J30: =ROUND(((ROUND(I30,2)*0)/100),2) -> 0
G31: 24 | H31: Spolu | J31: =SUM(J28:J30) -> 0
G32: F
D33: Odberateľ | H33: Dodávateľ

Sheet Kryci_list 11544
F1: Krycí list rozpočtu | W1: 30.126
B2: Stavba Zvyšenie energetickej hospodárnosti Materskej školy Vyšný Žipov | G2: Miesto:
B3: Objekt Zateplenie obvodového plášťa
I4: Ks:
B5: Zákazka: | F5: Spracoval: | I5: Dňa | J5: 25.03.2017
B6: Odberateľ: Obec Vyšný Žipov | G6: IČO:
G7: DIČ:
B8: Dodávateľ: Ing. arch. Ľubomír Naňák | G8: IČO:
G9: DIČ:
B10: Projektant: | G10: IČO:
G11: DIČ:
B15: A | C15: ZRN | D15: Montáž | E15: Materiál | F15: ZRN spolu | G15: B | H15: Ďalšie náklady
B16: 1 | C16: HSV | D16: ='Rekap 11544'!B14 -> 0 | E16: ='Rekap 11544'!C14 -> 0 | F16: ='Rekap 11544'!D14 -> 0 | G16: 6 | H16: Ostatné náklady | J16: 0
B17: 2 | C17: PSV | G17: 7 | H17: Kompletačná činnosť | J17: ='SO 11544'!Z45 -> 0
B18: 3 | C18: MONT | G18: 8 | H18: HZS | J18: 0
B19: 4 | G19: 9
B20: 5 | C20: Spolu | F20: =SUM(F16:F19) -> 0 | G20: 10 | H20: Spolu | J20: =SUM(J16:J19) -> 0
B21: C | C21: VRN | G21: D | H21: VRN
B22: 11 | C22: Zariadenie staveniska | E22: 0% z [H+P+M] | F22: =((F16*U22*0)+(F17*V22*0)+(F18*W22*0))/100 -> 0 | G22: 16 | H22: Mimoriadne sťaž.podmienky | I22: 0% z [H+P+M] | J22: =((F16*X22*0)+(F17*Y22*0)+(F18*Z22*0))/100 -> 0 | U22: 1 | V22: 1 | W22: 1 | X22: 1 | Y22: 1 | Z22: 1
B23: 12 | C23: Územie so sťaž. podmienk. | E23: 0% z [H+P] | F23: =((F16*U23*0)+(F17*V23*0)+(F18*W23*0))/100 -> 0 | G23: 17 | H23: Horské oblasti | I23: 0% z [H+P+M] | J23: =((F16*X23*0)+(F17*Y23*0)+(F18*Z23*0))/100 -> 0 | U23: 1 | V23: 1 | W23: 0 | X23: 1 | Y23: 1 | Z23: 1
B24: 13 | C24: Prevádzkové vplyvy | E24: 0% z [H+P+M] | F24: =((F16*U24*0)+(F17*V24*0)+(F18*W24*0))/100 -> 0 | G24: 18 | H24: Mimostavenisková doprava | I24: 0% z [H+P] | J24: =((F16*X24*0)+(F17*Y24*0)+(F18*Z24*0))/100 -> 0 | U24: 1 | V24: 1 | W24: 1 | X24: 1 | Y24: 1 | Z24: 0
B25: 14 | G25: 19
B26: 15 | G26: 20 | H26: Spolu | J26: =SUM(J22:J25)+SUM(F22:F25) -> 0
C27: Projektant,rozpočtár | G27: E | H27: Celkové náklady
G28: 21 | H28: Súčet riadkov 5,10,15,20 | J28: =F20+J20+F26+J26 -> 0
G29: 22 | H29: DPH 20% z | I29: =J28-SUM('SO 11544'!K9:'SO 11544'!K44) -> 0 | J29: =ROUND(((ROUND(I29,2)*20)*1/100),2) -> 0
G30: 23 | H30: DPH 0% z | I30: =SUM('SO 11544'!K9:'SO 11544'!K44) -> 0 | J30: =ROUND(((ROUND(I30,2)*0)/100),2) -> 0
G31: 24 | H31: Spolu | J31: =SUM(J28:J30) -> 0
G32: F
D33: Odberateľ | G33: 26 | H33: Dodávateľ

Sheet Rekap 11544
A1: Odberateľ: Obec Vyšný Žipov | D1: Spracoval: | W1: 30.126
A2: Projektant: | D2: Ks:
A3: Dodávateľ: Ing. arch. Ľubomír Naňák | D3: Dátum: 25.03.2017
A4: Stavba Zvyšenie energetickej hospodárnosti Materskej školy Vyšný Žipov
A5: Objekt Zateplenie obvodového plášťa
A8: Prehľad rozpočtových nákladov
A9: Oddiel | B9: Montáž | C9: Materiál | D9: Spolu | E9: Hmotnosť (T) | F9: Suť (T)
A10: Práce HSV
A11: POVRCHOVÉ ÚPRAVY | B11: ='SO 11544'!L22 -> 0 | C11: ='SO 11544'!M22 -> 0 | D11: ='SO 11544'!I22 -> 0 | E11: ='SO 11544'!P22 -> 50.63 | F11: ='SO 11544'!S22 -> 0
A12: OSTATNÉ PRÁCE | B12: ='SO 11544'!L38 -> 0 | C12: ='SO 11544'!M38 -> 0 | D12: ='SO 11544'!I38 -> 0 | E12: ='SO 11544'!P38 -> 1.67 | F12: ='SO 11544'!S38 -> 10.16
A13: PRESUNY HMÔT | B13: ='SO 11544'!L42 -> 0 | C13: ='SO 11544'!M42 -> 0 | D13: ='SO 11544'!I42 -> 0 | E13: ='SO 11544'!P42 -> 0 | F13: ='SO 11544'!S42 -> 0
A14: Práce HSV | B14: ='SO 11544'!L44 -> 0 | C14: ='SO 11544'!M44 -> 0 | D14: ='SO 11544'!I44 -> 0 | E14: ='SO 11544'!P44 -> 52.3 | F14: ='SO 11544'!S44 -> 10.16
A16: Celkom | B16: ='SO 11544'!L45 -> 0 | C16: ='SO 11544'!M45 -> 0 | D16: ='SO 11544'!I45 -> 0 | E16: ='SO 11544'!P45 -> 52.3 | F16: ='SO 11544'!S45 -> 10.16

Sheet SO 11544
B1: Odberateľ: Obec Vyšný Žipov | E1: Spracoval: | W1: 30.126
B2: Projektant: | E2: Ks:
B3: Dodávateľ: Ing. arch. Ľubomír Naňák | E3: Dátum: 25.03.2017
B4: Stavba Zvyšenie energetickej hospodárnosti Materskej školy Vyšný Žipov
B5: Objekt Zateplenie obvodového plášťa
B7: Prehľad rozpočtových nákladov
A8: Por.č. | B8: Cenník | C8: Kód položky | D8: Názov | E8: Mj | F8: Množstvo | G8: Montáž | H8: Materiál | I8: Cena celkom | P8: Hmotnosť | S8: Suť
D9: Práce HSV
D10: POVRCHOVÉ ÚPRAVY
B11: 11/A 1 | C11: 620991121 | D11: Zakrývanie škár panelov výplní vonkajších otvorov zhotovené z lešenia akýmkoľvek spôsobom | E11: m2 | F11: 358.1437 | I11: =ROUND(F11*(G11+H11),2) -> 0 | J11: =ROUND(F11*(N11),2) -> 490.66 | K11: =ROUND(F11*(O11),2) -> 0 | L11: =ROUND(F11*(G11),2) -> 0 | N11: 1.37 | P11: =ROUND(F11*(R11),3) -> 0.036 | R11: 0.0001 | Z11: 0
B12: 11/A 1 | C12: 625260022 | D12: Kontaktný zatepľovací systém ETICS stien a podhľadov hr. 200 mm z minerálnej vlny, objemovej hmotnosti 115 kg/m3, landaD=0,034 W/mK, označenie T1 | E12: m2 | F12: 1438.0725 | I12: =ROUND(F12*(G12+H12),2) -> 0 | J12: =ROUND(F12*(N12),2) -> 67891.4 | K12: =ROUND(F12*(O12),2) -> 0 | L12: =ROUND(F12*(G12),2) -> 0 | N12: 47.21 | P12: =ROUND(F12*(R12),3) -> 40.812 | R12: 0.02838 | Z12: 0
B13: 11/A 1 | C13: 612481119 | D13: Potiahnutie vnútorných alebo vonkajších stien a ostatných plôch sklotextílnou mriežkou do lepidla | E13: m2 | F13: 158.9985 | I13: =ROUND(F13*(G13+H13),2) -> 0 | J13: =ROUND(F13*(N13),2) -> 596.24 | K13: =ROUND(F13*(O13),2) -> 0 | L13: =ROUND(F13*(G13),2) -> 0 | N13: 3.75 | P13: =ROUND(F13*(R13),3) -> 0.312 | R13: 0.00196 | Z13: 0
B14: 11/A 1 | C14: 625260021 | D14: Kontaktný zatepľovací systém ETICS stien a podhľadov hr. 150 mm z minerálnej vlny, objemovej hmotnosti 115 kg/m3, landaD=0,034 W/mK | E14: m2 | F14: 3.99 | I14: =ROUND(F14*(G14+H14),2) -> 0 | J14: =ROUND(F14*(N14),2) -> 180.39 | K14: =ROUND(F14*(O14),2) -> 0 | L14: =ROUND(F14*(G14),2) -> 0 | N14: 45.21 | P14: =ROUND(F14*(R14),3) -> 0.103 | R14: 0.02571 | Z14: 0
B15: 11/A 1 | C15: 62525017710 | D15: Kontaktný zatepľovací systém ETICS stien hr. 150 mm z extrudovaného polystyrénu XPS, objemovej hmotnosti 32 kg/m3, landaD=0,034 W/mK | E15: M2 | F15: 1.2825 | I15: =ROUND(F15*(G15+H15),2) -> 0 | J15: =ROUND(F15*(N15),2) -> 54.13 | K15: =ROUND(F15*(O15),2) -> 0 | L15: =ROUND(F15*(G15),2) -> 0 | N15: 42.21 | P15: =ROUND(F15*(R15),3) -> 0.016 | R15: 0.0123095 | Z15: 0
B16: 11/A 1 | C16: 62525017810 | D16: Kontaktný zatepľovací systém ETICS stien hr. 160 mm z extrudovaného polystyrénu XPS, objemovej hmotnosti 32 kg/m3, landaD=0,034 W/mK, označenie T2 | E16: M2 | F16: 109.8387 | I16: =ROUND(F16*(G16+H16),2) -> 0 | J16: =ROUND(F16*(N16),2) -> 5075.65 | K16: =ROUND(F16*(O16),2) -> 0 | L16: =ROUND(F16*(G16),2) -> 0 | N16: 46.21 | P16: =ROUND(F16*(R16),3) -> 1.421 | R16: 0.0129395 | Z16: 0
B17: 11/A 1 | C17: 622467582 | D17: Vonkajšia omietka stien silikónovo-silikátová škrabaná fr. 1,5 mm vrátane podkladného náteru vo farbe omietky | E17: m2 | F17: 1572.88 | I17: =ROUND(F17*(G17+H17),2) -> 0 | J17: =ROUND(F17*(N17),2) -> 16043.38 | K17: =ROUND(F17*(O17),2) -> 0 | L17: =ROUND(F17*(G17),2) -> 0 | N17: 10.2 | P17: =ROUND(F17*(R17),3) -> 3.979 | R17: 0.00253 | Z17: 0
B18: 11/A 1 | C18: 621466186 | D18: Vonkajšia omietka podhľadov silikónovo-silikátová škrabaná fr. 1,5 mm vrátane podkladného náteru vo farbe omietky | E18: m2 | F18: 24.192 | I18: =ROUND(F18*(G18+H18),2) -> 0 | J18: =ROUND(F18*(N18),2) -> 348.36 | K18: =ROUND(F18*(O18),2) -> 0 | L18: =ROUND(F18*(G18),2) -> 0 | N18: 14.4 | P18: =ROUND(F18*(R18),3) -> 0.072 | R18: 0.00297 | Z18: 0
B19: 11/A 1 | C19: 622465112 | D19: Vonkajšia omietka stien ušľachtilá mozaiková vrátane podkladného náteru | E19: m2 | F19: 109.839 | I19: =ROUND(F19*(G19+H19),2) -> 0 | J19: =ROUND(F19*(N19),2) -> 2428.54 | K19: =ROUND(F19*(O19),2) -> 0 | L19: =ROUND(F19*(G19),2) -> 0 | N19: 22.11 | P19: =ROUND(F19*(R19),3) -> 0.681 | R19: 0.0062 | Z19: 0
B20: 11/A 1 | C20: 622471931 | D20: Prípl.za viacfarebné zhotovenie | E20: m2 | F20: 1597.072 | I20: =ROUND(F20*(G20+H20),2) -> 0 | J20: =ROUND(F20*(N20),2) -> 319.41 | K20: =ROUND(F20*(O20),2) -> 0 | L20: =ROUND(F20*(G20),2) -> 0 | N20: 0.2 | P20: =ROUND(F20*(R20),3) -> 0.16 | R20: 0.0001 | Z20: 0
B21: 14/C 1 | C21: 622422211 | D21: Oprava vonkajších omietok vápenných a vápenocem. stupeň členitosti IaII -20% hladkých | E21: m2 | F21: 114.185 | I21: =ROUND(F21*(G21+H21),2) -> 0 | J21: =ROUND(F21*(N21),2) -> 408.78 | K21: =ROUND(F21*(O21),2) -> 0 | L21: =ROUND(F21*(G21),2) -> 0 | N21: 3.58 | P21: =ROUND(F21*(R21),3) -> 3.038 | R21: 0.02661 | Z21: 0
D22: POVRCHOVÉ ÚPRAVY | G22: =ROUND((SUM(L10:L21))/1,2) -> 0 | H22: =ROUND((SUM(M10:M21))/1,2) -> 0 | I22: =ROUND((SUM(I10:I21))/1,2) -> 0 | L22: =ROUND((SUM(L10:L21))/1,2) -> 0 | M22: =ROUND((SUM(M10:M21))/1,2) -> 0 | P22: =ROUND((SUM(P10:P21))/1,2) -> 50.63 | S22: =ROUND((SUM(S10:S21))/1,2) -> 0
D24: OSTATNÉ PRÁCE
B25: 11/A 1 | C25: 953946111 | D25: Príslušenstvo k zateplovaciemu systému - BASF, rohový AL profil s integrovanou tkaninou - AL 100x100 | E25: m | F25: 660.686 | I25: =ROUND(F25*(G25+H25),2) -> 0 | J25: =ROUND(F25*(N25),2) -> 1704.57 | K25: =ROUND(F25*(O25),2) -> 0 | L25: =ROUND(F25*(G25),2) -> 0 | N25: 2.58 | P25: =ROUND(F25*(R25),3) -> 0.588 | R25: 0.00089 | Z25: 0
B26: 11/A 1 | C26: 95394616110 | D26: Zakladací Al profil soklový hrúbky 0,8 mm k zatepľovaciemu systému s hrúbkou izolantu 200 mm | E26: m | F26: 237.86 | I26: =ROUND(F26*(G26+H26),2) -> 0 | J26: =ROUND(F26*(N26),2) -> 2043.22 | K26: =ROUND(F26*(O26),2) -> 0 | L26: =ROUND(F26*(G26),2) -> 0 | N26: 8.59 | P26: =ROUND(F26*(R26),3) -> 0.272 | R26: 0.0011445 | Z26: 0
B27: 3/A 1 | C27: 941941031 | D27: Montáž lešenia ľahkého pracovného radového s podlahami šírky od 0,80 do 1,00 m a výšky do 10 m | E27: m2 | F27: 1310.3132 | I27: =ROUND(F27*(G27+H27),2) -> 0 | J27: =ROUND(F27*(N27),2) -> 2437.18 | K27: =ROUND(F27*(O27),2) -> 0 | L27: =ROUND(F27*(G27),2) -> 0 | N27: 1.86 | Z27: 0
B28: 3/A 1 | C28: 941941191 | D28: Príplatok za prvý a každý ďalší i začatý mesiac použitia lešenia k cene -1031 | E28: m2 | F28: 1310.313 | I28: =ROUND(F28*(G28+H28),2) -> 0 | J28: =ROUND(F28*(N28),2) -> 1755.82 | K28: =ROUND(F28*(O28),2) -> 0 | L28: =ROUND(F28*(G28),2) -> 0 | N28: 1.34 | P28: =ROUND(F28*(R28),3) -> 0.812 | R28: 0.00062 | Z28: 0
B29: 3/B 1 | C29: 941941831 | D29: Demontáž lešenia ľahkého pracovného radového a s podlahami, šírky 0,80-1,00 m a výšky do 10m | E29: m2 | F29: 1310.313 | I29: =ROUND(F29*(G29+H29),2) -> 0 | J29: =ROUND(F29*(N29),2) -> 1533.07 | K29: =ROUND(F29*(O29),2) -> 0 | L29: =ROUND(F29*(G29),2) -> 0 | N29: 1.17 | Z29: 0
B30: 13/B 1 | C30: 978059631 | D30: Odsekanie a odobratie stien z obkladačiek vonkajších nad 2 m2 -0,089 t | E30: m2 | F30: 114.185 | I30: =ROUND(F30*(G30+H30),2) -> 0 | J30: =ROUND(F30*(N30),2) -> 447.61 | K30: =ROUND(F30*(O30),2) -> 0 | L30: =ROUND(F30*(G30),2) -> 0 | N30: 3.92 | S30: =ROUND(F30*(X30),3) -> 10.162 | X30: 0.089 | Z30: 0
B31: 13/B 1 | C31: 979011111 | D31: Zvislá doprava sutiny a vybúraných hmôt za prvé podlažie nad alebo pod základným podlažím | E31: t | F31: 10.162465 | I31: =ROUND(F31*(G31+H31),2) -> 0 | J31: =ROUND(F31*(N31),2) -> 81.81 | K31: =ROUND(F31*(O31),2) -> 0 | L31: =ROUND(F31*(G31),2) -> 0 | N31: 8.05 | Z31: 0
B32: 13/B 1 | C32: 979011121 | D32: Zvislá doprava sutiny a vybúraných hmôt za každé ďalšie podlažie | E32: t | F32: 10.162 | I32: =ROUND(F32*(G32+H32),2) -> 0 | J32: =ROUND(F32*(N32),2) -> 57.31 | K32: =ROUND(F32*(O32),2) -> 0 | L32: =ROUND(F32*(G32),2) -> 0 | N32: 5.64 | Z32: 0
B33: 13/B 1 | C33: 979082111 | D33: Vnútrostavenisková doprava sutiny a vybúraných hmôt do 10 m | E33: t | F33: 10.162 | I33: =ROUND(F33*(G33+H33),2) -> 0 | J33: =ROUND(F33*(N33),2) -> 82.62 | K33: =ROUND(F33*(O33),2) -> 0 | L33: =ROUND(F33*(G33),2) -> 0 | N33: 8.13 | Z33: 0
B34: 321/B 1 | C34: 979082315 | D34: Vodorovná doprava sutiny a vybúraných hmôt bez naloženia ale so zložením do 3000 m | E34: t | F34: 10.162 | I34: =ROUND(F34*(G34+H34),2) -> 0 | J34: =ROUND(F34*(N34),2) -> 39.73 | K34: =ROUND(F34*(O34),2) -> 0 | L34: =ROUND(F34*(G34),2) -> 0 | N34: 3.91 | Z34: 0
B35: 321/B 1 | C35: 979082319 | D35: Príplatok k cenám za každých ďalších aj začatých 1000 m | E35: t | F35: 121.944 | I35: =ROUND(F35*(G35+H35),2) -> 0 | J35: =ROUND(F35*(N35),2) -> 23.17 | K35: =ROUND(F35*(O35),2) -> 0 | L35: =ROUND(F35*(G35),2) -> 0 | N35: 0.19 | Z35: 0
B36: 211/B 1 | C36: 979087112 | D36: Nakladanie na dopravný prostriedok pre vodorovnú dopravu sutiny | E36: t | F36: 10.162 | I36: =ROUND(F36*(G36+H36),2) -> 0 | J36: =ROUND(F36*(N36),2) -> 36.38 | K36: =ROUND(F36*(O36),2) -> 0 | L36: =ROUND(F36*(G36),2) -> 0 | N36: 3.58 | Z36: 0
B37: 13/B 1 | C37: SKLADKA | D37: Poplatok za uloženie sute na skládku | E37: T | F37: 10.162 | I37: =ROUND(F37*(G37+H37),2) -> 0 | J37: =ROUND(F37*(N37),2) -> 152.43 | K37: =ROUND(F37*(O37),2) -> 0 | L37: =ROUND(F37*(G37),2) -> 0 | N37: 15 | Z37: 0
D38: OSTATNÉ PRÁCE | G38: =ROUND((SUM(L24:L37))/1,2) -> 0 | H38: =ROUND((SUM(M24:M37))/1,2) -> 0 | I38: =ROUND((SUM(I24:I37))/1,2) -> 0 | L38: =ROUND((SUM(L24:L37))/1,2) -> 0 | M38: =ROUND((SUM(M24:M37))/1,2) -> 0 | P38: =ROUND((SUM(P24:P37))/1,2) -> 1.67 | S38: =ROUND((SUM(S24:S37))/1,2) -> 10.16
D40: PRESUNY HMÔT
B41: 14/C 1 | C41: 999281211 | D41: Presun hmôt pre opravy a údržbu vonkajších plášťov doterajších objektov výšky do 25 m | E41: t | F41: 52.302621 | I41: =ROUND(F41*(G41+H41),2) -> 0 | J41: =ROUND(F41*(N41),2) -> 998.46 | K41: =ROUND(F41*(O41),2) -> 0 | L41: =ROUND(F41*(G41),2) -> 0 | N41: 19.09 | Z41: 0
D42: PRESUNY HMÔT | G42: =ROUND((SUM(L40:L41))/1,2) -> 0 | H42: =ROUND((SUM(M40:M41))/1,2) -> 0 | I42: =ROUND((SUM(I40:I41))/1,2) -> 0 | L42: =ROUND((SUM(L40:L41))/1,2) -> 0 | M42: =ROUND((SUM(M40:M41))/1,2) -> 0 | P42: =ROUND((SUM(P40:P41))/1,2) -> 0 | S42: =ROUND((SUM(S40:S41))/1,2) -> 0
D44: Práce HSV | G44: =ROUND((SUM(L9:L43))/2,2) -> 0 | H44: =ROUND((SUM(M9:M43))/2,2) -> 0 | I44: =ROUND((SUM(I9:I43))/2,2) -> 0 | L44: =ROUND((SUM(L9:L43))/2,2) -> 0 | M44: =ROUND((SUM(M9:M43))/2,2) -> 0 | P44: =ROUND((SUM(P9:P43))/2,2) -> 52.3 | S44: =ROUND((SUM(S9:S43))/2,2) -> 10.16
...

Sheet Kryci_list 11547
F1: Krycí list rozpočtu | W1: 30.126
B2: Stavba Zvyšenie energetickej hospodárnosti Materskej školy Vyšný Žipov | G2: Miesto:
B3: Objekt Výmena výplní otvorov
I4: Ks:
B5: Zákazka: | F5: Spracoval: | I5: Dňa | J5: 25.03.2017
B6: Odberateľ: Obec Vyšný Žipov | G6: IČO:
G7: DIČ:
B8: Dodávateľ: Ing. arch. Ľubomír Naňák | G8: IČO:
G9: DIČ:
B10: Projektant: | G10: IČO:
G11: DIČ:
B15: A | C15: ZRN | D15: Montáž | E15: Materiál | F15: ZRN spolu | G15: B | H15: Ďalšie náklady
B16: 1 | C16: HSV | D16: ='Rekap 11547'!B15 -> 0 | E16: ='Rekap 11547'!C15 -> 0 | F16: ='Rekap 11547'!D15 -> 0 | G16: 6 | H16: Ostatné náklady | J16: 0
B17: 2 | C17: PSV | D17: ='Rekap 11547'!B21 -> 0 | E17: ='Rekap 11547'!C21 -> 0 | F17: ='Rekap 11547'!D21 -> 0 | G17: 7 | H17: Kompletačná činnosť | J17: ='SO 11547'!Z100 -> 0
B18: 3 | C18: MONT | G18: 8 | H18: HZS | J18: 0
B19: 4 | G19: 9
B20: 5 | C20: Spolu | F20: =SUM(F16:F19) -> 0 | G20: 10 | H20: Spolu | J20: =SUM(J16:J19) -> 0
B21: C | C21: VRN | G21: D | H21: VRN
B22: 11 | C22: Zariadenie staveniska | E22: 0% z [H+P+M] | F22: =((F16*U22*0)+(F17*V22*0)+(F18*W22*0))/100 -> 0 | G22: 16 | H22: Mimoriadne sťaž.podmienky | I22: 0% z [H+P+M] | J22: =((F16*X22*0)+(F17*Y22*0)+(F18*Z22*0))/100 -> 0 | U22: 1 | V22: 1 | W22: 1 | X22: 1 | Y22: 1 | Z22: 1
B23: 12 | C23: Územie so sťaž. podmienk. | E23: 0% z [H+P] | F23: =((F16*U23*0)+(F17*V23*0)+(F18*W23*0))/100 -> 0 | G23: 17 | H23: Horské oblasti | I23: 0% z [H+P+M] | J23: =((F16*X23*0)+(F17*Y23*0)+(F18*Z23*0))/100 -> 0 | U23: 1 | V23: 1 | W23: 0 | X23: 1 | Y23: 1 | Z23: 1
B24: 13 | C24: Prevádzkové vplyvy | E24: 0% z [H+P+M] | F24: =((F16*U24*0)+(F17*V24*0)+(F18*W24*0))/100 -> 0 | G24: 18 | H24: Mimostavenisková doprava | I24: 0% z [H+P] | J24: =((F16*X24*0)+(F17*Y24*0)+(F18*Z24*0))/100 -> 0 | U24: 1 | V24: 1 | W24: 1 | X24: 1 | Y24: 1 | Z24: 0
B25: 14 | G25: 19
B26: 15 | G26: 20 | H26: Spolu | J26: =SUM(J22:J25)+SUM(F22:F25) -> 0
C27: Projektant,rozpočtár | G27: E | H27: Celkové náklady
G28: 21 | H28: Súčet riadkov 5,10,15,20 | J28: =F20+J20+F26+J26 -> 0
G29: 22 | H29: DPH 20% z | I29: =J28-SUM('SO 11547'!K9:'SO 11547'!K99) -> 0 | J29: =ROUND(((ROUND(I29,2)*20)*1/100),2) -> 0
G30: 23 | H30: DPH 0% z | I30: =SUM('SO 11547'!K9:'SO 11547'!K99) -> 0 | J30: =ROUND(((ROUND(I30,2)*0)/100),2) -> 0
G31: 24 | H31: Spolu | J31: =SUM(J28:J30) -> 0
G32: F
D33: Odberateľ | G33: 26 | H33: Dodávateľ

Sheet Rekap 11547
A1: Odberateľ: Obec Vyšný Žipov | D1: Spracoval: | W1: 30.126
A2: Projektant: | D2: Ks:
A3: Dodávateľ: Ing. arch. Ľubomír Naňák | D3: Dátum: 25.03.2017
A4: Stavba Zvyšenie energetickej hospodárnosti Materskej školy Vyšný Žipov
A5: Objekt Výmena výplní otvorov
A8: Prehľad rozpočtových nákladov
A9: Oddiel | B9: Montáž | C9: Materiál | D9: Spolu | E9: Hmotnosť (T) | F9: Suť (T)
A10: Práce HSV
A11: ZVISLÉ KONŠTRUKCIE | B11: ='SO 11547'!L21 -> 0 | C11: ='SO 11547'!M21 -> 0 | D11: ='SO 11547'!I21 -> 0 | E11: ='SO 11547'!P21 -> 4.39 | F11: ='SO 11547'!S21 -> 0
A12: POVRCHOVÉ ÚPRAVY | B12: ='SO 11547'!L29 -> 0 | C12: ='SO 11547'!M29 -> 0 | D12: ='SO 11547'!I29 -> 0 | E12: ='SO 11547'!P29 -> 18.62 | F12: ='SO 11547'!S29 -> 0
A13: OSTATNÉ PRÁCE | B13: ='SO 11547'!L52 -> 0 | C13: ='SO 11547'!M52 -> 0 | D13: ='SO 11547'!I52 -> 0 | E13: ='SO 11547'!P52 -> 0.82 | F13: ='SO 11547'!S52 -> 17.85
A14: PRESUNY HMÔT | B14: ='SO 11547'!L56 -> 0 | C14: ='SO 11547'!M56 -> 0 | D14: ='SO 11547'!I56 -> 0 | E14: ='SO 11547'!P56 -> 0 | F14: ='SO 11547'!S56 -> 0
A15: Práce HSV | B15: ='SO 11547'!L58 -> 0 | C15: ='SO 11547'!M58 -> 0 | D15: ='SO 11547'!I58 -> 0 | E15: ='SO 11547'!P58 -> 23.83 | F15: ='SO 11547'!S58 -> 17.85
A17: Práce PSV
A18: KONŠTRUKCIE KLAMPIARSKE | B18: ='SO 11547'!L66 -> 0 | C18: ='SO 11547'!M66 -> 0 | D18: ='SO 11547'!I66 -> 0 | E18: ='SO 11547'!P66 -> 0.44 | F18: ='SO 11547'!S66 -> 0.24
A19: KOVOVÉ DOPLNKOVÉ KONŠTRUKCIE | B19: ='SO 11547'!L93 -> 0 | C19: ='SO 11547'!M93 -> 0 | D19: ='SO 11547'!I93 -> 0 | E19: ='SO 11547'!P93 -> 4.94 | F19: ='SO 11547'!S93 -> 0
A20: NÁTERY | B20: ='SO 11547'!L97 -> 0 | C20: ='SO 11547'!M97 -> 0 | D20: ='SO 11547'!I97 -> 0 | E20: ='SO 11547'!P97 -> 0.07 | F20: ='SO 11547'!S97 -> 0
A21: Práce PSV | B21: ='SO 11547'!L99 -> 0 | C21: ='SO 11547'!M99 -> 0 | D21: ='SO 11547'!I99 -> 0 | E21: ='SO 11547'!P99 -> 5.45 | F21: ='SO 11547'!S99 -> 0.24
A23: Celkom | B23: ='SO 11547'!L100 -> 0 | C23: ='SO 11547'!M100 -> 0 | D23: ='SO 11547'!I100 -> 0 | E23: ='SO 11547'!P100 -> 29.28 | F23: ='SO 11547'!S100 -> 18.09

Sheet SO 11547
B1: Odberateľ: Obec Vyšný Žipov | E1: Spracoval: | W1: 30.126
B2: Projektant: | E2: Ks:
B3: Dodávateľ: Ing. arch. Ľubomír Naňák | E3: Dátum: 25.03.2017
B4: Stavba Zvyšenie energetickej hospodárnosti Materskej školy Vyšný Žipov
B5: Objekt Výmena výplní otvorov
B7: Prehľad rozpočtových nákladov
A8: Por.č. | B8: Cenník | C8: Kód položky | D8: Názov | E8: Mj | F8: Množstvo | G8: Montáž | H8: Materiál | I8: Cena celkom | P8: Hmotnosť | S8: Suť
D9: Práce HSV
D10: ZVISLÉ KONŠTRUKCIE
B11: 14/C 1 | C11: 310278841 | D11: Zamurovanie otvoru s plochou do 1m2 v murive nadzáklad. pórobetónovými tvárnicami na tenkovrstvu maltu hr. do 300mm | E11: m3 | F11: 0.189 | I11: =ROUND(F11*(G11+H11),2) -> 0 | J11: =ROUND(F11*(N11),2) -> 23.21 | K11: =ROUND(F11*(O11),2) -> 0 | L11: =ROUND(F11*(G11),2) -> 0 | N11: 122.78 | P11: =ROUND(F11*(R11),3) -> 0.23 | R11: 1.2185322 | Z11: 0
B12: 14/C 1 | C12: 310278842 | D12: Zamurovanie otvoru s plochou do 1 m2 pórobetónovými tvárnicami na tenkovrstvu maltu v nadzákladovom murive | E12: m3 | F12: 2.8397 | I12: =ROUND(F12*(G12+H12),2) -> 0 | J12: =ROUND(F12*(N12),2) -> 116.37 | K12: =ROUND(F12*(O12),2) -> 0 | L12: =ROUND(F12*(G12),2) -> 0 | N12: 40.98 | P12: =ROUND(F12*(R12),3) -> 0.609 | R12: 0.21432 | Z12: 0
B13: 14/C 1 | C13: 310279841 | D13: Zamurovanie otvoru s plochou do 4m2 v murive nadzáklad. pórobetónovými tvárnicami na tenkovrstvu maltuhr. do 300mm | E13: m3 | F13: 2.27286 | I13: =ROUND(F13*(G13+H13),2) -> 0 | J13: =ROUND(F13*(N13),2) -> 268.15 | K13: =ROUND(F13*(O13),2) -> 0 | L13: =ROUND(F13*(G13),2) -> 0 | N13: 117.98 | P13: =ROUND(F13*(R13),3) -> 2.763 | R13: 1.2158093 | Z13: 0
B14: 14/C 1 | C14: 310279843 | D14: Zamurovanie otvoru s plochou do 4 m2 pórobetónovými tvárnicami na tenkovrstvu maltuv nadzákladovom murive | E14: m3 | F14: 2.46048 | I14: =ROUND(F14*(G14+H14),2) -> 0 | J14: =ROUND(F14*(N14),2) -> 89.02 | K14: =ROUND(F14*(O14),2) -> 0 | L14: =ROUND(F14*(G14),2) -> 0 | N14: 36.18 | P14: =ROUND(F14*(R14),3) -> 0.527 | R14: 0.21432 | Z14: 0
B15: 11/A 1 | C15: 317351107 | D15: Debnenie prekladu zhotovenie | E15: m2 | F15: 1.56 | I15: =ROUND(F15*(G15+H15),2) -> 0 | J15: =ROUND(F15*(N15),2) -> 25.35 | K15: =ROUND(F15*(O15),2) -> 0 | L15: =ROUND(F15*(G15),2) -> 0 | N15: 16.25 | P15: =ROUND(F15*(R15),3) -> 0.014 | R15: 0.0088 | Z15: 0
B16: 11/A 1 | C16: 317351108 | D16: Debnenie prekladu odstránenie | E16: m2 | F16: 1.56 | I16: =ROUND(F16*(G16+H16),2) -> 0 | J16: =ROUND(F16*(N16),2) -> 9.27 | K16: =ROUND(F16*(O16),2) -> 0 | L16: =ROUND(F16*(G16),2) -> 0 | N16: 5.94 | Z16: 0
B17: 11/A 1 | C17: 317351109 | D17: Príplatok za podpornú konštrukciu (zhotovenie i odstránenie) výšky nad 4 do 6 m | E17: m2 | F17: 0.78 | I17: =ROUND(F17*(G17+H17),2) -> 0 | J17: =ROUND(F17*(N17),2) -> 1.07 | K17: =ROUND(F17*(O17),2) -> 0 | L17: =ROUND(F17*(G17),2) -> 0 | N17: 1.37 | P17: =ROUND(F17*(R17),3) -> 0 | R17: 0.0006 | Z17: 0
B18: 11/A 1 | C18: 317361821 | D18: Výstuž prekladov ríms z ocele 10505 | E18: t | F18: 0.0494 | I18: =ROUND(F18*(G18+H18),2) -> 0 | J18: =ROUND(F18*(N18),2) -> 64.98 | K18: =ROUND(F18*(O18),2) -> 0 | L18: =ROUND(F18*(G18),2) -> 0 | N18: 1315.47 | P18: =ROUND(F18*(R18),3) -> 0.05 | R18: 1.01178 | Z18: 0
B19: 11/A 1 | C19: 317162103 | D19: Keramický predpätý preklad POROTHERM alebo ekvivalent KPP, šírky 120 mm, výšky 65 mm, dĺžky 1500 mm | E19: kus | F19: 4 | I19: =ROUND(F19*(G19+H19),2) -> 0 | J19: =ROUND(F19*(N19),2) -> 66.44 | K19: =ROUND(F19*(O19),2) -> 0 | L19: =ROUND(F19*(G19),2) -> 0 | N19: 16.61 | P19: =ROUND(F19*(R19),3) -> 0.092 | R19: 0.0230255 | Z19: 0
B20: 11/A 1 | C20: 317162106 | D20: Porotherm alebo ekvivalen Keramický predpätý preklad KPP 120x65 mm, dĺžka 2250 mm | E20: kus | F20: 3 | I20: =ROUND(F20*(G20+H20),2) -> 0 | J20: =ROUND(F20*(N20),2) -> 75.75 | K20: =ROUND(F20*(O20),2) -> 0 | L20: =ROUND(F20*(G20),2) -> 0 | N20: 25.25 | P20: =ROUND(F20*(R20),3) -> 0.103 | R20: 0.0344805 | Z20: 0
D21: ZVISLÉ KONŠTRUKCIE | G21: =ROUND((SUM(L10:L20))/1,2) -> 0 | H21: =ROUND((SUM(M10:M20))/1,2) -> 0 | I21: =ROUND((SUM(I10:I20))/1,2) -> 0 | L21: =ROUND((SUM(L10:L20))/1,2) -> 0 | M21: =ROUND((SUM(M10:M20))/1,2) -> 0 | P21: =ROUND((SUM(P10:P20))/1,2) -> 4.39 | S21: =ROUND((SUM(S10:S20))/1,2) -> 0
D23: POVRCHOVÉ ÚPRAVY
B24: 11/A 1 | C24: 648991113 | D24: Osadenie parapetných dosiek z plastických a poloplast. hmôt, š. nad 200 mm | E24: m | F24: 183.7 | I24: =ROUND(F24*(G24+H24),2) -> 0 | J24: =ROUND(F24*(N24),2) -> 931.36 | K24: =ROUND(F24*(O24),2) -> 0 | L24: =ROUND(F24*(G24),2) -> 0 | N24: 5.07 | P24: =ROUND(F24*(R24),3) -> 1.617 | R24: 0.0088 | Z24: 0
B25: P/PC | C25: 283413340 | D25: Plastová parapetná doska biela vnútorná š. 400 mm s koncovkami | E25: m | F25: 183.7 | I25: =ROUND(F25*(G25+H25),2) -> 0 | J25: =ROUND(F25*(N25),2) -> 1882.93 | K25: =ROUND(F25*(O25),2) -> 0 | M25: =ROUND(F25*(H25),2) -> 0 | N25: 10.25 | Z25: 0
B26: 11/A 1 | C26: 632451022 | D26: Vyrovnávací poter muriva MC 15 hr 30 mm | E26: m2 | F26: 55.11 | I26: =ROUND(F26*(G26+H26),2) -> 0 | J26: =ROUND(F26*(N26),2) -> 408.37 | K26: =ROUND(F26*(O26),2) -> 0 | L26: =ROUND(F26*(G26),2) -> 0 | N26: 7.41 | P26: =ROUND(F26*(R26),3) -> 4.095 | R26: 0.0743 | Z26: 0
B27: 11/A 1 | C27: 625260011 | D27: Kontaktný zatepľovací systém ETICS ostenia hr. 30 mm z minerálnej vlny, objemovej hmotnosti 115 kg/m3, landaD=0,034 W/mK, označenie T3 | E27: m2 | F27: 173.733 | I27: =ROUND(F27*(G27+H27),2) -> 0 | J27: =ROUND(F27*(N27),2) -> 5842.64 | K27: =ROUND(F27*(O27),2) -> 0 | L27: =ROUND(F27*(G27),2) -> 0 | N27: 33.63 | P27: =ROUND(F27*(R27),3) -> 2.94 | R27: 0.01692 | Z27: 0
B28: 14/C 1 | C28: 612425931 | D28: Omietka vápenná vnútorného ostenia okenného alebo dverného štuková | E28: m2 | F28: 173.733 | I28: =ROUND(F28*(G28+H28),2) -> 0 | J28: =ROUND(F28*(N28),2) -> 2314.12 | K28: =ROUND(F28*(O28),2) -> 0 | L28: =ROUND(F28*(G28),2) -> 0 | N28: 13.32 | P28: =ROUND(F28*(R28),3) -> 9.964 | R28: 0.05735 | Z28: 0
D29: POVRCHOVÉ ÚPRAVY | G29: =ROUND((SUM(L23:L28))/1,2) -> 0 | H29: =ROUND((SUM(M23:M28))/1,2) -> 0 | I29: =ROUND((SUM(I23:I28))/1,2) -> 0 | L29: =ROUND((SUM(L23:L28))/1,2) -> 0 | M29: =ROUND((SUM(M23:M28))/1,2) -> 0 | P29: =ROUND((SUM(P23:P28))/1,2) -> 18.62 | S29: =ROUND((SUM(S23:S28))/1,2) -> 0
D31: OSTATNÉ PRÁCE
B32: 11/A 1 | C32: 953946111 | D32: Príslušenstvo k zateplovaciemu systému - BASF, rohový AL profil s integrovanou tkaninou - AL 100x100 | E32: m | F32: 579.11 | I32: =ROUND(F32*(G32+H32),2) -> 0 | J32: =ROUND(F32*(N32),2) -> 1494.1 | K32: =ROUND(F32*(O32),2) -> 0 | L32: =ROUND(F32*(G32),2) -> 0 | N32: 2.58 | P32: =ROUND(F32*(R32),3) -> 0.515 | R32: 0.00089 | Z32: 0
B33: 13/B 1 | C33: 968061112 | D33: Vyvesenie alebo zavesenie dreveného, plastového alebo kov.okenného krídla do 1,5 m2 | E33: kus | F33: 32 | I33: =ROUND(F33*(G33+H33),2) -> 0 | J33: =ROUND(F33*(N33),2) -> 14.4 | K33: =ROUND(F33*(O33),2) -> 0 | L33: =ROUND(F33*(G33),2) -> 0 | N33: 0.45 | Z33: 0
B34: 13/B 1 | C34: 968061113 | D34: Vyvesenie alebo zavesenie dreveného, plastového alebo kov.okenného krídla nad 1,5 m2 | E34: kus | F34: 130 | I34: =ROUND(F34*(G34+H34),2) -> 0 | J34: =ROUND(F34*(N34),2) -> 97.5 | K34: =ROUND(F34*(O34),2) -> 0 | L34: =ROUND(F34*(G34),2) -> 0 | N34: 0.75 | Z34: 0
B35: 13/B 1 | C35: 968062354 | D35: Vybúranie drevených, plastových a kovových rámov okien dvojitých alebo zdvojených, plochy do 1 m2 -0,082 t | E35: m2 | F35: 4.9192 | I35: =ROUND(F35*(G35+H35),2) -> 0 | J35: =ROUND(F35*(N35),2) -> 48.7 | K35: =ROUND(F35*(O35),2) -> 0 | L35: =ROUND(F35*(G35),2) -> 0 | N35: 9.9 | P35: =ROUND(F35*(R35),3) -> 0.011 | R35: 0.00225 | S35: =ROUND(F35*(X35),3) -> 0.369 | X35: 0.075 | Z35: 0
B36: 13/B 1 | C36: 968062355 | D36: Vybúranie drevených, plastových a kovových rámov okien dvojitých alebo zdvojených, plochy do 2 m2 -0,063 t | E36: m2 | F36: 12.2848 | I36: =ROUND(F36*(G36+H36),2) -> 0 | J36: =ROUND(F36*(N36),2) -> 82.43 | K36: =ROUND(F36*(O36),2) -> 0 | L36: =ROUND(F36*(G36),2) -> 0 | N36: 6.71 | P36: =ROUND(F36*(R36),3) -> 0.013 | R36: 0.00103 | S36: =ROUND(F36*(X36),3) -> 0.762 | X36: 0.062 | Z36: 0
B37: 13/B 1 | C37: 968062356 | D37: Vybúranie drevených, plastových a kovových rámov okien dvojitých alebo zdvojených, plochy do 4 m2 -0,054 t | E37: m2 | F37: 23.216 | I37: =ROUND(F37*(G37+H37),2) -> 0 | J37: =ROUND(F37*(N37),2) -> 114.22 | K37: =ROUND(F37*(O37),2) -> 0 | L37: =ROUND(F37*(G37),2) -> 0 | N37: 4.92 | P37: =ROUND(F37*(R37),3) -> 0.022 | R37: 0.00094 | S37: =ROUND(F37*(X37),3) -> 1.254 | X37: 0.054 | Z37: 0
B38: 13/B 1 | C38: 968062357 | D38: Vybúranie drevených, plastových a kovových rámov okien dvojitých alebo zdvojených, plochy nad 4 m2-0,048 t | E38: m2 | F38: 268.45 | I38: =ROUND(F38*(G38+H38),2) -> 0 | J38: =ROUND(F38*(N38),2) -> 1055.01 | K38: =ROUND(F38*(O38),2) -> 0 | L38: =ROUND(F38*(G38),2) -> 0 | N38: 3.93 | P38: =ROUND(F38*(R38),3) -> 0.225 | R38: 0.00084 | S38: =ROUND(F38*(X38),3) -> 12.617 | X38: 0.047 | Z38: 0
B39: 13/B 1 | C39: 968061125 | D39: Vyvesenie alebo zavesenie dreveného, plastového alebo kov.dverného krídla do 2 m2 | E39: kus | F39: 10 | I39: =ROUND(F39*(G39+H39),2) -> 0 | J39: =ROUND(F39*(N39),2) -> 6.5 | K39: =ROUND(F39*(O39),2) -> 0 | L39: =ROUND(F39*(G39),2) -> 0 | N39: 0.65 | Z39: 0
B40: 13/B 1 | C40: 968061136 | D40: Vyvesenie alebo zavesenie dreveného, plastového alebo kov.krídla vrát do 4 m2 | E40: kus | F40: 3 | I40: =ROUND(F40*(G40+H40),2) -> 0 | J40: =ROUND(F40*(N40),2) -> 7.68 | K40: =ROUND(F40*(O40),2) -> 0 | L40: =ROUND(F40*(G40),2) -> 0 | N40: 2.56 | Z40: 0
B41: 13/B 1 | C41: 968062455 | D41: Vybúranie drevených, plastových a kovových dverových zárubní -0,082 t | E41: m2 | F41: 20.104 | I41: =ROUND(F41*(G41+H41),2) -> 0 | J41: =ROUND(F41*(N41),2) -> 90.47 | K41: =ROUND(F41*(O41),2) -> 0 | L41: =ROUND(F41*(G41),2) -> 0 | N41: 4.5 | P41: =ROUND(F41*(R41),3) -> 0.024 | R41: 0.0012 | S41: =ROUND(F41*(X41),3) -> 1.769 | X41: 0.088 | Z41: 0
B42: 13/B 1 | C42: 968062558 | D42: Vybúranie drevených a kovových vrát -0,054 t | E42: m2 | F42: 7.0595 | I42: =ROUND(F42*(G42+H42),2) -> 0 | J42: =ROUND(F42*(N42),2) -> 16.66 | K42: =ROUND(F42*(O42),2) -> 0 | L42: =ROUND(F42*(G42),2) -> 0 | N42: 2.36 | P42: =ROUND(F42*(R42),3) -> 0.006 | R42: 0.000852624 | S42: =ROUND(F42*(X42),3) -> 0.381 | X42: 0.054 | Z42: 0
B43: 13/B 1 | C43: 968062745 | D43: Vybúranie drevených a kovových stien plných, zasklených alebo výkladných -0,024 t | E43: m2 | F43: 7.2 | I43: =ROUND(F43*(G43+H43),2) -> 0 | J43: =ROUND(F43*(N43),2) -> 11.52 | K43: =ROUND(F43*(O43),2) -> 0 | L43: =ROUND(F43*(G43),2) -> 0 | N43: 1.6 | P43: =ROUND(F43*(R43),3) -> 0.004 | R43: 0.00052716 | S43: =ROUND(F43*(X43),3) -> 0.173 | X43: 0.024 | Z43: 0
...

Sheet Kryci_list 11560
F1: Krycí list rozpočtu | W1: 30.126
B2: Stavba Zvyšenie energetickej hospodárnosti Materskej školy Vyšný Žipov | G2: Miesto:
B3: Objekt Zateplenie strešného plášťa
I4: Ks:
B5: Zákazka: | F5: Spracoval: | I5: Dňa | J5: 25.03.2017
B6: Odberateľ: Obec Vyšný Žipov | G6: IČO:
G7: DIČ:
B8: Dodávateľ: Ing. arch. Ľubomír Naňák | G8: IČO:
G9: DIČ:
B10: Projektant: | G10: IČO:
G11: DIČ:
B15: A | C15: ZRN | D15: Montáž | E15: Materiál | F15: ZRN spolu | G15: B | H15: Ďalšie náklady
B16: 1 | C16: HSV | D16: ='Rekap 11560'!B15 -> 0 | E16: ='Rekap 11560'!C15 -> 0 | F16: ='Rekap 11560'!D15 -> 0 | G16: 6 | H16: Ostatné náklady | J16: 0
B17: 2 | C17: PSV | D17: ='Rekap 11560'!B25 -> 0 | E17: ='Rekap 11560'!C25 -> 0 | F17: ='Rekap 11560'!D25 -> 0 | G17: 7 | H17: Kompletačná činnosť | J17: ='SO 11560'!Z106 -> 0
B18: 3 | C18: MONT | G18: 8 | H18: HZS | J18: 0
B19: 4 | G19: 9
B20: 5 | C20: Spolu | F20: =SUM(F16:F19) -> 0 | G20: 10 | H20: Spolu | J20: =SUM(J16:J19) -> 0
B21: C | C21: VRN | G21: D | H21: VRN
B22: 11 | C22: Zariadenie staveniska | E22: 0% z [H+P+M] | F22: =((F16*U22*0)+(F17*V22*0)+(F18*W22*0))/100 -> 0 | G22: 16 | H22: Mimoriadne sťaž.podmienky | I22: 0% z [H+P+M] | J22: =((F16*X22*0)+(F17*Y22*0)+(F18*Z22*0))/100 -> 0 | U22: 1 | V22: 1 | W22: 1 | X22: 1 | Y22: 1 | Z22: 1
B23: 12 | C23: Územie so sťaž. podmienk. | E23: 0% z [H+P] | F23: =((F16*U23*0)+(F17*V23*0)+(F18*W23*0))/100 -> 0 | G23: 17 | H23: Horské oblasti | I23: 0% z [H+P+M] | J23: =((F16*X23*0)+(F17*Y23*0)+(F18*Z23*0))/100 -> 0 | U23: 1 | V23: 1 | W23: 0 | X23: 1 | Y23: 1 | Z23: 1
B24: 13 | C24: Prevádzkové vplyvy | E24: 0% z [H+P+M] | F24: =((F16*U24*0)+(F17*V24*0)+(F18*W24*0))/100 -> 0 | G24: 18 | H24: Mimostavenisková doprava | I24: 0% z [H+P] | J24: =((F16*X24*0)+(F17*Y24*0)+(F18*Z24*0))/100 -> 0 | U24: 1 | V24: 1 | W24: 1 | X24: 1 | Y24: 1 | Z24: 0
B25: 14 | G25: 19
B26: 15 | G26: 20 | H26: Spolu | J26: =SUM(J22:J25)+SUM(F22:F25) -> 0
C27: Projektant,rozpočtár | G27: E | H27: Celkové náklady
G28: 21 | H28: Súčet riadkov 5,10,15,20 | J28: =F20+J20+F26+J26 -> 0
G29: 22 | H29: DPH 20% z | I29: =J28-SUM('SO 11560'!K9:'SO 11560'!K105) -> 0 | J29: =ROUND(((ROUND(I29,2)*20)*1/100),2) -> 0
G30: 23 | H30: DPH 0% z | I30: =SUM('SO 11560'!K9:'SO 11560'!K105) -> 0 | J30: =ROUND(((ROUND(I30,2)*0)/100),2) -> 0
G31: 24 | H31: Spolu | J31: =SUM(J28:J30) -> 0
G32: F
D33: Odberateľ | G33: 26 | H33: Dodávateľ

Sheet Rekap 11560
A1: Odberateľ: Obec Vyšný Žipov | D1: Spracoval: | W1: 30.126
A2: Projektant: | D2: Ks:
A3: Dodávateľ: Ing. arch. Ľubomír Naňák | D3: Dátum: 25.03.2017
A4: Stavba Zvyšenie energetickej hospodárnosti Materskej školy Vyšný Žipov
A5: Objekt Zateplenie strešného plášťa
A8: Prehľad rozpočtových nákladov
A9: Oddiel | B9: Montáž | C9: Materiál | D9: Spolu | E9: Hmotnosť (T) | F9: Suť (T)
A10: Práce HSV
A11: VODOROVNÉ KONŠTRUKCIE | B11: ='SO 11560'!L13 -> 0 | C11: ='SO 11560'!M13 -> 0 | D11: ='SO 11560'!I13 -> 0 | E11: ='SO 11560'!P13 -> 0.05 | F11: ='SO 11560'!S13 -> 0
A12: POVRCHOVÉ ÚPRAVY | B12: ='SO 11560'!L17 -> 0 | C12: ='SO 11560'!M17 -> 0 | D12: ='SO 11560'!I17 -> 0 | E12: ='SO 11560'!P17 -> 0.62 | F12: ='SO 11560'!S17 -> 0
A13: OSTATNÉ PRÁCE | B13: ='SO 11560'!L25 -> 0 | C13: ='SO 11560'!M25 -> 0 | D13: ='SO 11560'!I25 -> 0 | E13: ='SO 11560'!P25 -> 0.01 | F13: ='SO 11560'!S25 -> 221.86
A14: PRESUNY HMÔT | B14: ='SO 11560'!L29 -> 0 | C14: ='SO 11560'!M29 -> 0 | D14: ='SO 11560'!I29 -> 0 | E14: ='SO 11560'!P29 -> 0 | F14: ='SO 11560'!S29 -> 0
A15: Práce HSV | B15: ='SO 11560'!L31 -> 0 | C15: ='SO 11560'!M31 -> 0 | D15: ='SO 11560'!I31 -> 0 | E15: ='SO 11560'!P31 -> 0.68 | F15: ='SO 11560'!S31 -> 221.86
A17: Práce PSV
A18: POVLAKOVÉ KRYTINY | B18: ='SO 11560'!L44 -> 0 | C18: ='SO 11560'!M44 -> 0 | D18: ='SO 11560'!I44 -> 0 | E18: ='SO 11560'!P44 -> 5.18 | F18: ='SO 11560'!S44 -> 0
A19: IZOLÁCIE TEPELNÉ BEŽNÝCH STAVEB. KONŠTRUKCIÍ | B19: ='SO 11560'!L54 -> 0 | C19: ='SO 11560'!M54 -> 0 | D19: ='SO 11560'!I54 -> 0 | E19: ='SO 11560'!P54 -> 9.23 | F19: ='SO 11560'!S54 -> 0
A20: ZTI-VNÚTORNA KANALIZÁCIA | B20: ='SO 11560'!L60 -> 0 | C20: ='SO 11560'!M60 -> 0 | D20: ='SO 11560'!I60 -> 0 | E20: ='SO 11560'!P60 -> 0.16 | F20: ='SO 11560'!S60 -> 0.1
A21: KONŠTRUKCIE TESÁRSKE | B21: ='SO 11560'!L76 -> 0 | C21: ='SO 11560'!M76 -> 0 | D21: ='SO 11560'!I76 -> 0 | E21: ='SO 11560'!P76 -> 23.27 | F21: ='SO 11560'!S76 -> 0
A22: KONŠTRUKCIE KLAMPIARSKE | B22: ='SO 11560'!L92 -> 0 | C22: ='SO 11560'!M92 -> 0 | D22: ='SO 11560'!I92 -> 0 | E22: ='SO 11560'!P92 -> 0.96 | F22: ='SO 11560'!S92 -> 8.1
A23: KRYTINY TVRDÉ | B23: ='SO 11560'!L97 -> 0 | C23: ='SO 11560'!M97 -> 0 | D23: ='SO 11560'!I97 -> 0 | E23: ='SO 11560'!P97 -> 0.22 | F23: ='SO 11560'!S97 -> 0
A24: KOVOVÉ DOPLNKOVÉ KONŠTRUKCIE | B24: ='SO 11560'!L103 -> 0 | C24: ='SO 11560'!M103 -> 0 | D24: ='SO 11560'!I103 -> 0 | E24: ='SO 11560'!P103 -> 0 | F24: ='SO 11560'!S103 -> 0
A25: Práce PSV | B25: ='SO 11560'!L105 -> 0 | C25: ='SO 11560'!M105 -> 0 | D25: ='SO 11560'!I105 -> 0 | E25: ='SO 11560'!P105 -> 39.02 | F25: ='SO 11560'!S105 -> 8.2
A27: Celkom | B27: ='SO 11560'!L106 -> 0 | C27: ='SO 11560'!M106 -> 0 | D27: ='SO 11560'!I106 -> 0 | E27: ='SO 11560'!P106 -> 39.7 | F27: ='SO 11560'!S106 -> 230.06

Sheet SO 11560
B1: Odberateľ: Obec Vyšný Žipov | E1: Spracoval: | W1: 30.126
B2: Projektant: | E2: Ks:
B3: Dodávateľ: Ing. arch. Ľubomír Naňák | E3: Dátum: 25.03.2017
B4: Stavba Zvyšenie energetickej hospodárnosti Materskej školy Vyšný Žipov
B5: Objekt Zateplenie strešného plášťa
B7: Prehľad rozpočtových nákladov
A8: Por.č. | B8: Cenník | C8: Kód položky | D8: Názov | E8: Mj | F8: Množstvo | G8: Montáž | H8: Materiál | I8: Cena celkom | P8: Hmotnosť | S8: Suť
D9: Práce HSV
D10: VODOROVNÉ KONŠTRUKCIE
B11: 12/A 2 | C11: 446122001 | D11: Montáž strešného výlezu na strechu | E11: kus | F11: 2 | I11: =ROUND(F11*(G11+H11),2) -> 0 | J11: =ROUND(F11*(N11),2) -> 63.66 | K11: =ROUND(F11*(O11),2) -> 0 | L11: =ROUND(F11*(G11),2) -> 0 | N11: 31.83 | P11: =ROUND(F11*(R11),3) -> 0.019 | R11: 0.00967 | Z11: 0
B12: S/S90 | C12: 6113908190 | D12: Strešný výlez pre strechy so sklonom 0-15, z viackomorových plastových profilov s nepriehľadným vekom, vonkajší uzáver, 600x800 mm, označenie 21 | E12: kus | F12: 2 | I12: =ROUND(F12*(G12+H12),2) -> 0 | J12: =ROUND(F12*(N12),2) -> 442.4 | K12: =ROUND(F12*(O12),2) -> 0 | M12: =ROUND(F12*(H12),2) -> 0 | N12: 221.2 | P12: =ROUND(F12*(R12),3) -> 0.03 | R12: 0.015 | Z12: 0
D13: VODOROVNÉ KONŠTRUKCIE | G13: =ROUND((SUM(L10:L12))/1,2) -> 0 | H13: =ROUND((SUM(M10:M12))/1,2) -> 0 | I13: =ROUND((SUM(I10:I12))/1,2) -> 0 | L13: =ROUND((SUM(L10:L12))/1,2) -> 0 | M13: =ROUND((SUM(M10:M12))/1,2) -> 0 | P13: =ROUND((SUM(P10:P12))/1,2) -> 0.05 | S13: =ROUND((SUM(S10:S12))/1,2) -> 0
D15: POVRCHOVÉ ÚPRAVY
B16: 11/A 1 | C16: 625250153 | D16: Zateplenie steny z tvrdeného polystyrénu hr. 50 mm - pre prilepenie PVC krytiny | E16: m2 | F16: 58.81288 | I16: =ROUND(F16*(G16+H16),2) -> 0 | J16: =ROUND(F16*(N16),2) -> 1426.21 | K16: =ROUND(F16*(O16),2) -> 0 | L16: =ROUND(F16*(G16),2) -> 0 | N16: 24.25 | P16: =ROUND(F16*(R16),3) -> 0.617 | R16: 0.01048775 | Z16: 0
D17: POVRCHOVÉ ÚPRAVY | G17: =ROUND((SUM(L15:L16))/1,2) -> 0 | H17: =ROUND((SUM(M15:M16))/1,2) -> 0 | I17: =ROUND((SUM(I15:I16))/1,2) -> 0 | L17: =ROUND((SUM(L15:L16))/1,2) -> 0 | M17: =ROUND((SUM(M15:M16))/1,2) -> 0 | P17: =ROUND((SUM(P15:P16))/1,2) -> 0.62 | S17: =ROUND((SUM(S15:S16))/1,2) -> 0
D19: OSTATNÉ PRÁCE
B20: 13/B 1 | C20: 965082930 | D20: Odstránenie násypu pod podlahami alebo na strechách,hr.do 200 mm -1,400 t | E20: m3 | F20: 158.11462 | I20: =ROUND(F20*(G20+H20),2) -> 0 | J20: =ROUND(F20*(N20),2) -> 1503.67 | K20: =ROUND(F20*(O20),2) -> 0 | L20: =ROUND(F20*(G20),2) -> 0 | N20: 9.51 | S20: =ROUND(F20*(X20),3) -> 221.36 | X20: 1.4 | Z20: 0
B21: 6/B 1 | C21: 98101111P | D21: Demolácia krovu postupným rozoberaním | E21: M3 | F21: 16.551 | I21: =ROUND(F21*(G21+H21),2) -> 0 | J21: =ROUND(F21*(N21),2) -> 31.78 | K21: =ROUND(F21*(O21),2) -> 0 | L21: =ROUND(F21*(G21),2) -> 0 | N21: 1.92 | S21: =ROUND(F21*(X21),3) -> 0.497 | X21: 0.03 | Z21: 0
B22: 11/A 1 | C22: 959941131 | D22: Chemická kotva s kotevnou závitovou tyčou dl. 300 mm, matica s podložkou, tesnená chemickou ampulkou do betónu, ŽB, kameňa, s vyvŕtaním otvoru M16/200 mm | E22: kus | F22: 6 | I22: =ROUND(F22*(G22+H22),2) -> 0 | J22: =ROUND(F22*(N22),2) -> 32.58 | K22: =ROUND(F22*(O22),2) -> 0 | L22: =ROUND(F22*(G22),2) -> 0 | N22: 5.43 | Z22: 0
B23: 11/A 1 | C23: 953943121 | D23: Osadenie drobných kovových predmetov do betónu pred zabetónovaním, hmotnosti do 1 kg/kus | E23: kus | F23: 12 | I23: =ROUND(F23*(G23+H23),2) -> 0 | J23: =ROUND(F23*(N23),2) -> 47.52 | K23: =ROUND(F23*(O23),2) -> 0 | L23: =ROUND(F23*(G23),2) -> 0 | N23: 3.96 | P23: =ROUND(F23*(R23),3) -> 0.001 | R23: 0.0001 | Z23: 0
B24: P/PC | C24: OK | D24: Dodávka oceľových konštrukcií vrátane povrchových úprav - dodávka uchytenia pomurnice | E24: kg | F24: 7.2 | I24: =ROUND(F24*(G24+H24),2) -> 0 | J24: =ROUND(F24*(N24),2) -> 14.26 | K24: =ROUND(F24*(O24),2) -> 0 | M24: =ROUND(F24*(H24),2) -> 0 | N24: 1.98 | P24: =ROUND(F24*(R24),3) -> 0.007 | R24: 0.001 | Z24: 0
D25: OSTATNÉ PRÁCE | G25: =ROUND((SUM(L19:L24))/1,2) -> 0 | H25: =ROUND((SUM(M19:M24))/1,2) -> 0 | I25: =ROUND((SUM(I19:I24))/1,2) -> 0 | L25: =ROUND((SUM(L19:L24))/1,2) -> 0 | M25: =ROUND((SUM(M19:M24))/1,2) -> 0 | P25: =ROUND((SUM(P19:P24))/1,2) -> 0.01 | S25: =ROUND((SUM(S19:S24))/1,2) -> 221.86
D27: PRESUNY HMÔT
B28: 14/C 1 | C28: 999281211 | D28: Presun hmôt pre opravy a údržbu vonkajších plášťov doterajších objektov výšky do 25 m | E28: t | F28: 0.67455478 | I28: =ROUND(F28*(G28+H28),2) -> 0 | J28: =ROUND(F28*(N28),2) -> 12.88 | K28: =ROUND(F28*(O28),2) -> 0 | L28: =ROUND(F28*(G28),2) -> 0 | N28: 19.09 | Z28: 0
D29: PRESUNY HMÔT | G29: =ROUND((SUM(L27:L28))/1,2) -> 0 | H29: =ROUND((SUM(M27:M28))/1,2) -> 0 | I29: =ROUND((SUM(I27:I28))/1,2) -> 0 | L29: =ROUND((SUM(L27:L28))/1,2) -> 0 | M29: =ROUND((SUM(M27:M28))/1,2) -> 0 | P29: =ROUND((SUM(P27:P28))/1,2) -> 0 | S29: =ROUND((SUM(S27:S28))/1,2) -> 0
D31: Práce HSV | G31: =ROUND((SUM(L9:L30))/2,2) -> 0 | H31: =ROUND((SUM(M9:M30))/2,2) -> 0 | I31: =ROUND((SUM(I9:I30))/2,2) -> 0 | L31: =ROUND((SUM(L9:L30))/2,2) -> 0 | M31: =ROUND((SUM(M9:M30))/2,2) -> 0 | P31: =ROUND((SUM(P9:P30))/2,2) -> 0.68 | S31: =ROUND((SUM(S9:S30))/2,2) -> 221.86
D33: Práce PSV
D34: POVLAKOVÉ KRYTINY
B35: 711/A 2 | C35: 712991040 | D35: Montáž podkladnej konštrukcie z OSB dosiek hr. 18 mm na atike šírky 411 -620 mm pod klampiarske konš | E35: m | F35: 138 | I35: =ROUND(F35*(G35+H35),2) -> 0 | J35: =ROUND(F35*(N35),2) -> 829.38 | K35: =ROUND(F35*(O35),2) -> 0 | L35: =ROUND(F35*(G35),2) -> 0 | N35: 6.01 | P35: =ROUND(F35*(R35),3) -> 0.004 | R35: 3e-05 | Z35: 0
B36: S/S80 | C36: 6072624800 | D36: Doska drevoštiepková OSB hr. 22 mm, vhodné do vlhkého prostredia | E36: m2 | F36: 91.08 | I36: =ROUND(F36*(G36+H36),2) -> 0 | J36: =ROUND(F36*(N36),2) -> 751.41 | K36: =ROUND(F36*(O36),2) -> 0 | M36: =ROUND(F36*(H36),2) -> 0 | N36: 8.25 | P36: =ROUND(F36*(R36),3) -> 1.166 | R36: 0.0128 | Z36: 0
B37: 711/A 2 | C37: 712997002 | D37: Montáž spádových vrstiev z tvrdeného polystyrému š. od 200 do 400 mm | E37: m | F37: 138 | I37: =ROUND(F37*(G37+H37),2) -> 0 | J37: =ROUND(F37*(N37),2) -> 154.56 | K37: =ROUND(F37*(O37),2) -> 0 | L37: =ROUND(F37*(G37),2) -> 0 | N37: 1.12 | Z37: 0
B38: P/PC | C38: MAT | D38: Spádová vrstva z extrudovaného polystyrénu pod K2, š. 350 mm | E38: m | F38: 138 | I38: =ROUND(F38*(G38+H38),2) -> 0 | J38: =ROUND(F38*(N38),2) -> 357.42 | K38: =ROUND(F38*(O38),2) -> 0 | M38: =ROUND(F38*(H38),2) -> 0 | N38: 2.59 | Z38: 0
B39: 711/A 2 | C39: 712370360 | D39: Zhotovenie povlakovej krytiny striech plochých do 10° fóliou PVC mechanicky kotvená a tepelne spájaná s vytiahnutím, vrátane doplnkov | E39: m2 | F39: 1146.729 | I39: =ROUND(F39*(G39+H39),2) -> 0 | J39: =ROUND(F39*(N39),2) -> 8313.79 | K39: =ROUND(F39*(O39),2) -> 0 | L39: =ROUND(F39*(G39),2) -> 0 | N39: 7.25 | P39: =ROUND(F39*(R39),3) -> 0.711 | R39: 0.00062 | Z39: 0
B40: S/S20 | C40: 2833000120 | D40: PVC-P hydroizolačná fólia, vystužená polyesterovou mriežkou hr. 1,5 mm, obj. hmotnosti 3,2 kg/m2, tepelná odolnosť -30 až +80 st., svetlošedá, odolná voči UV žiareniu, vrátane doplnkov | E40: m2 | F40: 1318.7383 | I40: =ROUND(F40*(G40+H40),2) -> 0 | J40: =ROUND(F40*(N40),2) -> 14835.81 | K40: =ROUND(F40*(O40),2) -> 0 | M40: =ROUND(F40*(H40),2) -> 0 | N40: 11.25 | P40: =ROUND(F40*(R40),3) -> 2.901 | R40: 0.0022 | Z40: 0
B41: 711/A 2 | C41: 712391171 | D41: Zhotov. povlak. krytiny striech plochých a šikmýchdo 30° ostatné z ochrannej textílie podklad.vrstvy | E41: m2 | F41: 1146.729 | I41: =ROUND(F41*(G41+H41),2) -> 0 | J41: =ROUND(F41*(N41),2) -> 1433.41 | K41: =ROUND(F41*(O41),2) -> 0 | L41: =ROUND(F41*(G41),2) -> 0 | N41: 1.25 | Z41: 0
B42: S/S90 | C42: 6936654900 | D42: Separačná geotextília so zvýšenou požiarnou odolnosťou, obj. hmotnosti 300 g/m2 | E42: m2 | F42: 1318.738 | I42: =ROUND(F42*(G42+H42),2) -> 0 | J42: =ROUND(F42*(N42),2) -> 1160.49 | K42: =ROUND(F42*(O42),2) -> 0 | M42: =ROUND(F42*(H42),2) -> 0 | N42: 0.88 | P42: =ROUND(F42*(R42),3) -> 0.396 | R42: 0.0003 | Z42: 0
B43: 711/A 2 | C43: 998712102 | D43: Presun hmôt pre izoláciu povlakovej krytiny v objektoch výšky nad 6 do 12 m | E43: t | F43: 5.1777817 | I43: =ROUND(F43*(G43+H43),2) -> 0 | J43: =ROUND(F43*(N43),2) -> 158.08 | K43: =ROUND(F43*(O43),2) -> 0 | L43: =ROUND(F43*(G43),2) -> 0 | N43: 30.53 | Z43: 0
D44: POVLAKOVÉ KRYTINY | G44: =ROUND((SUM(L34:L43))/1,2) -> 0 | H44: =ROUND((SUM(M34:M43))/1,2) -> 0 | I44: =ROUND((SUM(I34:I43))/1,2) -> 0 | L44: =ROUND((SUM(L34:L43))/1,2) -> 0 | M44: =ROUND((SUM(M34:M43))/1,2) -> 0 | P44: =ROUND((SUM(P34:P43))/1,2) -> 5.18 | S44: =ROUND((SUM(S34:S43))/1,2) -> 0
D46: IZOLÁCIE TEPELNÉ BEŽNÝCH STAVEB. KONŠTRUKCIÍ
B47: 713/A 1 | C47: 713191127 | D47: Montáž parozábrany vrchom s vytiahnutím na d stenu do výšky 500 mm | E47: m2 | F47: 991.7727 | I47: =ROUND(F47*(G47+H47),2) -> 0 | J47: =ROUND(F47*(N47),2) -> 942.18 | K47: =ROUND(F47*(O47),2) -> 0 | L47: =ROUND(F47*(G47),2) -> 0 | N47: 0.95 | Z47: 0
...

Sheet Kryci_list 11561
F1: Krycí list rozpočtu | W1: 30.126
B2: Stavba Zvyšenie energetickej hospodárnosti Materskej školy Vyšný Žipov | G2: Miesto:
B3: Objekt Ostatné práce
I4: Ks:
B5: Zákazka: | F5: Spracoval: | I5: Dňa | J5: 25.03.2017
B6: Odberateľ: Obec Vyšný Žipov | G6: IČO:
G7: DIČ:
B8: Dodávateľ: Ing. arch. Ľubomír Naňák | G8: IČO:
G9: DIČ:
B10: Projektant: | G10: IČO:
G11: DIČ:
B15: A | C15: ZRN | D15: Montáž | E15: Materiál | F15: ZRN spolu | G15: B | H15: Ďalšie náklady
B16: 1 | C16: HSV | D16: ='Rekap 11561'!B18 -> 0 | E16: ='Rekap 11561'!C18 -> 0 | F16: ='Rekap 11561'!D18 -> 0 | G16: 6 | H16: Ostatné náklady | J16: 0
B17: 2 | C17: PSV | D17: ='Rekap 11561'!B32 -> 0 | E17: ='Rekap 11561'!C32 -> 0 | F17: ='Rekap 11561'!D32 -> 0 | G17: 7 | H17: Kompletačná činnosť | J17: ='SO 11561'!Z170 -> 0
B18: 3 | C18: MONT | D18: ='Rekap 11561'!B37 -> 0 | E18: ='Rekap 11561'!C37 -> 0 | F18: ='Rekap 11561'!D37 -> 0 | G18: 8 | H18: HZS | J18: 0
B19: 4 | G19: 9
B20: 5 | C20: Spolu | F20: =SUM(F16:F19) -> 0 | G20: 10 | H20: Spolu | J20: =SUM(J16:J19) -> 0
B21: C | C21: VRN | G21: D | H21: VRN
B22: 11 | C22: Zariadenie staveniska | E22: 0% z [H+P+M] | F22: =((F16*U22*0)+(F17*V22*0)+(F18*W22*0))/100 -> 0 | G22: 16 | H22: Mimoriadne sťaž.podmienky | I22: 0% z [H+P+M] | J22: =((F16*X22*0)+(F17*Y22*0)+(F18*Z22*0))/100 -> 0 | U22: 1 | V22: 1 | W22: 1 | X22: 1 | Y22: 1 | Z22: 1
B23: 12 | C23: Územie so sťaž. podmienk. | E23: 0% z [H+P] | F23: =((F16*U23*0)+(F17*V23*0)+(F18*W23*0))/100 -> 0 | G23: 17 | H23: Horské oblasti | I23: 0% z [H+P+M] | J23: =((F16*X23*0)+(F17*Y23*0)+(F18*Z23*0))/100 -> 0 | U23: 1 | V23: 1 | W23: 0 | X23: 1 | Y23: 1 | Z23: 1
B24: 13 | C24: Prevádzkové vplyvy | E24: 0% z [H+P+M] | F24: =((F16*U24*0)+(F17*V24*0)+(F18*W24*0))/100 -> 0 | G24: 18 | H24: Mimostavenisková doprava | I24: 0% z [H+P] | J24: =((F16*X24*0)+(F17*Y24*0)+(F18*Z24*0))/100 -> 0 | U24: 1 | V24: 1 | W24: 1 | X24: 1 | Y24: 1 | Z24: 0
B25: 14 | G25: 19
B26: 15 | G26: 20 | H26: Spolu | J26: =SUM(J22:J25)+SUM(F22:F25) -> 0
C27: Projektant,rozpočtár | G27: E | H27: Celkové náklady
G28: 21 | H28: Súčet riadkov 5,10,15,20 | J28: =F20+J20+F26+J26 -> 0
G29: 22 | H29: DPH 20% z | I29: =J28-SUM('SO 11561'!K9:'SO 11561'!K169) -> 0 | J29: =ROUND(((ROUND(I29,2)*20)*1/100),2) -> 0
G30: 23 | H30: DPH 0% z | I30: =SUM('SO 11561'!K9:'SO 11561'!K169) -> 0 | J30: =ROUND(((ROUND(I30,2)*0)/100),2) -> 0
G31: 24 | H31: Spolu | J31: =SUM(J28:J30) -> 0
G32: F
D33: Odberateľ | G33: 26 | H33: Dodávateľ

Sheet Rekap 11561
A1: Odberateľ: Obec Vyšný Žipov | D1: Spracoval: | W1: 30.126
A2: Projektant: | D2: Ks:
A3: Dodávateľ: Ing. arch. Ľubomír Naňák | D3: Dátum: 25.03.2017
A4: Stavba Zvyšenie energetickej hospodárnosti Materskej školy Vyšný Žipov
A5: Objekt Ostatné práce
A8: Prehľad rozpočtových nákladov
A9: Oddiel | B9: Montáž | C9: Materiál | D9: Spolu | E9: Hmotnosť (T) | F9: Suť (T)
A10: Práce HSV
A11: ZEMNÉ PRÁCE | B11: ='SO 11561'!L18 -> 0 | C11: ='SO 11561'!M18 -> 0 | D11: ='SO 11561'!I18 -> 0 | E11: ='SO 11561'!P18 -> 0 | F11: ='SO 11561'!S18 -> 0
A12: ZÁKLADY | B12: ='SO 11561'!L25 -> 0 | C12: ='SO 11561'!M25 -> 0 | D12: ='SO 11561'!I25 -> 0 | E12: ='SO 11561'!P25 -> 9.62 | F12: ='SO 11561'!S25 -> 0
A13: ZVISLÉ KONŠTRUKCIE | B13: ='SO 11561'!L29 -> 0 | C13: ='SO 11561'!M29 -> 0 | D13: ='SO 11561'!I29 -> 0 | E13: ='SO 11561'!P29 -> 0.29 | F13: ='SO 11561'!S29 -> 0
A14: VODOROVNÉ KONŠTRUKCIE | B14: ='SO 11561'!L42 -> 0 | C14: ='SO 11561'!M42 -> 0 | D14: ='SO 11561'!I42 -> 0 | E14: ='SO 11561'!P42 -> 1.71 | F14: ='SO 11561'!S42 -> 0
A15: POVRCHOVÉ ÚPRAVY | B15: ='SO 11561'!L59 -> 0 | C15: ='SO 11561'!M59 -> 0 | D15: ='SO 11561'!I59 -> 0 | E15: ='SO 11561'!P59 -> 156.38 | F15: ='SO 11561'!S59 -> 0
A16: OSTATNÉ PRÁCE | B16: ='SO 11561'!L75 -> 0 | C16: ='SO 11561'!M75 -> 0 | D16: ='SO 11561'!I75 -> 0 | E16: ='SO 11561'!P75 -> 0.12 | F16: ='SO 11561'!S75 -> 36.95
A17: PRESUNY HMÔT | B17: ='SO 11561'!L79 -> 0 | C17: ='SO 11561'!M79 -> 0 | D17: ='SO 11561'!I79 -> 0 | E17: ='SO 11561'!P79 -> 0 | F17: ='SO 11561'!S79 -> 0
A18: Práce HSV | B18: ='SO 11561'!L81 -> 0 | C18: ='SO 11561'!M81 -> 0 | D18: ='SO 11561'!I81 -> 0 | E18: ='SO 11561'!P81 -> 168.12 | F18: ='SO 11561'!S81 -> 36.95
A20: Práce PSV
A21: IZOLÁCIE PROTI VODE A VLHKOSTI | B21: ='SO 11561'!L91 -> 0 | C21: ='SO 11561'!M91 -> 0 | D21: ='SO 11561'!I91 -> 0 | E21: ='SO 11561'!P91 -> 0.05 | F21: ='SO 11561'!S91 -> 0
A22: IZOLÁCIE TEPELNÉ BEŽNÝCH STAVEB. KONŠTRUKCIÍ | B22: ='SO 11561'!L98 -> 0 | C22: ='SO 11561'!M98 -> 0 | D22: ='SO 11561'!I98 -> 0 | E22: ='SO 11561'!P98 -> 0.1 | F22: ='SO 11561'!S98 -> 0
A23: ZTI-ZARIAĎOVACIE PREDMETY | B23: ='SO 11561'!L103 -> 0 | C23: ='SO 11561'!M103 -> 0 | D23: ='SO 11561'!I103 -> 0 | E23: ='SO 11561'!P103 -> 0 | F23: ='SO 11561'!S103 -> 0
A24: KONŠTRUKCIE TESÁRSKE | B24: ='SO 11561'!L109 -> 0 | C24: ='SO 11561'!M109 -> 0 | D24: ='SO 11561'!I109 -> 0 | E24: ='SO 11561'!P109 -> 0.13 | F24: ='SO 11561'!S109 -> 0
A25: DREVOSTAVBY | B25: ='SO 11561'!L114 -> 0 | C25: ='SO 11561'!M114 -> 0 | D25: ='SO 11561'!I114 -> 0 | E25: ='SO 11561'!P114 -> 0.2 | F25: ='SO 11561'!S114 -> 0
A26: KONŠTRUKCIE STOLÁRSKE | B26: ='SO 11561'!L120 -> 0 | C26: ='SO 11561'!M120 -> 0 | D26: ='SO 11561'!I120 -> 0 | E26: ='SO 11561'!P120 -> 0.03 | F26: ='SO 11561'!S120 -> 0
A27: KOVOVÉ DOPLNKOVÉ KONŠTRUKCIE | B27: ='SO 11561'!L127 -> 0 | C27: ='SO 11561'!M127 -> 0 | D27: ='SO 11561'!I127 -> 0 | E27: ='SO 11561'!P127 -> 0.23 | F27: ='SO 11561'!S127 -> 0
A28: PODLAHY A OBKLADY KERAMICKÉ-DLAŽBY | B28: ='SO 11561'!L133 -> 0 | C28: ='SO 11561'!M133 -> 0 | D28: ='SO 11561'!I133 -> 0 | E28: ='SO 11561'!P133 -> 0.05 | F28: ='SO 11561'!S133 -> 0
A29: PODLAHY A OBKLADY KERAMICKÉ-OBKLADY | B29: ='SO 11561'!L140 -> 0 | C29: ='SO 11561'!M140 -> 0 | D29: ='SO 11561'!I140 -> 0 | E29: ='SO 11561'!P140 -> 1.81 | F29: ='SO 11561'!S140 -> 0.16
A30: NÁTERY | B30: ='SO 11561'!L148 -> 0 | C30: ='SO 11561'!M148 -> 0 | D30: ='SO 11561'!I148 -> 0 | E30: ='SO 11561'!P148 -> 2.95 | F30: ='SO 11561'!S148 -> 0
A31: MAĽBY | B31: ='SO 11561'!L152 -> 0 | C31: ='SO 11561'!M152 -> 0 | D31: ='SO 11561'!I152 -> 0 | E31: ='SO 11561'!P152 -> 0.24 | F31: ='SO 11561'!S152 -> 0
A32: Práce PSV | B32: ='SO 11561'!L154 -> 0 | C32: ='SO 11561'!M154 -> 0 | D32: ='SO 11561'!I154 -> 0 | E32: ='SO 11561'!P154 -> 5.79 | F32: ='SO 11561'!S154 -> 0.16
A34: Montážne práce
A35: M-21 ELEKTROMONTÁŽE | B35: ='SO 11561'!L159 -> 0 | C35: ='SO 11561'!M159 -> 0 | D35: ='SO 11561'!I159 -> 0 | E35: ='SO 11561'!P159 -> 0 | F35: ='SO 11561'!S159 -> 0
A36: M-43 MONTÁŽ OCEĽOVÝCH KONŠTRUKCIÍ | B36: ='SO 11561'!L167 -> 0 | C36: ='SO 11561'!M167 -> 0 | D36: ='SO 11561'!I167 -> 0 | E36: ='SO 11561'!P167 -> 2.75 | F36: ='SO 11561'!S167 -> 0
A37: Montážne práce | B37: ='SO 11561'!L169 -> 0 | C37: ='SO 11561'!M169 -> 0 | D37: ='SO 11561'!I169 -> 0 | E37: ='SO 11561'!P169 -> 2.75 | F37: ='SO 11561'!S169 -> 0
A39: Celkom | B39: ='SO 11561'!L170 -> 0 | C39: ='SO 11561'!M170 -> 0 | D39: ='SO 11561'!I170 -> 0 | E39: ='SO 11561'!P170 -> 176.66 | F39: ='SO 11561'!S170 -> 37.11

Sheet SO 11561
B1: Odberateľ: Obec Vyšný Žipov | E1: Spracoval: | W1: 30.126
B2: Projektant: | E2: Ks:
B3: Dodávateľ: Ing. arch. Ľubomír Naňák | E3: Dátum: 25.03.2017
B4: Stavba Zvyšenie energetickej hospodárnosti Materskej školy Vyšný Žipov
B5: Objekt Ostatné práce
B7: Prehľad rozpočtových nákladov
A8: Por.č. | B8: Cenník | C8: Kód položky | D8: Názov | E8: Mj | F8: Množstvo | G8: Montáž | H8: Materiál | I8: Cena celkom | P8: Hmotnosť | S8: Suť
D9: Práce HSV
D10: ZEMNÉ PRÁCE
B11: 1/A 1 | C11: 133301101 | D11: Výkop šachty hornina 4 do 100 m3 | E11: m3 | F11: 5.1074 | I11: =ROUND(F11*(G11+H11),2) -> 0 | J11: =ROUND(F11*(N11),2) -> 266.4 | K11: =ROUND(F11*(O11),2) -> 0 | L11: =ROUND(F11*(G11),2) -> 0 | N11: 52.16 | Z11: 0
B12: 1/A 1 | C12: 133301109 | D12: Príplatok k cenám za lepivosť horniny | E12: m3 | F12: 2.5535 | I12: =ROUND(F12*(G12+H12),2) -> 0 | J12: =ROUND(F12*(N12),2) -> 19.56 | K12: =ROUND(F12*(O12),2) -> 0 | L12: =ROUND(F12*(G12),2) -> 0 | N12: 7.66 | Z12: 0
B13: 1/A 1 | C13: 162301102 | D13: Vodorovné premiestnenie výkopku tr.1-4,do 1000 m | E13: m3 | F13: 5.107 | I13: =ROUND(F13*(G13+H13),2) -> 0 | J13: =ROUND(F13*(N13),2) -> 18.28 | K13: =ROUND(F13*(O13),2) -> 0 | L13: =ROUND(F13*(G13),2) -> 0 | N13: 3.58 | Z13: 0
B14: 1/A 1 | C14: 171201101 | D14: Uloženie sypaniny do násypov s rozprestretím sypaniny vo vrstvách a s hrubým urovnaním nezhutnených | E14: m3 | F14: 5.107 | I14: =ROUND(F14*(G14+H14),2) -> 0 | J14: =ROUND(F14*(N14),2) -> 5.06 | K14: =ROUND(F14*(O14),2) -> 0 | L14: =ROUND(F14*(G14),2) -> 0 | N14: 0.99 | Z14: 0
B15: 1/A 1 | C15: 174101001 | D15: Zásyp sypaninou so zhutnením jám, šachiet, rýh, zárezov alebo okolo objektov do 100 m3 | E15: m3 | F15: 0.55 | I15: =ROUND(F15*(G15+H15),2) -> 0 | J15: =ROUND(F15*(N15),2) -> 1.83 | K15: =ROUND(F15*(O15),2) -> 0 | L15: =ROUND(F15*(G15),2) -> 0 | N15: 3.33 | Z15: 0
B16: P/PE | C16: 583372130 | D16: Štrkopiesok / A3 / frakcia 0-32 tr. Z | E16: M3 | F16: 0.55 | I16: =ROUND(F16*(G16+H16),2) -> 0 | J16: =ROUND(F16*(N16),2) -> 11.32 | K16: =ROUND(F16*(O16),2) -> 0 | M16: =ROUND(F16*(H16),2) -> 0 | N16: 20.58 | Z16: 0
B17: 1/A 1 | C17: 181101102 | D17: Úprava pláne v zárezoch v hornine 1-4 so zhutnením | E17: m2 | F17: 9.8 | I17: =ROUND(F17*(G17+H17),2) -> 0 | J17: =ROUND(F17*(N17),2) -> 4.21 | K17: =ROUND(F17*(O17),2) -> 0 | L17: =ROUND(F17*(G17),2) -> 0 | N17: 0.43 | Z17: 0
D18: ZEMNÉ PRÁCE | G18: =ROUND((SUM(L10:L17))/1,2) -> 0 | H18: =ROUND((SUM(M10:M17))/1,2) -> 0 | I18: =ROUND((SUM(I10:I17))/1,2) -> 0 | L18: =ROUND((SUM(L10:L17))/1,2) -> 0 | M18: =ROUND((SUM(M10:M17))/1,2) -> 0 | P18: =ROUND((SUM(P10:P17))/1,2) -> 0 | S18: =ROUND((SUM(S10:S17))/1,2) -> 0
D20: ZÁKLADY
B21: 2/A 1 | C21: 271571111 | D21: Vankúše zhutnené pod základy zo štrkopiesku | E21: m3 | F21: 1.27892 | I21: =ROUND(F21*(G21+H21),2) -> 0 | J21: =ROUND(F21*(N21),2) -> 33.1 | K21: =ROUND(F21*(O21),2) -> 0 | L21: =ROUND(F21*(G21),2) -> 0 | N21: 25.88 | P21: =ROUND(F21*(R21),3) -> 2.481 | R21: 1.93971 | Z21: 0
B22: 11/A 1 | C22: 275313521 | D22: Betón základových pätiek, prostý tr.C 12/15 | E22: m3 | F22: 3.0020568 | I22: =ROUND(F22*(G22+H22),2) -> 0 | J22: =ROUND(F22*(N22),2) -> 228.49 | K22: =ROUND(F22*(O22),2) -> 0 | L22: =ROUND(F22*(G22),2) -> 0 | N22: 76.11 | P22: =ROUND(F22*(R22),3) -> 7.139 | R22: 2.3778966 | Z22: 0
