Workbook

Sheet Rekapitulácia
A2: Rekapitulácia rozpočtu | F2: Sadzby DPH
F3: A | G3: B
A4: Stavba Zvyšenie energetickej hospodárnosti Materskej školy Vyšný Žipov | F4: 0.2 | G4: 0
A6: Názov objektu | B6: ZRN | C6: VRN | D6: HZS | E6: Kompl.čin. | F6: Ost. náklady | G6: Cena
A7: Zateplenie obvodového plášťa | B7: ='SO 11544'!I45-Rekapitulácia!D7 -> 0 | C7: ='Kryci_list 11544'!J26 -> 0 | D7: 0 | E7: ='Kryci_list 11544'!J17 -> 0 | F7: 0 | G7: =B7+C7+D7+E7+F7 -> 0 | K7: ='SO 11544'!K45 -> 0 | Q7: 30.126
A8: Výmena výplní otvorov | B8: ='SO 11547'!I100-Rekapitulácia!D8 -> 0 | C8: ='Kryci_list 11547'!J26 -> 0 | D8: 0 | E8: ='Kryci_list 11547'!J17 -> 0 | F8: 0 | G8: =B8+C8+D8+E8+F8 -> 0 | K8: ='SO 11547'!K100 -> 0 | Q8: 30.126
A9: Zateplenie strešného plášťa | B9: ='SO 11560'!I106-Rekapitulácia!D9 -> 0 | C9: ='Kryci_list 11560'!J26 -> 0 | D9: 0 | E9: ='Kryci_list 11560'!J17 -> 0 | F9: 0 | G9: =B9+C9+D9+E9+F9 -> 0 | K9: ='SO 11560'!K106 -> 0 | Q9: 30.126
A10: Ostatné práce | B10: ='SO 11561'!I170-Rekapitulácia!D10 -> 0 | C10: ='Kryci_list 11561'!J26 -> 0 | D10: 0 | E10: ='Kryci_list 11561'!J17 -> 0 | F10: 0 | G10: =B10+C10+D10+E10+F10 -> 0 | K10: ='SO 11561'!K170 -> 0 | Q10: 30.126
A11: Ústredné vykurovanie | B11: ='SO 11562'!I155-Rekapitulácia!D11 -> 0 | C11: ='Kryci_list 11562'!J26 -> 0 | D11: 0 | E11: ='Kryci_list 11562'!J17 -> 0 | F11: 0 | G11: =B11+C11+D11+E11+F11 -> 0 | K11: ='SO 11562'!K155 -> 0 | Q11: 30.126
A12: Zmena plynofikácie | B12: ='SO 11563'!I49-Rekapitulácia!D12 -> 0 | C12: ='Kryci_list 11563'!J26 -> 0 | D12: 0 | E12: ='Kryci_list 11563'!J17 -> 0 | F12: 0 | G12: =B12+C12+D12+E12+F12 -> 0 | K12: ='SO 11563'!K49 -> 0 | Q12: 30.126
A13: Elektroinštalácia | B13: ='SO 11564'!I155-Rekapitulácia!D13 -> 0 | C13: ='Kryci_list 11564'!J26 -> 0 | D13: 0 | E13: ='Kryci_list 11564'!J17 -> 0 | F13: 0 | G13: =B13+C13+D13+E13+F13 -> 0 | K13: ='SO 11564'!K155 -> 0 | Q13: 30.126
A14: Celkom bez DPH | B14: =SUM(B7:B13) -> 0 | C14: =SUM(C7:C13) -> 0 | D14: =SUM(D7:D13) -> 0 | E14: =SUM(E7:E13) -> 0 | F14: =SUM(F7:F13) -> 0 | G14: =SUM(G7:G13)-SUM(Z7:Z13) -> 0
A15: DPH 20% z | B15: =G14-SUM(Rekapitulácia!K7:'Rekapitulácia'!K13)*1 -> 0 | G15: =ROUND(((ROUND(B15,2)*20)/100),2)*1 -> 0
A16: DPH 0% z | B16: =(G14-B15) -> 0 | G16: =ROUND(((ROUND(B16,2)*0)/100),2) -> 0
A17: Celkom | G17: =SUM(G14:G16) -> 0

Sheet Krycí list stavby
F1: Krycí list stavby | W1: 30.126
B2: Stavba Zvyšenie energetickej hospodárnosti Materskej školy Vyšný Žipov | G2: Miesto:
G3: Ks:
B5: Zákazka: | F5: Spracoval: | I5: Dňa | J5: 25.03.2017
B6: Odberateľ: Obec Vyšný Žipov | G6: IČO:
G7: DIČ:
B8: Dodávateľ: Ing. arch. Ľubomír Naňák | G8: IČO:
G9: DIČ:
B10: Projektant: | G10: IČO:
G11: DIČ:
B15: A | C15: ZRN | D15: Montáž | E15: Materiál | F15: ZRN spolu | G15: B | H15: Ďalšie náklady
B16: 1 | C16: HSV | D16: ='Kryci_list 11544'!D16+'Kryci_list 11547'!D16+'Kryci_list 11560'!D16+'Kryci_list 11561'!D16+'Kryci_list 11562'!D16+'Kryci_list 11563'!D16+'Kryci_list 11564'!D16 -> 0 | E16: ='Kryci_list 11544'!E16+'Kryci_list 11547'!E16+'Kryci_list 11560'!E16+'Kryci_list 11561'!E16+'Kryci_list 11562'!E16+'Kryci_list 11563'!E16+'Kryci_list 11564'!E16 -> 0 | F16: ='Kryci_list 11544'!F16+'Kryci_list 11547'!F16+'Kryci_list 11560'!F16+'Kryci_list 11561'!F16+'Kryci_list 11562'!F16+'Kryci_list 11563'!F16+'Kryci_list 11564'!F16 -> 0 | G16: 6 | H16: Ostatné náklady | J16: =Rekapitulácia!F14 -> 0
B17: 2 | C17: PSV | D17: ='Kryci_list 11544'!D17+'Kryci_list 11547'!D17+'Kryci_list 11560'!D17+'Kryci_list 11561'!D17+'Kryci_list 11562'!D17+'Kryci_list 11563'!D17+'Kryci_list 11564'!D17 -> 0 | E17: ='Kryci_list 11544'!E17+'Kryci_list 11547'!E17+'Kryci_list 11560'!E17+'Kryci_list 11561'!E17+'Kryci_list 11562'!E17+'Kryci_list 11563'!E17+'Kryci_list 11564'!E17 -> 0 | F17: ='Kryci_list 11544'!F17+'Kryci_list 11547'!F17+'Kryci_list 11560'!F17+'Kryci_list 11561'!F17+'Kryci_list 11562'!F17+'Kryci_list 11563'!F17+'Kryci_list 11564'!F17 -> 0 | G17: 7 | H17: Kompletačná činnosť | J17: =Rekapitulácia!E14 -> 0
B18: 3 | C18: MONT | D18: ='Kryci_list 11544'!D18+'Kryci_list 11547'!D18+'Kryci_list 11560'!D18+'Kryci_list 11561'!D18+'Kryci_list 11562'!D18+'Kryci_list 11563'!D18+'Kryci_list 11564'!D18 -> 0 | E18: ='Kryci_list 11544'!E18+'Kryci_list 11547'!E18+'Kryci_list 11560'!E18+'Kryci_list 11561'!E18+'Kryci_list 11562'!E18+'Kryci_list 11563'!E18+'Kryci_list 11564'!E18 -> 0 | F18: ='Kryci_list 11544'!F18+'Kryci_list 11547'!F18+'Kryci_list 11560'!F18+'Kryci_list 11561'!F18+'Kryci_list 11562'!F18+'Kryci_list 11563'!F18+'Kryci_list 11564'!F18 -> 0 | G18: 8 | H18: HZS | J18: =Rekapitulácia!D14 -> 0
B19: 4 | G19: 9
B20: 5 | C20: Spolu | F20: =SUM(F16:F19) -> 0 | G20: 10 | H20: Spolu | J20: =SUM(J16:J19) -> 0
B21: C | C21: VRN | G21: D | H21: VRN
B22: 11 | C22: Zariadenie staveniska | F22: ='Kryci_list 11544'!F22+'Kryci_list 11547'!F22+'Kryci_list 11560'!F22+'Kryci_list 11561'!F22+'Kryci_list 11562'!F22+'Kryci_list 11563'!F22+'Kryci_list 11564'!F22 -> 0 | G22: 16 | H22: Mimoriadne sťaž.podmienky | J22: ='Kryci_list 11544'!J22+'Kryci_list 11547'!J22+'Kryci_list 11560'!J22+'Kryci_list 11561'!J22+'Kryci_list 11562'!J22+'Kryci_list 11563'!J22+'Kryci_list 11564'!J22 -> 0
B23: 12 | C23: Územie so sťaž. podmienk. | F23: ='Kryci_list 11544'!F23+'Kryci_list 11547'!F23+'Kryci_list 11560'!F23+'Kryci_list 11561'!F23+'Kryci_list 11562'!F23+'Kryci_list 11563'!F23+'Kryci_list 11564'!F23 -> 0 | G23: 17 | H23: Horské oblasti | J23: ='Kryci_list 11544'!J23+'Kryci_list 11547'!J23+'Kryci_list 11560'!J23+'Kryci_list 11561'!J23+'Kryci_list 11562'!J23+'Kryci_list 11563'!J23+'Kryci_list 11564'!J23 -> 0
B24: 13 | C24: Prevádzkové vplyvy | F24: ='Kryci_list 11544'!F24+'Kryci_list 11547'!F24+'Kryci_list 11560'!F24+'Kryci_list 11561'!F24+'Kryci_list 11562'!F24+'Kryci_list 11563'!F24+'Kryci_list 11564'!F24 -> 0 | G24: 18 | H24: Mimostavenisková doprava | J24: ='Kryci_list 11544'!J24+'Kryci_list 11547'!J24+'Kryci_list 11560'!J24+'Kryci_list 11561'!J24+'Kryci_list 11562'!J24+'Kryci_list 11563'!J24+'Kryci_list 11564'!J24 -> 0
B25: 14 | G25: 19
B26: 15 | G26: 20 | H26: Spolu | J26: =SUM(J22:J25)+SUM(F22:F25) -> 0
C27: Projektant,rozpočtár | G27: E | H27: Celkové náklady
G28: 21 | H28: Súčet riadkov 5,10,15,20 | J28: =F20+J20+F26+J26 -> 0
G29: 22 | H29: DPH 20% z | I29: =Rekapitulácia!B15 -> 0 | J29: =ROUND(((ROUND(I29,2)*20)/100),2)*1 -> 0
G30: 23 | H30: DPH 0% z | I30: =Rekapitulácia!B16 -> 0 | J30: =ROUND(((ROUND(I30,2)*0)/100),2) -> 0
G31: 24 | H31: Spolu | J31: =SUM(J28:J30) -> 0
G32: F
D33: Odberateľ | H33: Dodávateľ

Sheet Kryci_list 11544
F1: Krycí list rozpočtu | W1: 30.126
B2: Stavba Zvyšenie energetickej hospodárnosti Materskej školy Vyšný Žipov | G2: Miesto:
B3: Objekt Zateplenie obvodového plášťa
I4: Ks:
B5: Zákazka: | F5: Spracoval: | I5: Dňa | J5: 25.03.2017
B6: Odberateľ: Obec Vyšný Žipov | G6: IČO:
G7: DIČ:
B8: Dodávateľ: Ing. arch. Ľubomír Naňák | G8: IČO:
G9: DIČ:
B10: Projektant: | G10: IČO:
G11: DIČ:
B15: A | C15: ZRN | D15: Montáž | E15: Materiál | F15: ZRN spolu | G15: B | H15: Ďalšie náklady
B16: 1 | C16: HSV | D16: ='Rekap 11544'!B14 -> 0 | E16: ='Rekap 11544'!C14 -> 0 | F16: ='Rekap 11544'!D14 -> 0 | G16: 6 | H16: Ostatné náklady | J16: 0
B17: 2 | C17: PSV | G17: 7 | H17: Kompletačná činnosť | J17: ='SO 11544'!Z45 -> 0
B18: 3 | C18: MONT | G18: 8 | H18: HZS | J18: 0
B19: 4 | G19: 9
B20: 5 | C20: Spolu | F20: =SUM(F16:F19) -> 0 | G20: 10 | H20: Spolu | J20: =SUM(J16:J19) -> 0
B21: C | C21: VRN | G21: D | H21: VRN
B22: 11 | C22: Zariadenie staveniska | E22: 0% z [H+P+M] | F22: =((F16*U22*0)+(F17*V22*0)+(F18*W22*0))/100 -> 0 | G22: 16 | H22: Mimoriadne sťaž.podmienky | I22: 0% z [H+P+M] | J22: =((F16*X22*0)+(F17*Y22*0)+(F18*Z22*0))/100 -> 0 | U22: 1 | V22: 1 | W22: 1 | X22: 1 | Y22: 1 | Z22: 1
B23: 12 | C23: Územie so sťaž. podmienk. | E23: 0% z [H+P] | F23: =((F16*U23*0)+(F17*V23*0)+(F18*W23*0))/100 -> 0 | G23: 17 | H23: Horské oblasti | I23: 0% z [H+P+M] | J23: =((F16*X23*0)+(F17*Y23*0)+(F18*Z23*0))/100 -> 0 | U23: 1 | V23: 1 | W23: 0 | X23: 1 | Y23: 1 | Z23: 1
B24: 13 | C24: Prevádzkové vplyvy | E24: 0% z [H+P+M] | F24: =((F16*U24*0)+(F17*V24*0)+(F18*W24*0))/100 -> 0 | G24: 18 | H24: Mimostavenisková doprava | I24: 0% z [H+P] | J24: =((F16*X24*0)+(F17*Y24*0)+(F18*Z24*0))/100 -> 0 | U24: 1 | V24: 1 | W24: 1 | X24: 1 | Y24: 1 | Z24: 0
B25: 14 | G25: 19
B26: 15 | G26: 20 | H26: Spolu | J26: =SUM(J22:J25)+SUM(F22:F25) -> 0
C27: Projektant,rozpočtár | G27: E | H27: Celkové náklady
G28: 21 | H28: Súčet riadkov 5,10,15,20 | J28: =F20+J20+F26+J26 -> 0
G29: 22 | H29: DPH 20% z | I29: =J28-SUM('SO 11544'!K9:'SO 11544'!K44) -> 0 | J29: =ROUND(((ROUND(I29,2)*20)*1/100),2) -> 0
G30: 23 | H30: DPH 0% z | I30: =SUM('SO 11544'!K9:'SO 11544'!K44) -> 0 | J30: =ROUND(((ROUND(I30,2)*0)/100),2) -> 0
G31: 24 | H31: Spolu | J31: =SUM(J28:J30) -> 0
G32: F
D33: Odberateľ | G33: 26 | H33: Dodávateľ

Sheet Rekap 11544
A1: Odberateľ: Obec Vyšný Žipov | D1: Spracoval: | W1: 30.126
A2: Projektant: | D2: Ks:
A3: Dodávateľ: Ing. arch. Ľubomír Naňák | D3: Dátum: 25.03.2017
A4: Stavba Zvyšenie energetickej hospodárnosti Materskej školy Vyšný Žipov
A5: Objekt Zateplenie obvodového plášťa
A8: Prehľad rozpočtových nákladov
A9: Oddiel | B9: Montáž | C9: Materiál | D9: Spolu | E9: Hmotnosť (T) | F9: Suť (T)
A10: Práce HSV
A11: POVRCHOVÉ ÚPRAVY | B11: ='SO 11544'!L22 -> 0 | C11: ='SO 11544'!M22 -> 0 | D11: ='SO 11544'!I22 -> 0 | E11: ='SO 11544'!P22 -> 50.63 | F11: ='SO 11544'!S22 -> 0
A12: OSTATNÉ PRÁCE | B12: ='SO 11544'!L38 -> 0 | C12: ='SO 11544'!M38 -> 0 | D12: ='SO 11544'!I38 -> 0 | E12: ='SO 11544'!P38 -> 1.67 | F12: ='SO 11544'!S38 -> 10.16
A13: PRESUNY HMÔT | B13: ='SO 11544'!L42 -> 0 | C13: ='SO 11544'!M42 -> 0 | D13: ='SO 11544'!I42 -> 0 | E13: ='SO 11544'!P42 -> 0 | F13: ='SO 11544'!S42 -> 0
A14: Práce HSV | B14: ='SO 11544'!L44 -> 0 | C14: ='SO 11544'!M44 -> 0 | D14: ='SO 11544'!I44 -> 0 | E14: ='SO 11544'!P44 -> 52.3 | F14: ='SO 11544'!S44 -> 10.16
A16: Celkom | B16: ='SO 11544'!L45 -> 0 | C16: ='SO 11544'!M45 -> 0 | D16: ='SO 11544'!I45 -> 0 | E16: ='SO 11544'!P45 -> 52.3 | F16: ='SO 11544'!S45 -> 10.16

Sheet SO 11544
B1: Odberateľ: Obec Vyšný Žipov | E1: Spracoval: | W1: 30.126
B2: Projektant: | E2: Ks:
B3: Dodávateľ: Ing. arch. Ľubomír Naňák | E3: Dátum: 25.03.2017
B4: Stavba Zvyšenie energetickej hospodárnosti Materskej školy Vyšný Žipov
B5: Objekt Zateplenie obvodového plášťa
B7: Prehľad rozpočtových nákladov
A8: Por.č. | B8: Cenník | C8: Kód položky | D8: Názov | E8: Mj | F8: Množstvo | G8: Montáž | H8: Materiál | I8: Cena celkom | P8: Hmotnosť | S8: Suť
D9: Práce HSV
D10: POVRCHOVÉ ÚPRAVY
B11: 11/A 1 | C11: 620991121 | D11: Zakrývanie škár panelov výplní vonkajších otvorov zhotovené z lešenia akýmkoľvek spôsobom | E11: m2 | F11: 358.1437 | I11: =ROUND(F11*(G11+H11),2) -> 0 | J11: =ROUND(F11*(N11),2) -> 490.66 | K11: =ROUND(F11*(O11),2) -> 0 | L11: =ROUND(F11*(G11),2) -> 0 | N11: 1.37 | P11: =ROUND(F11*(R11),3) -> 0.036 | R11: 0.0001 | Z11: 0
B12: 11/A 1 | C12: 625260022 | D12: Kontaktný zatepľovací systém ETICS stien a podhľadov hr. 200 mm z minerálnej vlny, objemovej hmotnosti 115 kg/m3, landaD=0,034 W/mK, označenie T1 | E12: m2 | F12: 1438.0725 | I12: =ROUND(F12*(G12+H12),2) -> 0 | J12: =ROUND(F12*(N12),2) -> 67891.4 | K12: =ROUND(F12*(O12),2) -> 0 | L12: =ROUND(F12*(G12),2) -> 0 | N12: 47.21 | P12: =ROUND(F12*(R12),3) -> 40.812 | R12: 0.02838 | Z12: 0
B13: 11/A 1 | C13: 612481119 | D13: Potiahnutie vnútorných alebo vonkajších stien a ostatných plôch sklotextílnou mriežkou do lepidla | E13: m2 | F13: 158.9985 | I13: =ROUND(F13*(G13+H13),2) -> 0 | J13: =ROUND(F13*(N13),2) -> 596.24 | K13: =ROUND(F13*(O13),2) -> 0 | L13: =ROUND(F13*(G13),2) -> 0 | N13: 3.75 | P13: =ROUND(F13*(R13),3) -> 0.312 | R13: 0.00196 | Z13: 0
B14: 11/A 1 | C14: 625260021 | D14: Kontaktný zatepľovací systém ETICS stien a podhľadov hr. 150 mm z minerálnej vlny, objemovej hmotnosti 115 kg/m3, landaD=0,034 W/mK | E14: m2 | F14: 3.99 | I14: =ROUND(F14*(G14+H14),2) -> 0 | J14: =ROUND(F14*(N14),2) -> 180.39 | K14: =ROUND(F14*(O14),2) -> 0 | L14: =ROUND(F14*(G14),2) -> 0 | N14: 45.21 | P14: =ROUND(F14*(R14),3) -> 0.103 | R14: 0.02571 | Z14: 0
B15: 11/A 1 | C15: 62525017710 | D15: Kontaktný zatepľovací systém ETICS stien hr. 150 mm z extrudovaného polystyrénu XPS, objemovej hmotnosti 32 kg/m3, landaD=0,034 W/mK | E15: M2 | F15: 1.2825 | I15: =ROUND(F15*(G15+H15),2) -> 0 | J15: =ROUND(F15*(N15),2) -> 54.13 | K15: =ROUND(F15*(O15),2) -> 0 | L15: =ROUND(F15*(G15),2) -> 0 | N15: 42.21 | P15: =ROUND(F15*(R15),3) -> 0.016 | R15: 0.0123095 | Z15: 0
B16: 11/A 1 | C16: 62525017810 | D16: Kontaktný zatepľovací systém ETICS stien hr. 160 mm z extrudovaného polystyrénu XPS, objemovej hmotnosti 32 kg/m3, landaD=0,034 W/mK, označenie T2 | E16: M2 | F16: 109.8387 | I16: =ROUND(F16*(G16+H16),2) -> 0 | J16: =ROUND(F16*(N16),2) -> 5075.65 | K16: =ROUND(F16*(O16),2) -> 0 | L16: =ROUND(F16*(G16),2) -> 0 | N16: 46.21 | P16: =ROUND(F16*(R16),3) -> 1.421 | R16: 0.0129395 | Z16: 0
B17: 11/A 1 | C17: 622467582 | D17: Vonkajšia omietka stien silikónovo-silikátová škrabaná fr. 1,5 mm vrátane podkladného náteru vo farbe omietky | E17: m2 | F17: 1572.88 | I17: =ROUND(F17*(G17+H17),2) -> 0 | J17: =ROUND(F17*(N17),2) -> 16043.38 | K17: =ROUND(F17*(O17),2) -> 0 | L17: =ROUND(F17*(G17),2) -> 0 | N17: 10.2 | P17: =ROUND(F17*(R17),3) -> 3.979 | R17: 0.00253 | Z17: 0
B18: 11/A 1 | C18: 621466186 | D18: Vonkajšia omietka podhľadov silikónovo-silikátová škrabaná fr. 1,5 mm vrátane podkladného náteru vo farbe omietky | E18: m2 | F18: 24.192 | I18: =ROUND(F18*(G18+H18),2) -> 0 | J18: =ROUND(F18*(N18),2) -> 348.36 | K18: =ROUND(F18*(O18),2) -> 0 | L18: =ROUND(F18*(G18),2) -> 0 | N18: 14.4 | P18: =ROUND(F18*(R18),3) -> 0.072 | R18: 0.00297 | Z18: 0
B19: 11/A 1 | C19: 622465112 | D19: Vonkajšia omietka stien ušľachtilá mozaiková vrátane podkladného náteru | E19: m2 | F19: 109.839 | I19: =ROUND(F19*(G19+H19),2) -> 0 | J19: =ROUND(F19*(N19),2) -> 2428.54 | K19: =ROUND(F19*(O19),2) -> 0 | L19: =ROUND(F19*(G19),2) -> 0 | N19: 22.11 | P19: =ROUND(F19*(R19),3) -> 0.681 | R19: 0.0062 | Z19: 0
B20: 11/A 1 | C20: 622471931 | D20: Prípl.za viacfarebné zhotovenie | E20: m2 | F20: 1597.072 | I20: =ROUND(F20*(G20+H20),2) -> 0 | J20: =ROUND(F20*(N20),2) -> 319.41 | K20: =ROUND(F20*(O20),2) -> 0 | L20: =ROUND(F20*(G20),2) -> 0 | N20: 0.2 | P20: =ROUND(F20*(R20),3) -> 0.16 | R20: 0.0001 | Z20: 0
B21: 14/C 1 | C21: 622422211 | D21: Oprava vonkajších omietok vápenných a vápenocem. stupeň členitosti IaII -20% hladkých | E21: m2 | F21: 114.185 | I21: =ROUND(F21*(G21+H21),2) -> 0 | J21: =ROUND(F21*(N21),2) -> 408.78 | K21: =ROUND(F21*(O21),2) -> 0 | L21: =ROUND(F21*(G21),2) -> 0 | N21: 3.58 | P21: =ROUND(F21*(R21),3) -> 3.038 | R21: 0.02661 | Z21: 0
D22: POVRCHOVÉ ÚPRAVY | G22: =ROUND((SUM(L10:L21))/1,2) -> 0 | H22: =ROUND((SUM(M10:M21))/1,2) -> 0 | I22: =ROUND((SUM(I10:I21))/1,2) -> 0 | L22: =ROUND((SUM(L10:L21))/1,2) -> 0 | M22: =ROUND((SUM(M10:M21))/1,2) -> 0 | P22: =ROUND((SUM(P10:P21))/1,2) -> 50.63 | S22: =ROUND((SUM(S10:S21))/1,2) -> 0
D24: OSTATNÉ PRÁCE
B25: 11/A 1 | C25: 953946111 | D25: Príslušenstvo k zateplovaciemu systému - BASF, rohový AL profil s integrovanou tkaninou - AL 100x100 | E25: m | F25: 660.686 | I25: =ROUND(F25*(G25+H25),2) -> 0 | J25: =ROUND(F25*(N25),2) -> 1704.57 | K25: =ROUND(F25*(O25),2) -> 0 | L25: =ROUND(F25*(G25),2) -> 0 | N25: 2.58 | P25: =ROUND(F25*(R25),3) -> 0.588 | R25: 0.00089 | Z25: 0
B26: 11/A 1 | C26: 95394616110 | D26: Zakladací Al profil soklový hrúbky 0,8 mm k zatepľovaciemu systému s hrúbkou izolantu 200 mm | E26: m | F26: 237.86 | I26: =ROUND(F26*(G26+H26),2) -> 0 | J26: =ROUND(F26*(N26),2) -> 2043.22 | K26: =ROUND(F26*(O26),2) -> 0 | L26: =ROUND(F26*(G26),2) -> 0 | N26: 8.59 | P26: =ROUND(F26*(R26),3) -> 0.272 | R26: 0.0011445 | Z26: 0
B27: 3/A 1 | C27: 941941031 | D27: Montáž lešenia ľahkého pracovného radového s podlahami šírky od 0,80 do 1,00 m a výšky do 10 m | E27: m2 | F27: 1310.3132 | I27: =ROUND(F27*(G27+H27),2) -> 0 | J27: =ROUND(F27*(N27),2) -> 2437.18 | K27: =ROUND(F27*(O27),2) -> 0 | L27: =ROUND(F27*(G27),2) -> 0 | N27: 1.86 | Z27: 0
B28: 3/A 1 | C28: 941941191 | D28: Príplatok za prvý a každý ďalší i začatý mesiac použitia lešenia k cene -1031 | E28: m2 | F28: 1310.313 | I28: =ROUND(F28*(G28+H28),2) -> 0 | J28: =ROUND(F28*(N28),2) -> 1755.82 | K28: =ROUND(F28*(O28),2) -> 0 | L28: =ROUND(F28*(G28),2) -> 0 | N28: 1.34 | P28: =ROUND(F28*(R28),3) -> 0.812 | R28: 0.00062 | Z28: 0
B29: 3/B 1 | C29: 941941831 | D29: Demontáž lešenia ľahkého pracovného radového a s podlahami, šírky 0,80-1,00 m a výšky do 10m | E29: m2 | F29: 1310.313 | I29: =ROUND(F29*(G29+H29),2) -> 0 | J29: =ROUND(F29*(N29),2) -> 1533.07 | K29: =ROUND(F29*(O29),2) -> 0 | L29: =ROUND(F29*(G29),2) -> 0 | N29: 1.17 | Z29: 0
B30: 13/B 1 | C30: 978059631 | D30: Odsekanie a odobratie stien z obkladačiek vonkajších nad 2 m2 -0,089 t | E30: m2 | F30: 114.185 | I30: =ROUND(F30*(G30+H30),2) -> 0 | J30: =ROUND(F30*(N30),2) -> 447.61 | K30: =ROUND(F30*(O30),2) -> 0 | L30: =ROUND(F30*(G30),2) -> 0 | N30: 3.92 | S30: =ROUND(F30*(X30),3) -> 10.162 | X30: 0.089 | Z30: 0
B31: 13/B 1 | C31: 979011111 | D31: Zvislá doprava sutiny a vybúraných hmôt za prvé podlažie nad alebo pod základným podlažím | E31: t | F31: 10.162465 | I31: =ROUND(F31*(G31+H31),2) -> 0 | J31: =ROUND(F31*(N31),2) -> 81.81 | K31: =ROUND(F31*(O31),2) -> 0 | L31: =ROUND(F31*(G31),2) -> 0 | N31: 8.05 | Z31: 0
B32: 13/B 1 | C32: 979011121 | D32: Zvislá doprava sutiny a vybúraných hmôt za každé ďalšie podlažie | E32: t | F32: 10.162 | I32: =ROUND(F32*(G32+H32),2) -> 0 | J32: =ROUND(F32*(N32),2) -> 57.31 | K32: =ROUND(F32*(O32),2) -> 0 | L32: =ROUND(F32*(G32),2) -> 0 | N32: 5.64 | Z32: 0
B33: 13/B 1 | C33: 979082111 | D33: Vnútrostavenisková doprava sutiny a vybúraných hmôt do 10 m | E33: t | F33: 10.162 | I33: =ROUND(F33*(G33+H33),2) -> 0 | J33: =ROUND(F33*(N33),2) -> 82.62 | K33: =ROUND(F33*(O33),2) -> 0 | L33: =ROUND(F33*(G33),2) -> 0 | N33: 8.13 | Z33: 0
B34: 321/B 1 | C34: 979082315 | D34: Vodorovná doprava sutiny a vybúraných hmôt bez naloženia ale so zložením do 3000 m | E34: t | F34: 10.162 | I34: =ROUND(F34*(G34+H34),2) -> 0 | J34: =ROUND(F34*(N34),2) -> 39.73 | K34: =ROUND(F34*(O34),2) -> 0 | L34: =ROUND(F34*(G34),2) -> 0 | N34: 3.91 | Z34: 0
B35: 321/B 1 | C35: 979082319 | D35: Príplatok k cenám za každých ďalších aj začatých 1000 m | E35: t | F35: 121.944 | I35: =ROUND(F35*(G35+H35),2) -> 0 | J35: =ROUND(F35*(N35),2) -> 23.17 | K35: =ROUND(F35*(O35),2) -> 0 | L35: =ROUND(F35*(G35),2) -> 0 | N35: 0.19 | Z35: 0
B36: 211/B 1 | C36: 979087112 | D36: Nakladanie na dopravný prostriedok pre vodorovnú dopravu sutiny | E36: t | F36: 10.162 | I36: =ROUND(F36*(G36+H36),2) -> 0 | J36: =ROUND(F36*(N36),2) -> 36.38 | K36: =ROUND(F36*(O36),2) -> 0 | L36: =ROUND(F36*(G36),2) -> 0 | N36: 3.58 | Z36: 0
B37: 13/B 1 | C37: SKLADKA | D37: Poplatok za uloženie sute na skládku | E37: T | F37: 10.162 | I37: =ROUND(F37*(G37+H37),2) -> 0 | J37: =ROUND(F37*(N37),2) -> 152.43 | K37: =ROUND(F37*(O37),2) -> 0 | L37: =ROUND(F37*(G37),2) -> 0 | N37: 15 | Z37: 0
D38: OSTATNÉ PRÁCE | G38: =ROUND((SUM(L24:L37))/1,2) -> 0 | H38: =ROUND((SUM(M24:M37))/1,2) -> 0 | I38: =ROUND((SUM(I24:I37))/1,2) -> 0 | L38: =ROUND((SUM(L24:L37))/1,2) -> 0 | M38: =ROUND((SUM(M24:M37))/1,2) -> 0 | P38: =ROUND((SUM(P24:P37))/1,2) -> 1.67 | S38: =ROUND((SUM(S24:S37))/1,2) -> 10.16
D40: PRESUNY HMÔT
B41: 14/C 1 | C41: 999281211 | D41: Presun hmôt pre opravy a údržbu vonkajších plášťov doterajších objektov výšky do 25 m | E41: t | F41: 52.302621 | I41: =ROUND(F41*(G41+H41),2) -> 0 | J41: =ROUND(F41*(N41),2) -> 998.46 | K41: =ROUND(F41*(O41),2) -> 0 | L41: =ROUND(F41*(G41),2) -> 0 | N41: 19.09 | Z41: 0
D42: PRESUNY HMÔT | G42: =ROUND((SUM(L40:L41))/1,2) -> 0 | H42: =ROUND((SUM(M40:M41))/1,2) -> 0 | I42: =ROUND((SUM(I40:I41))/1,2) -> 0 | L42: =ROUND((SUM(L40:L41))/1,2) -> 0 | M42: =ROUND((SUM(M40:M41))/1,2) -> 0 | P42: =ROUND((SUM(P40:P41))/1,2) -> 0 | S42: =ROUND((SUM(S40:S41))/1,2) -> 0
D44: Práce HSV | G44: =ROUND((SUM(L9:L43))/2,2) -> 0 | H44: =ROUND((SUM(M9:M43))/2,2) -> 0 | I44: =ROUND((SUM(I9:I43))/2,2) -> 0 | L44: =ROUND((SUM(L9:L43))/2,2) -> 0 | M44: =ROUND((SUM(M9:M43))/2,2) -> 0 | P44: =ROUND((SUM(P9:P43))/2,2) -> 52.3 | S44: =ROUND((SUM(S9:S43))/2,2) -> 10.16
B45: Zateplenie obvodového plášťa | F45: Celkom | G45: =ROUND((SUM(L9:L44))/3,2) -> 0 | H45: =ROUND((SUM(M9:M44))/3,2) -> 0 | I45: =ROUND((SUM(I9:I44))/3,2) -> 0 | K45: =ROUND((SUM(K9:K44)),2) -> 0 | L45: =ROUND((SUM(L9:L44))/3,2) -> 0 | M45: =ROUND((SUM(M9:M44))/3,2) -> 0 | P45: =ROUND((SUM(P9:P44))/3,2) -> 52.3 | S45: =ROUND((SUM(S9:S44))/3,2) -> 10.16 | Z45: =(SUM(Z9:Z44)) -> 0

Sheet Kryci_list 11547
F1: Krycí list rozpočtu | W1: 30.126
B2: Stavba Zvyšenie energetickej hospodárnosti Materskej školy Vyšný Žipov | G2: Miesto:
B3: Objekt Výmena výplní otvorov
I4: Ks:
B5: Zákazka: | F5: Spracoval: | I5: Dňa | J5: 25.03.2017
B6: Odberateľ: Obec Vyšný Žipov | G6: IČO:
G7: DIČ:
B8: Dodávateľ: Ing. arch. Ľubomír Naňák | G8: IČO:
G9: DIČ:
B10: Projektant: | G10: IČO:
G11: DIČ:
B15: A | C15: ZRN | D15: Montáž | E15: Materiál | F15: ZRN spolu | G15: B | H15: Ďalšie náklady
B16: 1 | C16: HSV | D16: ='Rekap 11547'!B15 -> 0 | E16: ='Rekap 11547'!C15 -> 0 | F16: ='Rekap 11547'!D15 -> 0 | G16: 6 | H16: Ostatné náklady | J16: 0
B17: 2 | C17: PSV | D17: ='Rekap 11547'!B21 -> 0 | E17: ='Rekap 11547'!C21 -> 0 | F17: ='Rekap 11547'!D21 -> 0 | G17: 7 | H17: Kompletačná činnosť | J17: ='SO 11547'!Z100 -> 0
B18: 3 | C18: MONT | G18: 8 | H18: HZS | J18: 0
B19: 4 | G19: 9
B20: 5 | C20: Spolu | F20: =SUM(F16:F19) -> 0 | G20: 10 | H20: Spolu | J20: =SUM(J16:J19) -> 0
B21: C | C21: VRN | G21: D | H21: VRN
B22: 11 | C22: Zariadenie staveniska | E22: 0% z [H+P+M] | F22: =((F16*U22*0)+(F17*V22*0)+(F18*W22*0))/100 -> 0 | G22: 16 | H22: Mimoriadne sťaž.podmienky | I22: 0% z [H+P+M] | J22: =((F16*X22*0)+(F17*Y22*0)+(F18*Z22*0))/100 -> 0 | U22: 1 | V22: 1 | W22: 1 | X22: 1 | Y22: 1 | Z22: 1
B23: 12 | C23: Územie so sťaž. podmienk. | E23: 0% z [H+P] | F23: =((F16*U23*0)+(F17*V23*0)+(F18*W23*0))/100 -> 0 | G23: 17 | H23: Horské oblasti | I23: 0% z [H+P+M] | J23: =((F16*X23*0)+(F17*Y23*0)+(F18*Z23*0))/100 -> 0 | U23: 1 | V23: 1 | W23: 0 | X23: 1 | Y23: 1 | Z23: 1
B24: 13 | C24: Prevádzkové vplyvy | E24: 0% z [H+P+M] | F24: =((F16*U24*0)+(F17*V24*0)+(F18*W24*0))/100 -> 0 | G24: 18 | H24: Mimostavenisková doprava | I24: 0% z [H+P] | J24: =((F16*X24*0)+(F17*Y24*0)+(F18*Z24*0))/100 -> 0 | U24: 1 | V24: 1 | W24: 1 | X24: 1 | Y24: 1 | Z24: 0
B25: 14 | G25: 19
B26: 15 | G26: 20 | H26: Spolu | J26: =SUM(J22:J25)+SUM(F22:F25) -> 0
C27: Projektant,rozpočtár | G27: E | H27: Celkové náklady
G28: 21 | H28: Súčet riadkov 5,10,15,20 | J28: =F20+J20+F26+J26 -> 0
G29: 22 | H29: DPH 20% z | I29: =J28-SUM('SO 11547'!K9:'SO 11547'!K99) -> 0 | J29: =ROUND(((ROUND(I29,2)*20)*1/100),2) -> 0
G30: 23 | H30: DPH 0% z | I30: =SUM('SO 11547'!K9:'SO 11547'!K99) -> 0 | J30: =ROUND(((ROUND(I30,2)*0)/100),2) -> 0
G31: 24 | H31: Spolu | J31: =SUM(J28:J30) -> 0
G32: F
D33: Odberateľ | G33: 26 | H33: Dodávateľ

Sheet Rekap 11547
A1: Odberateľ: Obec Vyšný Žipov | D1: Spracoval: | W1: 30.126
A2: Projektant: | D2: Ks:
A3: Dodávateľ: Ing. arch. Ľubomír Naňák | D3: Dátum: 25.03.2017
A4: Stavba Zvyšenie energetickej hospodárnosti Materskej školy Vyšný Žipov
A5: Objekt Výmena výplní otvorov
A8: Prehľad rozpočtových nákladov
A9: Oddiel | B9: Montáž | C9: Materiál | D9: Spolu | E9: Hmotnosť (T) | F9: Suť (T)
A10: Práce HSV
A11: ZVISLÉ KONŠTRUKCIE | B11: ='SO 11547'!L21 -> 0 | C11: ='SO 11547'!M21 -> 0 | D11: ='SO 11547'!I21 -> 0 | E11: ='SO 11547'!P21 -> 4.39 | F11: ='SO 11547'!S21 -> 0
A12: POVRCHOVÉ ÚPRAVY | B12: ='SO 11547'!L29 -> 0 | C12: ='SO 11547'!M29 -> 0 | D12: ='SO 11547'!I29 -> 0 | E12: ='SO 11547'!P29 -> 18.62 | F12: ='SO 11547'!S29 -> 0
A13: OSTATNÉ PRÁCE | B13: ='SO 11547'!L52 -> 0 | C13: ='SO 11547'!M52 -> 0 | D13: ='SO 11547'!I52 -> 0 | E13: ='SO 11547'!P52 -> 0.82 | F13: ='SO 11547'!S52 -> 17.85
A14: PRESUNY HMÔT | B14: ='SO 11547'!L56 -> 0 | C14: ='SO 11547'!M56 -> 0 | D14: ='SO 11547'!I56 -> 0 | E14: ='SO 11547'!P56 -> 0 | F14: ='SO 11547'!S56 -> 0
A15: Práce HSV | B15: ='SO 11547'!L58 -> 0 | C15: ='SO 11547'!M58 -> 0 | D15: ='SO 11547'!I58 -> 0 | E15: ='SO 11547'!P58 -> 23.83 | F15: ='SO 11547'!S58 -> 17.85
A17: Práce PSV
A18: KONŠTRUKCIE KLAMPIARSKE | B18: ='SO 11547'!L66 -> 0 | C18: ='SO 11547'!M66 -> 0 | D18: ='SO 11547'!I66 -> 0 | E18: ='SO 11547'!P66 -> 0.44 | F18: ='SO 11547'!S66 -> 0.24
A19: KOVOVÉ DOPLNKOVÉ KONŠTRUKCIE | B19: ='SO 11547'!L93 -> 0 | C19: ='SO 11547'!M93 -> 0 | D19: ='SO 11547'!I93 -> 0 | E19: ='SO 11547'!P93 -> 4.94 | F19: ='SO 11547'!S93 -> 0
A20: NÁTERY | B20: ='SO 11547'!L97 -> 0 | C20: ='SO 11547'!M97 -> 0 | D20: ='SO 11547'!I97 -> 0 | E20: ='SO 11547'!P97 -> 0.07 | F20: ='SO 11547'!S97 -> 0
A21: Práce PSV | B21: ='SO 11547'!L99 -> 0 | C21: ='SO 11547'!M99 -> 0 | D21: ='SO 11547'!I99 -> 0 | E21: ='SO 11547'!P99 -> 5.45 | F21: ='SO 11547'!S99 -> 0.24
A23: Celkom | B23: ='SO 11547'!L100 -> 0 | C23: ='SO 11547'!M100 -> 0 | D23: ='SO 11547'!I100 -> 0 | E23: ='SO 11547'!P100 -> 29.28 | F23: ='SO 11547'!S100 -> 18.09

Sheet SO 11547
B1: Odberateľ: Obec Vyšný Žipov | E1: Spracoval: | W1: 30.126
B2: Projektant: | E2: Ks:
B3: Dodávateľ: Ing. arch. Ľubomír Naňák | E3: Dátum: 25.03.2017
B4: Stavba Zvyšenie energetickej hospodárnosti Materskej školy Vyšný Žipov
B5: Objekt Výmena výplní otvorov
B7: Prehľad rozpočtových nákladov
A8: Por.č. | B8: Cenník | C8: Kód položky | D8: Názov | E8: Mj | F8: Množstvo | G8: Montáž | H8: Materiál | I8: Cena celkom | P8: Hmotnosť | S8: Suť
D9: Práce HSV
D10: ZVISLÉ KONŠTRUKCIE
B11: 14/C 1 | C11: 310278841 | D11: Zamurovanie otvoru s plochou do 1m2 v murive nadzáklad. pórobetónovými tvárnicami na tenkovrstvu maltu hr. do 300mm | E11: m3 | F11: 0.189 | I11: =ROUND(F11*(G11+H11),2) -> 0 | J11: =ROUND(F11*(N11),2) -> 23.21 | K11: =ROUND(F11*(O11),2) -> 0 | L11: =ROUND(F11*(G11),2) -> 0 | N11: 122.78 | P11: =ROUND(F11*(R11),3) -> 0.23 | R11: 1.2185322 | Z11: 0
B12: 14/C 1 | C12: 310278842 | D12: Zamurovanie otvoru s plochou do 1 m2 pórobetónovými tvárnicami na tenkovrstvu maltu v nadzákladovom murive | E12: m3 | F12: 2.8397 | I12: =ROUND(F12*(G12+H12),2) -> 0 | J12: =ROUND(F12*(N12),2) -> 116.37 | K12: =ROUND(F12*(O12),2) -> 0 | L12: =ROUND(F12*(G12),2) -> 0 | N12: 40.98 | P12: =ROUND(F12*(R12),3) -> 0.609 | R12: 0.21432 | Z12: 0
B13: 14/C 1 | C13: 310279841 | D13: Zamurovanie otvoru s plochou do 4m2 v murive nadzáklad. pórobetónovými tvárnicami na tenkovrstvu maltuhr. do 300mm | E13: m3 | F13: 2.27286 | I13: =ROUND(F13*(G13+H13),2) -> 0 | J13: =ROUND(F13*(N13),2) -> 268.15 | K13: =ROUND(F13*(O13),2) -> 0 | L13: =ROUND(F13*(G13),2) -> 0 | N13: 117.98 | P13: =ROUND(F13*(R13),3) -> 2.763 | R13: 1.2158093 | Z13: 0
B14: 14/C 1 | C14: 310279843 | D14: Zamurovanie otvoru s plochou do 4 m2 pórobetónovými tvárnicami na tenkovrstvu maltuv nadzákladovom murive | E14: m3 | F14: 2.46048 | I14: =ROUND(F14*(G14+H14),2) -> 0 | J14: =ROUND(F14*(N14),2) -> 89.02 | K14: =ROUND(F14*(O14),2) -> 0 | L14: =ROUND(F14*(G14),2) -> 0 | N14: 36.18 | P14: =ROUND(F14*(R14),3) -> 0.527 | R14: 0.21432 | Z14: 0
B15: 11/A 1 | C15: 317351107 | D15: Debnenie prekladu zhotovenie | E15: m2 | F15: 1.56 | I15: =ROUND(F15*(G15+H15),2) -> 0 | J15: =ROUND(F15*(N15),2) -> 25.35 | K15: =ROUND(F15*(O15),2) -> 0 | L15: =ROUND(F15*(G15),2) -> 0 | N15: 16.25 | P15: =ROUND(F15*(R15),3) -> 0.014 | R15: 0.0088 | Z15: 0
B16: 11/A 1 | C16: 317351108 | D16: Debnenie prekladu odstránenie | E16: m2 | F16: 1.56 | I16: =ROUND(F16*(G16+H16),2) -> 0 | J16: =ROUND(F16*(N16),2) -> 9.27 | K16: =ROUND(F16*(O16),2) -> 0 | L16: =ROUND(F16*(G16),2) -> 0 | N16: 5.94 | Z16: 0
B17: 11/A 1 | C17: 317351109 | D17: Príplatok za podpornú konštrukciu (zhotovenie i odstránenie) výšky nad 4 do 6 m | E17: m2 | F17: 0.78 | I17: =ROUND(F17*(G17+H17),2) -> 0 | J17: =ROUND(F17*(N17),2) -> 1.07 | K17: =ROUND(F17*(O17),2) -> 0 | L17: =ROUND(F17*(G17),2) -> 0 | N17: 1.37 | P17: =ROUND(F17*(R17),3) -> 0 | R17: 0.0006 | Z17: 0
B18: 11/A 1 | C18: 317361821 | D18: Výstuž prekladov ríms z ocele 10505 | E18: t | F18: 0.0494 | I18: =ROUND(F18*(G18+H18),2) -> 0 | J18: =ROUND(F18*(N18),2) -> 64.98 | K18: =ROUND(F18*(O18),2) -> 0 | L18: =ROUND(F18*(G18),2) -> 0 | N18: 1315.47 | P18: =ROUND(F18*(R18),3) -> 0.05 | R18: 1.01178 | Z18: 0
B19: 11/A 1 | C19: 317162103 | D19: Keramický predpätý preklad POROTHERM alebo ekvivalent KPP, šírky 120 mm, výšky 65 mm, dĺžky 1500 mm | E19: kus | F19: 4 | I19: =ROUND(F19*(G19+H19),2) -> 0 | J19: =ROUND(F19*(N19),2) -> 66.44 | K19: =ROUND(F19*(O19),2) -> 0 | L19: =ROUND(F19*(G19),2) -> 0 | N19: 16.61 | P19: =ROUND(F19*(R19),3) -> 0.092 | R19: 0.0230255 | Z19: 0
B20: 11/A 1 | C20: 317162106 | D20: Porotherm alebo ekvivalen Keramický predpätý preklad KPP 120x65 mm, dĺžka 2250 mm | E20: kus | F20: 3 | I20: =ROUND(F20*(G20+H20),2) -> 0 | J20: =ROUND(F20*(N20),2) -> 75.75 | K20: =ROUND(F20*(O20),2) -> 0 | L20: =ROUND(F20*(G20),2) -> 0 | N20: 25.25 | P20: =ROUND(F20*(R20),3) -> 0.103 | R20: 0.0344805 | Z20: 0
D21: ZVISLÉ KONŠTRUKCIE | G21: =ROUND((SUM(L10:L20))/1,2) -> 0 | H21: =ROUND((SUM(M10:M20))/1,2) -> 0 | I21: =ROUND((SUM(I10:I20))/1,2) -> 0 | L21: =ROUND((SUM(L10:L20))/1,2) -> 0 | M21: =ROUND((SUM(M10:M20))/1,2) -> 0 | P21: =ROUND((SUM(P10:P20))/1,2) -> 4.39 | S21: =ROUND((SUM(S10:S20))/1,2) -> 0
D23: POVRCHOVÉ ÚPRAVY
B24: 11/A 1 | C24: 648991113 | D24: Osadenie parapetných dosiek z plastických a poloplast. hmôt, š. nad 200 mm | E24: m | F24: 183.7 | I24: =ROUND(F24*(G24+H24),2) -> 0 | J24: =ROUND(F24*(N24),2) -> 931.36 | K24: =ROUND(F24*(O24),2) -> 0 | L24: =ROUND(F24*(G24),2) -> 0 | N24: 5.07 | P24: =ROUND(F24*(R24),3) -> 1.617 | R24: 0.0088 | Z24: 0
B25: P/PC | C25: 283413340 | D25: Plastová parapetná doska biela vnútorná š. 400 mm s koncovkami | E25: m | F25: 183.7 | I25: =ROUND(F25*(G25+H25),2) -> 0 | J25: =ROUND(F25*(N25),2) -> 1882.93 | K25: =ROUND(F25*(O25),2) -> 0 | M25: =ROUND(F25*(H25),2) -> 0 | N25: 10.25 | Z25: 0
B26: 11/A 1 | C26: 632451022 | D26: Vyrovnávací poter muriva MC 15 hr 30 mm | E26: m2 | F26: 55.11 | I26: =ROUND(F26*(G26+H26),2) -> 0 | J26: =ROUND(F26*(N26),2) -> 408.37 | K26: =ROUND(F26*(O26),2) -> 0 | L26: =ROUND(F26*(G26),2) -> 0 | N26: 7.41 | P26: =ROUND(F26*(R26),3) -> 4.095 | R26: 0.0743 | Z26: 0
B27: 11/A 1 | C27: 625260011 | D27: Kontaktný zatepľovací systém ETICS ostenia hr. 30 mm z minerálnej vlny, objemovej hmotnosti 115 kg/m3, landaD=0,034 W/mK, označenie T3 | E27: m2 | F27: 173.733 | I27: =ROUND(F27*(G27+H27),2) -> 0 | J27: =ROUND(F27*(N27),2) -> 5842.64 | K27: =ROUND(F27*(O27),2) -> 0 | L27: =ROUND(F27*(G27),2) -> 0 | N27: 33.63 | P27: =ROUND(F27*(R27),3) -> 2.94 | R27: 0.01692 | Z27: 0
B28: 14/C 1 | C28: 612425931 | D28: Omietka vápenná vnútorného ostenia okenného alebo dverného štuková | E28: m2 | F28: 173.733 | I28: =ROUND(F28*(G28+H28),2) -> 0 | J28: =ROUND(F28*(N28),2) -> 2314.12 | K28: =ROUND(F28*(O28),2) -> 0 | L28: =ROUND(F28*(G28),2) -> 0 | N28: 13.32 | P28: =ROUND(F28*(R28),3) -> 9.964 | R28: 0.05735 | Z28: 0
D29: POVRCHOVÉ ÚPRAVY | G29: =ROUND((SUM(L23:L28))/1,2) -> 0 | H29: =ROUND((SUM(M23:M28))/1,2) -> 0 | I29: =ROUND((SUM(I23:I28))/1,2) -> 0 | L29: =ROUND((SUM(L23:L28))/1,2) -> 0 | M29: =ROUND((SUM(M23:M28))/1,2) -> 0 | P29: =ROUND((SUM(P23:P28))/1,2) -> 18.62 | S29: =ROUND((SUM(S23:S28))/1,2) -> 0
D31: OSTATNÉ PRÁCE
B32: 11/A 1 | C32: 953946111 | D32: Príslušenstvo k zateplovaciemu systému - BASF, rohový AL profil s integrovanou tkaninou - AL 100x100 | E32: m | F32: 579.11 | I32: =ROUND(F32*(G32+H32),2) -> 0 | J32: =ROUND(F32*(N32),2) -> 1494.1 | K32: =ROUND(F32*(O32),2) -> 0 | L32: =ROUND(F32*(G32),2) -> 0 | N32: 2.58 | P32: =ROUND(F32*(R32),3) -> 0.515 | R32: 0.00089 | Z32: 0
B33: 13/B 1 | C33: 968061112 | D33: Vyvesenie alebo zavesenie dreveného, plastového alebo kov.okenného krídla do 1,5 m2 | E33: kus | F33: 32 | I33: =ROUND(F33*(G33+H33),2) -> 0 | J33: =ROUND(F33*(N33),2) -> 14.4 | K33: =ROUND(F33*(O33),2) -> 0 | L33: =ROUND(F33*(G33),2) -> 0 | N33: 0.45 | Z33: 0
B34: 13/B 1 | C34: 968061113 | D34: Vyvesenie alebo zavesenie dreveného, plastového alebo kov.okenného krídla nad 1,5 m2 | E34: kus | F34: 130 | I34: =ROUND(F34*(G34+H34),2) -> 0 | J34: =ROUND(F34*(N34),2) -> 97.5 | K34: =ROUND(F34*(O34),2) -> 0 | L34: =ROUND(F34*(G34),2) -> 0 | N34: 0.75 | Z34: 0
B35: 13/B 1 | C35: 968062354 | D35: Vybúranie drevených, plastových a kovových rámov okien dvojitých alebo zdvojených, plochy do 1 m2 -0,082 t | E35: m2 | F35: 4.9192 | I35: =ROUND(F35*(G35+H35),2) -> 0 | J35: =ROUND(F35*(N35),2) -> 48.7 | K35: =ROUND(F35*(O35),2) -> 0 | L35: =ROUND(F35*(G35),2) -> 0 | N35: 9.9 | P35: =ROUND(F35*(R35),3) -> 0.011 | R35: 0.00225 | S35: =ROUND(F35*(X35),3) -> 0.369 | X35: 0.075 | Z35: 0
B36: 13/B 1 | C36: 968062355 | D36: Vybúranie drevených, plastových a kovových rámov okien dvojitých alebo zdvojených, plochy do 2 m2 -0,063 t | E36: m2 | F36: 12.2848 | I36: =ROUND(F36*(G36+H36),2) -> 0 | J36: =ROUND(F36*(N36),2) -> 82.43 | K36: =ROUND(F36*(O36),2) -> 0 | L36: =ROUND(F36*(G36),2) -> 0 | N36: 6.71 | P36: =ROUND(F36*(R36),3) -> 0.013 | R36: 0.00103 | S36: =ROUND(F36*(X36),3) -> 0.762 | X36: 0.062 | Z36: 0
B37: 13/B 1 | C37: 968062356 | D37: Vybúranie drevených, plastových a kovových rámov okien dvojitých alebo zdvojených, plochy do 4 m2 -0,054 t | E37: m2 | F37: 23.216 | I37: =ROUND(F37*(G37+H37),2) -> 0 | J37: =ROUND(F37*(N37),2) -> 114.22 | K37: =ROUND(F37*(O37),2) -> 0 | L37: =ROUND(F37*(G37),2) -> 0 | N37: 4.92 | P37: =ROUND(F37*(R37),3) -> 0.022 | R37: 0.00094 | S37: =ROUND(F37*(X37),3) -> 1.254 | X37: 0.054 | Z37: 0
B38: 13/B 1 | C38: 968062357 | D38: Vybúranie drevených, plastových a kovových rámov okien dvojitých alebo zdvojených, plochy nad 4 m2-0,048 t | E38: m2 | F38: 268.45 | I38: =ROUND(F38*(G38+H38),2) -> 0 | J38: =ROUND(F38*(N38),2) -> 1055.01 | K38: =ROUND(F38*(O38),2) -> 0 | L38: =ROUND(F38*(G38),2) -> 0 | N38: 3.93 | P38: =ROUND(F38*(R38),3) -> 0.225 | R38: 0.00084 | S38: =ROUND(F38*(X38),3) -> 12.617 | X38: 0.047 | Z38: 0
B39: 13/B 1 | C39: 968061125 | D39: Vyvesenie alebo zavesenie dreveného, plastového alebo kov.dverného krídla do 2 m2 | E39: kus | F39: 10 | I39: =ROUND(F39*(G39+H39),2) -> 0 | J39: =ROUND(F39*(N39),2) -> 6.5 | K39: =ROUND(F39*(O39),2) -> 0 | L39: =ROUND(F39*(G39),2) -> 0 | N39: 0.65 | Z39: 0
B40: 13/B 1 | C40: 968061136 | D40: Vyvesenie alebo zavesenie dreveného, plastového alebo kov.krídla vrát do 4 m2 | E40: kus | F40: 3 | I40: =ROUND(F40*(G40+H40),2) -> 0 | J40: =ROUND(F40*(N40),2) -> 7.68 | K40: =ROUND(F40*(O40),2) -> 0 | L40: =ROUND(F40*(G40),2) -> 0 | N40: 2.56 | Z40: 0
B41: 13/B 1 | C41: 968062455 | D41: Vybúranie drevených, plastových a kovových dverových zárubní -0,082 t | E41: m2 | F41: 20.104 | I41: =ROUND(F41*(G41+H41),2) -> 0 | J41: =ROUND(F41*(N41),2) -> 90.47 | K41: =ROUND(F41*(O41),2) -> 0 | L41: =ROUND(F41*(G41),2) -> 0 | N41: 4.5 | P41: =ROUND(F41*(R41),3) -> 0.024 | R41: 0.0012 | S41: =ROUND(F41*(X41),3) -> 1.769 | X41: 0.088 | Z41: 0
B42: 13/B 1 | C42: 968062558 | D42: Vybúranie drevených a kovových vrát -0,054 t | E42: m2 | F42: 7.0595 | I42: =ROUND(F42*(G42+H42),2) -> 0 | J42: =ROUND(F42*(N42),2) -> 16.66 | K42: =ROUND(F42*(O42),2) -> 0 | L42: =ROUND(F42*(G42),2) -> 0 | N42: 2.36 | P42: =ROUND(F42*(R42),3) -> 0.006 | R42: 0.000852624 | S42: =ROUND(F42*(X42),3) -> 0.381 | X42: 0.054 | Z42: 0
B43: 13/B 1 | C43: 968062745 | D43: Vybúranie drevených a kovových stien plných, zasklených alebo výkladných -0,024 t | E43: m2 | F43: 7.2 | I43: =ROUND(F43*(G43+H43),2) -> 0 | J43: =ROUND(F43*(N43),2) -> 11.52 | K43: =ROUND(F43*(O43),2) -> 0 | L43: =ROUND(F43*(G43),2) -> 0 | N43: 1.6 | P43: =ROUND(F43*(R43),3) -> 0.004 | R43: 0.00052716 | S43: =ROUND(F43*(X43),3) -> 0.173 | X43: 0.024 | Z43: 0
B44: 13/B 1 | C44: 962081141 | D44: Búranie muriva priečok zo sklenených tvárnic, hr. do 150 mm -0,082 t | E44: m2 | F44: 6.36 | I44: =ROUND(F44*(G44+H44),2) -> 0 | J44: =ROUND(F44*(N44),2) -> 34.41 | K44: =ROUND(F44*(O44),2) -> 0 | L44: =ROUND(F44*(G44),2) -> 0 | N44: 5.41 | P44: =ROUND(F44*(R44),3) -> 0.004 | R44: 0.00068 | S44: =ROUND(F44*(X44),3) -> 0.522 | X44: 0.082 | Z44: 0
B45: 13/B 1 | C45: 979011111 | D45: Zvislá doprava sutiny a vybúraných hmôt za prvé podlažie nad alebo pod základným podlažím | E45: t | F45: 17.846097 | I45: =ROUND(F45*(G45+H45),2) -> 0 | J45: =ROUND(F45*(N45),2) -> 143.66 | K45: =ROUND(F45*(O45),2) -> 0 | L45: =ROUND(F45*(G45),2) -> 0 | N45: 8.05 | Z45: 0
B46: 13/B 1 | C46: 979011121 | D46: Zvislá doprava sutiny a vybúraných hmôt za každé ďalšie podlažie | E46: t | F46: 17.486 | I46: =ROUND(F46*(G46+H46),2) -> 0 | J46: =ROUND(F46*(N46),2) -> 98.62 | K46: =ROUND(F46*(O46),2) -> 0 | L46: =ROUND(F46*(G46),2) -> 0 | N46: 5.64 | Z46: 0
B47: 13/B 1 | C47: 979082111 | D47: Vnútrostavenisková doprava sutiny a vybúraných hmôt do 10 m | E47: t | F47: 17.846 | I47: =ROUND(F47*(G47+H47),2) -> 0 | J47: =ROUND(F47*(N47),2) -> 145.09 | K47: =ROUND(F47*(O47),2) -> 0 | L47: =ROUND(F47*(G47),2) -> 0 | N47: 8.13 | Z47: 0
B48: 321/B 1 | C48: 979082315 | D48: Vodorovná doprava sutiny a vybúraných hmôt bez naloženia ale so zložením do 3000 m | E48: t | F48: 17.846 | I48: =ROUND(F48*(G48+H48),2) -> 0 | J48: =ROUND(F48*(N48),2) -> 69.78 | K48: =ROUND(F48*(O48),2) -> 0 | L48: =ROUND(F48*(G48),2) -> 0 | N48: 3.91 | Z48: 0
B49: 321/B 1 | C49: 979082319 | D49: Príplatok k cenám za každých ďalších aj začatých 1000 m | E49: t | F49: 214.152 | I49: =ROUND(F49*(G49+H49),2) -> 0 | J49: =ROUND(F49*(N49),2) -> 40.69 | K49: =ROUND(F49*(O49),2) -> 0 | L49: =ROUND(F49*(G49),2) -> 0 | N49: 0.19 | Z49: 0
B50: 211/B 1 | C50: 979087112 | D50: Nakladanie na dopravný prostriedok pre vodorovnú dopravu sutiny | E50: t | F50: 17.846 | I50: =ROUND(F50*(G50+H50),2) -> 0 | J50: =ROUND(F50*(N50),2) -> 63.89 | K50: =ROUND(F50*(O50),2) -> 0 | L50: =ROUND(F50*(G50),2) -> 0 | N50: 3.58 | Z50: 0
B51: 13/B 1 | C51: SKLADKA | D51: Poplatok za uloženie sute na skládku | E51: T | F51: 17.846 | I51: =ROUND(F51*(G51+H51),2) -> 0 | J51: =ROUND(F51*(N51),2) -> 267.69 | K51: =ROUND(F51*(O51),2) -> 0 | L51: =ROUND(F51*(G51),2) -> 0 | N51: 15 | Z51: 0
D52: OSTATNÉ PRÁCE | G52: =ROUND((SUM(L31:L51))/1,2) -> 0 | H52: =ROUND((SUM(M31:M51))/1,2) -> 0 | I52: =ROUND((SUM(I31:I51))/1,2) -> 0 | L52: =ROUND((SUM(L31:L51))/1,2) -> 0 | M52: =ROUND((SUM(M31:M51))/1,2) -> 0 | P52: =ROUND((SUM(P31:P51))/1,2) -> 0.82 | S52: =ROUND((SUM(S31:S51))/1,2) -> 17.85
D54: PRESUNY HMÔT
B55: 14/C 1 | C55: 999281111 | D55: Presun hmôt pre opravy a údržbu objektov vrátane vonkajších plášťov výšky do 25 m | E55: t | F55: 23.828421 | I55: =ROUND(F55*(G55+H55),2) -> 0 | J55: =ROUND(F55*(N55),2) -> 670.53 | K55: =ROUND(F55*(O55),2) -> 0 | L55: =ROUND(F55*(G55),2) -> 0 | N55: 28.14 | Z55: 0
D56: PRESUNY HMÔT | G56: =ROUND((SUM(L54:L55))/1,2) -> 0 | H56: =ROUND((SUM(M54:M55))/1,2) -> 0 | I56: =ROUND((SUM(I54:I55))/1,2) -> 0 | L56: =ROUND((SUM(L54:L55))/1,2) -> 0 | M56: =ROUND((SUM(M54:M55))/1,2) -> 0 | P56: =ROUND((SUM(P54:P55))/1,2) -> 0 | S56: =ROUND((SUM(S54:S55))/1,2) -> 0
D58: Práce HSV | G58: =ROUND((SUM(L9:L57))/2,2) -> 0 | H58: =ROUND((SUM(M9:M57))/2,2) -> 0 | I58: =ROUND((SUM(I9:I57))/2,2) -> 0 | L58: =ROUND((SUM(L9:L57))/2,2) -> 0 | M58: =ROUND((SUM(M9:M57))/2,2) -> 0 | P58: =ROUND((SUM(P9:P57))/2,2) -> 23.83 | S58: =ROUND((SUM(S9:S57))/2,2) -> 17.85
D60: Práce PSV
D61: KONŠTRUKCIE KLAMPIARSKE
B62: 764/B 1 | C62: 764410850 | D62: Demontáž oplechovania parapetov rš od 100 do 330 mm 0,00135t | E62: m | F62: 180.9 | I62: =ROUND(F62*(G62+H62),2) -> 0 | J62: =ROUND(F62*(N62),2) -> 180.9 | K62: =ROUND(F62*(O62),2) -> 0 | L62: =ROUND(F62*(G62),2) -> 0 | N62: 1 | S62: =ROUND(F62*(X62),3) -> 0.244 | X62: 0.00135 | Z62: 0
B63: 764/A 2 | C63: 764410350 | D63: Oplechovanie parapetov z hliníkového plechu hr. 2,0 mm, povrchová úprava prášk. vypaľovacou farbou, hlin. bočné krytky, kotvenie k podkladu PUR penou, vyspravenie styku krytiek a ostenia silikónom, rš 330 mm, označenie K1 | E63: m | F63: 196 | I63: =ROUND(F63*(G63+H63),2) -> 0 | J63: =ROUND(F63*(N63),2) -> 3626 | K63: =ROUND(F63*(O63),2) -> 0 | L63: =ROUND(F63*(G63),2) -> 0 | N63: 18.5 | P63: =ROUND(F63*(R63),3) -> 0.439 | R63: 0.002238274 | Z63: 0
B64: 764/A 2 | C64: 764410360 | D64: Oplechovanie parapetov z hliníkového plechu hr. 2,0 mm, povrchová úprava prášk. vypaľovacou farbou, hlin. bočné krytky, kotvenie k podkladu PUR penou, vyspravenie styku krytiek a ostenia silikónom, rš 480 mm, označenie K1 | E64: m | F64: 2 | I64: =ROUND(F64*(G64+H64),2) -> 0 | J64: =ROUND(F64*(N64),2) -> 42.4 | K64: =ROUND(F64*(O64),2) -> 0 | L64: =ROUND(F64*(G64),2) -> 0 | N64: 21.2 | P64: =ROUND(F64*(R64),3) -> 0.005 | R64: 0.0024190524 | Z64: 0
B65: 764/A 7 | C65: 998764102 | D65: Presun hmôt pre konštrukcie klampiarske v objektoch výšky nad 6 do 12 m | E65: t | F65: 0.44353981 | I65: =ROUND(F65*(G65+H65),2) -> 0 | J65: =ROUND(F65*(N65),2) -> 24.3 | K65: =ROUND(F65*(O65),2) -> 0 | L65: =ROUND(F65*(G65),2) -> 0 | N65: 54.78 | Z65: 0
D66: KONŠTRUKCIE KLAMPIARSKE | G66: =ROUND((SUM(L61:L65))/1,2) -> 0 | H66: =ROUND((SUM(M61:M65))/1,2) -> 0 | I66: =ROUND((SUM(I61:I65))/1,2) -> 0 | L66: =ROUND((SUM(L61:L65))/1,2) -> 0 | M66: =ROUND((SUM(M61:M65))/1,2) -> 0 | P66: =ROUND((SUM(P61:P65))/1,2) -> 0.44 | S66: =ROUND((SUM(S61:S65))/1,2) -> 0.24
D68: KOVOVÉ DOPLNKOVÉ KONŠTRUKCIE
B69: 767/A 1 | C69: OKNO | D69: Montáž výplní otvorov plastových s utesnením tesniacou páskou a APU profilom | E69: M | F69: 777.84 | I69: =ROUND(F69*(G69+H69),2) -> 0 | J69: =ROUND(F69*(N69),2) -> 12639.9 | K69: =ROUND(F69*(O69),2) -> 0 | L69: =ROUND(F69*(G69),2) -> 0 | N69: 16.25 | P69: =ROUND(F69*(R69),3) -> 1.556 | R69: 0.002 | Z69: 0
B70: S/S90 | C70: 6114109300 | D70: Biele plastové okno zo šesť.kom. prof. Uf=1,0 W/m2K, izolačné trojsklo 4-16-4-16-4, výplň argón Ug=0,6 W/m2K, teplý dišt.rámik. stredové tesnenie, celoobv. kovanie s antikor. ochr., oken. kľ.biele oceľové, dvojdiekne OS+OS, 2340x1740 mm, označenie 1 | E70: kus | F70: 66 | I70: =ROUND(F70*(G70+H70),2) -> 0 | J70: =ROUND(F70*(N70),2) -> 30226.02 | K70: =ROUND(F70*(O70),2) -> 0 | M70: =ROUND(F70*(H70),2) -> 0 | N70: 457.97 | P70: =ROUND(F70*(R70),3) -> 1.744 | R70: 0.02642 | Z70: 0
B71: S/S90 | C71: 6114109400 | D71: Biele plastové okno zo šesť.kom. prof. Uf=1,0 W/m2K, izolačné trojsklo 4-16-4-16-4, výplň argón Ug=0,6 W/m2K, teplý dišt.rámik. stredové tesnenie, celoobv. kovanie s antikor. ochr., oken. kľ.biele oceľové, jednodiekne OS, 720x1740 mm, označenie 2 | E71: kus | F71: 2 | I71: =ROUND(F71*(G71+H71),2) -> 0 | J71: =ROUND(F71*(N71),2) -> 280.62 | K71: =ROUND(F71*(O71),2) -> 0 | M71: =ROUND(F71*(H71),2) -> 0 | N71: 140.31 | P71: =ROUND(F71*(R71),3) -> 0.055 | R71: 0.02751 | Z71: 0
B72: S/S90 | C72: 6114109500 | D72: Biele plastové okno zo šesť.kom. prof. Uf=1,0 W/m2K, izolačné trojsklo 4-16-4-16-4, výplň argón Ug=0,6 W/m2K, teplý dišt.rámik. stredové tesnenie, celoobv. kovanie s antikor. ochr., oken. kľ.biele oceľové, jednodiekne OS, 560x1740 mm, označenie 3 | E72: kus | F72: 2 | I72: =ROUND(F72*(G72+H72),2) -> 0 | J72: =ROUND(F72*(N72),2) -> 218.26 | K72: =ROUND(F72*(O72),2) -> 0 | M72: =ROUND(F72*(H72),2) -> 0 | N72: 109.13 | P72: =ROUND(F72*(R72),3) -> 0.059 | R72: 0.02925 | Z72: 0
B73: S/S90 | C73: 6114109600 | D73: Biele plastové okno zo šesť.kom. prof. Uf=1,0 W/m2K, izolačné trojsklo 4-16-4-16-4, výplň argón Ug=0,6 W/m2K, teplý dišt.rámik. stredové tesnenie, celoobv. kovanie s antikor. ochr., oken. kľ.biele oceľové, dvojdiekne OS+OS, 1760x1740 mm, označenie 4 | E73: kus | F73: 5 | I73: =ROUND(F73*(G73+H73),2) -> 0 | J73: =ROUND(F73*(N73),2) -> 1714.95 | K73: =ROUND(F73*(O73),2) -> 0 | M73: =ROUND(F73*(H73),2) -> 0 | N73: 342.99 | P73: =ROUND(F73*(R73),3) -> 0.152 | R73: 0.03035 | Z73: 0
B74: S/S90 | C74: 6114109700 | D74: Biele plastové okno zo šesť.kom. prof. Uf=1,0 W/m2K, izolačné trojsklo 4-16-4-16-4, výplň argón Ug=0,6 W/m2K, teplý dišt.rámik. stredové tesnenie, celoobv. kovanie s antikor. ochr., oken. kľ.biele oceľové, jednodiekne OS, 860x1740 mm, označenie 5 | E74: kus | F74: 4 | I74: =ROUND(F74*(G74+H74),2) -> 0 | J74: =ROUND(F74*(N74),2) -> 670.36 | K74: =ROUND(F74*(O74),2) -> 0 | M74: =ROUND(F74*(H74),2) -> 0 | N74: 167.59 | P74: =ROUND(F74*(R74),3) -> 0.126 | R74: 0.03152 | Z74: 0
B75: S/S90 | C75: 6114109800 | D75: Biele plastové okno zo šesť.kom. prof. Uf=1,0 W/m2K, izolačné trojsklo 4-16-4-16-4, výplň argón Ug=0,6 W/m2K, teplý dišt.rámik. stredové tesnenie, celoobv. kovanie s antikor. ochr., oken. kľ.biele oceľové, dvojdiekne OS+OS, 2340x1140 mm, označenie 6 | E75: kus | F75: 2 | I75: =ROUND(F75*(G75+H75),2) -> 0 | J75: =ROUND(F75*(N75),2) -> 597.54 | K75: =ROUND(F75*(O75),2) -> 0 | M75: =ROUND(F75*(H75),2) -> 0 | N75: 298.77 | P75: =ROUND(F75*(R75),3) -> 0.065 | R75: 0.03262 | Z75: 0
B76: S/S90 | C76: 6114109900 | D76: Biele plastové okno zo šesť.kom. prof. Uf=1,0 W/m2K, izolačné trojsklo 4-16-4-16-4, výplň argón Ug=0,6 W/m2K, teplý dišt.rámik. stredové tesnenie, celoobv. kovanie s antikor. ochr., oken. kľ.biele oceľové, dvojdiekne OS+OS, 1140x840 mm, označenie 7 | E76: kus | F76: 3 | I76: =ROUND(F76*(G76+H76),2) -> 0 | J76: =ROUND(F76*(N76),2) -> 321.75 | K76: =ROUND(F76*(O76),2) -> 0 | M76: =ROUND(F76*(H76),2) -> 0 | N76: 107.25 | P76: =ROUND(F76*(R76),3) -> 0.102 | R76: 0.03386 | Z76: 0
B77: S/S90 | C77: 6114110000 | D77: Biele plastové okno zo šesť.kom. prof. Uf=1,0 W/m2K, izolačné trojsklo 4-16-4-16-4, výplň argón Ug=0,6 W/m2K, teplý dišt.rámik. stredové tesnenie, celoobv. kovanie s antikor. ochr., oken. kľ.biele oceľové, jednodiekne OS, 1080x1740 mm, označenie 8 | E77: kus | F77: 1 | I77: =ROUND(F77*(G77+H77),2) -> 0 | J77: =ROUND(F77*(N77),2) -> 210.49 | K77: =ROUND(F77*(O77),2) -> 0 | M77: =ROUND(F77*(H77),2) -> 0 | N77: 210.49 | P77: =ROUND(F77*(R77),3) -> 0.035 | R77: 0.03495 | Z77: 0
B78: S/S90 | C78: 6114110100 | D78: Biele plast.dvere vstupné s nadsvetl.zo šesť.kom.prof. Uf=1,0 W/m2K, plast.výplň s PUR izoláciou hr 40 mm, bezpečn. trojsklo 4-16-4-16-4 Ug=0,6 W/m2K, trojbodové uchyt. dver. krí. k rámu, kľučky oceľ.biele lak., jednokr.,1080x2680 mm, označenie 9 | E78: kus | F78: 2 | I78: =ROUND(F78*(G78+H78),2) -> 0 | J78: =ROUND(F78*(N78),2) -> 16208.86 | K78: =ROUND(F78*(O78),2) -> 0 | M78: =ROUND(F78*(H78),2) -> 0 | N78: 8104.43 | P78: =ROUND(F78*(R78),3) -> 0.052 | R78: 0.02587 | Z78: 0
B79: S/S90 | C79: 6114110200 | D79: Biele plast.dvere vstupné s nadsvetl.zo šesť.kom.prof. Uf=1,0 W/m2K, plast.výplň s PUR izoláciou hr 40 mm, bezpečn. trojsklo 4-16-4-16-4 Ug=0,6 W/m2K, trojbodové uchyt. dver. krí. k rámu, kľučky oceľ.biele lak., dvojkr.,1780x2680 mm, označenie 10 | E79: kus | F79: 1 | I79: =ROUND(F79*(G79+H79),2) -> 0 | J79: =ROUND(F79*(N79),2) -> 1335.71 | K79: =ROUND(F79*(O79),2) -> 0 | M79: =ROUND(F79*(H79),2) -> 0 | N79: 1335.71 | P79: =ROUND(F79*(R79),3) -> 0.027 | R79: 0.027 | Z79: 0
B80: S/S90 | C80: 6114110300 | D80: Biele plast.dvere vstupné zo šesť.kom.prof. Uf=1,0 W/m2K, plast.výplň s PUR izoláciou hr 40 mm, bezpečn. trojsklo 4-16-4-16-4 Ug=0,6 W/m2K, trojbodové uchyt. dver. krí. k rámu, kľučky oceľ.biele lak., jednokr.,930x2080 mm, označenie 11 | E80: kus | F80: 2 | I80: =ROUND(F80*(G80+H80),2) -> 0 | J80: =ROUND(F80*(N80),2) -> 1083.26 | K80: =ROUND(F80*(O80),2) -> 0 | M80: =ROUND(F80*(H80),2) -> 0 | N80: 541.63 | P80: =ROUND(F80*(R80),3) -> 0.055 | R80: 0.02772 | Z80: 0
B81: S/S90 | C81: 6114110400 | D81: Biele plast.dvere vstupné zo šesť.kom.prof. Uf=1,0 W/m2K, plast.výplň s PUR izoláciou hr 40 mm, bezpečn. trojsklo 4-16-4-16-4 Ug=0,6 W/m2K, trojbodové uchyt. dver. krí. k rámu, kľučky oceľ.biele lak., jednokr.,1080x2080 mm, označenie 12 | E81: kus | F81: 1 | I81: =ROUND(F81*(G81+H81),2) -> 0 | J81: =ROUND(F81*(N81),2) -> 3375.4 | K81: =ROUND(F81*(O81),2) -> 0 | M81: =ROUND(F81*(H81),2) -> 0 | N81: 3375.4 | P81: =ROUND(F81*(R81),3) -> 0.029 | R81: 0.02885 | Z81: 0
... B89: S/S90 | C89: 6114102900 | D89: Biele plast.dvere vstupné s.zo šesť.kom.prof. Uf=1,0 W/m2K, plast.výplň s PUR izoláciou hr 40 mm, trojbodové uchyt. dver. krí. k rámu, kľučky oceľ.biele lak., dvojkr.,1940x2150 mm, označenie 20 | E89: kus | F89: 1 | I89: =ROUND(F89*(G89+H89),2) -> 0 | J89: =ROUND(F89*(N89),2) -> 1167.88 | K89: =ROUND(F89*(O89),2) -> 0 | M89: =ROUND(F89*(H89),2) -> 0 | N89: 1167.88 | P89: =ROUND(F89*(R89),3) -> 0.015 | R89: 0.0149 | Z89: 0
B90: 767/A 3 | C90: 767995101 | D90: Montáž ostatných atypických kovových stavebných doplnkových konštrukcií do 5 kg | E90: kg | F90: 543.4 | I90: =ROUND(F90*(G90+H90),2) -> 0 | J90: =ROUND(F90*(N90),2) -> 1760.62 | K90: =ROUND(F90*(O90),2) -> 0 | L90: =ROUND(F90*(G90),2) -> 0 | N90: 3.24 | Z90: 0
B91: P/PC | C91: OK | D91: Dodávka oceľových konštrukcií vrátane povrchových úprav - konzolka tvaru L 150x247 mm pre vonkajšie parapety | E91: kg | F91: 543.4 | I91: =ROUND(F91*(G91+H91),2) -> 0 | J91: =ROUND(F91*(N91),2) -> 1363.93 | K91: =ROUND(F91*(O91),2) -> 0 | M91: =ROUND(F91*(H91),2) -> 0 | N91: 2.51 | P91: =ROUND(F91*(R91),3) -> 0.543 | R91: 0.001 | Z91: 0
B92: 767/A 3 | C92: 998767202 | D92: Presun hmôt pre kovové stavebné doplnkové konštrukcie v objektoch výšky nad 6 do 12 m | E92: 1 | F92: 0.01 | I92: =ROUND(F92*(G92+H92),2) -> 0 | J92: =ROUND(F92*(N92),2) -> 795.53 | K92: =ROUND(F92*(O92),2) -> 0 | L92: =ROUND(F92*(G92),2) -> 0 | N92: 79552.87 | Z92: 0
D93: KOVOVÉ DOPLNKOVÉ KONŠTRUKCIE | G93: =ROUND((SUM(L68:L92))/1,2) -> 0 | H93: =ROUND((SUM(M68:M92))/1,2) -> 0 | I93: =ROUND((SUM(I68:I92))/1,2) -> 0 | L93: =ROUND((SUM(L68:L92))/1,2) -> 0 | M93: =ROUND((SUM(M68:M92))/1,2) -> 0 | P93: =ROUND((SUM(P68:P92))/1,2) -> 4.94 | S93: =ROUND((SUM(S68:S92))/1,2) -> 0
D95: NÁTERY
B96: 783/A 1 | C96: 783894422 | D96: Náter farbami oderuvzdornými pre interiér stien dvojnásobný | E96: m2 | F96: 173.733 | I96: =ROUND(F96*(G96+H96),2) -> 0 | J96: =ROUND(F96*(N96),2) -> 449.97 | K96: =ROUND(F96*(O96),2) -> 0 | L96: =ROUND(F96*(G96),2) -> 0 | N96: 2.59 | P96: =ROUND(F96*(R96),3) -> 0.069 | R96: 0.0004 | Z96: 0
D97: NÁTERY | G97: =ROUND((SUM(L95:L96))/1,2) -> 0 | H97: =ROUND((SUM(M95:M96))/1,2) -> 0 | I97: =ROUND((SUM(I95:I96))/1,2) -> 0 | L97: =ROUND((SUM(L95:L96))/1,2) -> 0 | M97: =ROUND((SUM(M95:M96))/1,2) -> 0 | P97: =ROUND((SUM(P95:P96))/1,2) -> 0.07 | S97: =ROUND((SUM(S95:S96))/1,2) -> 0
D99: Práce PSV | G99: =ROUND((SUM(L60:L98))/2,2) -> 0 | H99: =ROUND((SUM(M60:M98))/2,2) -> 0 | I99: =ROUND((SUM(I60:I98))/2,2) -> 0 | L99: =ROUND((SUM(L60:L98))/2,2) -> 0 | M99: =ROUND((SUM(M60:M98))/2,2) -> 0 | P99: =ROUND((SUM(P60:P98))/2,2) -> 5.45 | S99: =ROUND((SUM(S60:S98))/2,2) -> 0.24
B100: Výmena výplní otvorov | F100: Celkom | G100: =ROUND((SUM(L9:L99))/3,2) -> 0 | H100: =ROUND((SUM(M9:M99))/3,2) -> 0 | I100: =ROUND((SUM(I9:I99))/3,2) -> 0 | K100: =ROUND((SUM(K9:K99)),2) -> 0 | L100: =ROUND((SUM(L9:L99))/3,2) -> 0 | M100: =ROUND((SUM(M9:M99))/3,2) -> 0 | P100: =ROUND((SUM(P9:P99))/3,2) -> 29.28 | S100: =ROUND((SUM(S9:S99))/3,2) -> 18.09 | Z100: =(SUM(Z9:Z99)) -> 0

Sheet Kryci_list 11560
F1: Krycí list rozpočtu | W1: 30.126
B2: Stavba Zvyšenie energetickej hospodárnosti Materskej školy Vyšný Žipov | G2: Miesto:
B3: Objekt Zateplenie strešného plášťa
I4: Ks:
B5: Zákazka: | F5: Spracoval: | I5: Dňa | J5: 25.03.2017
B6: Odberateľ: Obec Vyšný Žipov | G6: IČO:
G7: DIČ:
B8: Dodávateľ: Ing. arch. Ľubomír Naňák | G8: IČO:
G9: DIČ:
B10: Projektant: | G10: IČO:
G11: DIČ:
B15: A | C15: ZRN | D15: Montáž | E15: Materiál | F15: ZRN spolu | G15: B | H15: Ďalšie náklady
B16: 1 | C16: HSV | D16: ='Rekap 11560'!B15 -> 0 | E16: ='Rekap 11560'!C15 -> 0 | F16: ='Rekap 11560'!D15 -> 0 | G16: 6 | H16: Ostatné náklady | J16: 0
B17: 2 | C17: PSV | D17: ='Rekap 11560'!B25 -> 0 | E17: ='Rekap 11560'!C25 -> 0 | F17: ='Rekap 11560'!D25 -> 0 | G17: 7 | H17: Kompletačná činnosť | J17: ='SO 11560'!Z106 -> 0
B18: 3 | C18: MONT | G18: 8 | H18: HZS | J18: 0
B19: 4 | G19: 9
B20: 5 | C20: Spolu | F20: =SUM(F16:F19) -> 0 | G20: 10 | H20: Spolu | J20: =SUM(J16:J19) -> 0
B21: C | C21: VRN | G21: D | H21: VRN
B22: 11 | C22: Zariadenie staveniska | E22: 0% z [H+P+M] | F22: =((F16*U22*0)+(F17*V22*0)+(F18*W22*0))/100 -> 0 | G22: 16 | H22: Mimoriadne sťaž.podmienky | I22: 0% z [H+P+M] | J22: =((F16*X22*0)+(F17*Y22*0)+(F18*Z22*0))/100 -> 0 | U22: 1 | V22: 1 | W22: 1 | X22: 1 | Y22: 1 | Z22: 1
B23: 12 | C23: Územie so sťaž. podmienk. | E23: 0% z [H+P] | F23: =((F16*U23*0)+(F17*V23*0)+(F18*W23*0))/100 -> 0 | G23: 17 | H23: Horské oblasti | I23: 0% z [H+P+M] | J23: =((F16*X23*0)+(F17*Y23*0)+(F18*Z23*0))/100 -> 0 | U23: 1 | V23: 1 | W23: 0 | X23: 1 | Y23: 1 | Z23: 1
B24: 13 | C24: Prevádzkové vplyvy | E24: 0% z [H+P+M] | F24: =((F16*U24*0)+(F17*V24*0)+(F18*W24*0))/100 -> 0 | G24: 18 | H24: Mimostavenisková doprava | I24: 0% z [H+P] | J24: =((F16*X24*0)+(F17*Y24*0)+(F18*Z24*0))/100 -> 0 | U24: 1 | V24: 1 | W24: 1 | X24: 1 | Y24: 1 | Z24: 0
B25: 14 | G25: 19
B26: 15 | G26: 20 | H26: Spolu | J26: =SUM(J22:J25)+SUM(F22:F25) -> 0
C27: Projektant,rozpočtár | G27: E | H27: Celkové náklady
G28: 21 | H28: Súčet riadkov 5,10,15,20 | J28: =F20+J20+F26+J26 -> 0
G29: 22 | H29: DPH 20% z | I29: =J28-SUM('SO 11560'!K9:'SO 11560'!K105) -> 0 | J29: =ROUND(((ROUND(I29,2)*20)*1/100),2) -> 0
G30: 23 | H30: DPH 0% z | I30: =SUM('SO 11560'!K9:'SO 11560'!K105) -> 0 | J30: =ROUND(((ROUND(I30,2)*0)/100),2) -> 0
G31: 24 | H31: Spolu | J31: =SUM(J28:J30) -> 0
G32: F
D33: Odberateľ | G33: 26 | H33: Dodávateľ

Sheet Rekap 11560
A1: Odberateľ: Obec Vyšný Žipov | D1: Spracoval: | W1: 30.126
A2: Projektant: | D2: Ks:
A3: Dodávateľ: Ing. arch. Ľubomír Naňák | D3: Dátum: 25.03.2017
A4: Stavba Zvyšenie energetickej hospodárnosti Materskej školy Vyšný Žipov
A5: Objekt Zateplenie strešného plášťa
A8: Prehľad rozpočtových nákladov
A9: Oddiel | B9: Montáž | C9: Materiál | D9: Spolu | E9: Hmotnosť (T) | F9: Suť (T)
A10: Práce HSV
A11: VODOROVNÉ KONŠTRUKCIE | B11: ='SO 11560'!L13 -> 0 | C11: ='SO 11560'!M13 -> 0 | D11: ='SO 11560'!I13 -> 0 | E11: ='SO 11560'!P13 -> 0.05 | F11: ='SO 11560'!S13 -> 0
A12: POVRCHOVÉ ÚPRAVY | B12: ='SO 11560'!L17 -> 0 | C12: ='SO 11560'!M17 -> 0 | D12: ='SO 11560'!I17 -> 0 | E12: ='SO 11560'!P17 -> 0.62 | F12: ='SO 11560'!S17 -> 0
A13: OSTATNÉ PRÁCE | B13: ='SO 11560'!L25 -> 0 | C13: ='SO 11560'!M25 -> 0 | D13: ='SO 11560'!I25 -> 0 | E13: ='SO 11560'!P25 -> 0.01 | F13: ='SO 11560'!S25 -> 221.86
A14: PRESUNY HMÔT | B14: ='SO 11560'!L29 -> 0 | C14: ='SO 11560'!M29 -> 0 | D14: ='SO 11560'!I29 -> 0 | E14: ='SO 11560'!P29 -> 0 | F14: ='SO 11560'!S29 -> 0
A15: Práce HSV | B15: ='SO 11560'!L31 -> 0 | C15: ='SO 11560'!M31 -> 0 | D15: ='SO 11560'!I31 -> 0 | E15: ='SO 11560'!P31 -> 0.68 | F15: ='SO 11560'!S31 -> 221.86
A17: Práce PSV
A18: POVLAKOVÉ KRYTINY | B18: ='SO 11560'!L44 -> 0 | C18: ='SO 11560'!M44 -> 0 | D18: ='SO 11560'!I44 -> 0 | E18: ='SO 11560'!P44 -> 5.18 | F18: ='SO 11560'!S44 -> 0
A19: IZOLÁCIE TEPELNÉ BEŽNÝCH STAVEB. KONŠTRUKCIÍ | B19: ='SO 11560'!L54 -> 0 | C19: ='SO 11560'!M54 -> 0 | D19: ='SO 11560'!I54 -> 0 | E19: ='SO 11560'!P54 -> 9.23 | F19: ='SO 11560'!S54 -> 0
A20: ZTI-VNÚTORNA KANALIZÁCIA | B20: ='SO 11560'!L60 -> 0 | C20: ='SO 11560'!M60 -> 0 | D20: ='SO 11560'!I60 -> 0 | E20: ='SO 11560'!P60 -> 0.16 | F20: ='SO 11560'!S60 -> 0.1
A21: KONŠTRUKCIE TESÁRSKE | B21: ='SO 11560'!L76 -> 0 | C21: ='SO 11560'!M76 -> 0 | D21: ='SO 11560'!I76 -> 0 | E21: ='SO 11560'!P76 -> 23.27 | F21: ='SO 11560'!S76 -> 0
A22: KONŠTRUKCIE KLAMPIARSKE | B22: ='SO 11560'!L92 -> 0 | C22: ='SO 11560'!M92 -> 0 | D22: ='SO 11560'!I92 -> 0 | E22: ='SO 11560'!P92 -> 0.96 | F22: ='SO 11560'!S92 -> 8.1
A23: KRYTINY TVRDÉ | B23: ='SO 11560'!L97 -> 0 | C23: ='SO 11560'!M97 -> 0 | D23: ='SO 11560'!I97 -> 0 | E23: ='SO 11560'!P97 -> 0.22 | F23: ='SO 11560'!S97 -> 0
A24: KOVOVÉ DOPLNKOVÉ KONŠTRUKCIE | B24: ='SO 11560'!L103 -> 0 | C24: ='SO 11560'!M103 -> 0 | D24: ='SO 11560'!I103 -> 0 | E24: ='SO 11560'!P103 -> 0 | F24: ='SO 11560'!S103 -> 0
A25: Práce PSV | B25: ='SO 11560'!L105 -> 0 | C25: ='SO 11560'!M105 -> 0 | D25: ='SO 11560'!I105 -> 0 | E25: ='SO 11560'!P105 -> 39.02 | F25: ='SO 11560'!S105 -> 8.2
A27: Celkom | B27: ='SO 11560'!L106 -> 0 | C27: ='SO 11560'!M106 -> 0 | D27: ='SO 11560'!I106 -> 0 | E27: ='SO 11560'!P106 -> 39.7 | F27: ='SO 11560'!S106 -> 230.06

Sheet SO 11560
B1: Odberateľ: Obec Vyšný Žipov | E1: Spracoval: | W1: 30.126
B2: Projektant: | E2: Ks:
B3: Dodávateľ: Ing. arch. Ľubomír Naňák | E3: Dátum: 25.03.2017
B4: Stavba Zvyšenie energetickej hospodárnosti Materskej školy Vyšný Žipov
B5: Objekt Zateplenie strešného plášťa
B7: Prehľad rozpočtových nákladov
A8: Por.č. | B8: Cenník | C8: Kód položky | D8: Názov | E8: Mj | F8: Množstvo | G8: Montáž | H8: Materiál | I8: Cena celkom | P8: Hmotnosť | S8: Suť
D9: Práce HSV
D10: VODOROVNÉ KONŠTRUKCIE
B11: 12/A 2 | C11: 446122001 | D11: Montáž strešného výlezu na strechu | E11: kus | F11: 2 | I11: =ROUND(F11*(G11+H11),2) -> 0 | J11: =ROUND(F11*(N11),2) -> 63.66 | K11: =ROUND(F11*(O11),2) -> 0 | L11: =ROUND(F11*(G11),2) -> 0 | N11: 31.83 | P11: =ROUND(F11*(R11),3) -> 0.019 | R11: 0.00967 | Z11: 0
B12: S/S90 | C12: 6113908190 | D12: Strešný výlez pre strechy so sklonom 0-15, z viackomorových plastových profilov s nepriehľadným vekom, vonkajší uzáver, 600x800 mm, označenie 21 | E12: kus | F12: 2 | I12: =ROUND(F12*(G12+H12),2) -> 0 | J12: =ROUND(F12*(N12),2) -> 442.4 | K12: =ROUND(F12*(O12),2) -> 0 | M12: =ROUND(F12*(H12),2) -> 0 | N12: 221.2 | P12: =ROUND(F12*(R12),3) -> 0.03 | R12: 0.015 | Z12: 0
D13: VODOROVNÉ KONŠTRUKCIE | G13: =ROUND((SUM(L10:L12))/1,2) -> 0 | H13: =ROUND((SUM(M10:M12))/1,2) -> 0 | I13: =ROUND((SUM(I10:I12))/1,2) -> 0 | L13: =ROUND((SUM(L10:L12))/1,2) -> 0 | M13: =ROUND((SUM(M10:M12))/1,2) -> 0 | P13: =ROUND((SUM(P10:P12))/1,2) -> 0.05 | S13: =ROUND((SUM(S10:S12))/1,2) -> 0
D15: POVRCHOVÉ ÚPRAVY
B16: 11/A 1 | C16: 625250153 | D16: Zateplenie steny z tvrdeného polystyrénu hr. 50 mm - pre prilepenie PVC krytiny | E16: m2 | F16: 58.81288 | I16: =ROUND(F16*(G16+H16),2) -> 0 | J16: =ROUND(F16*(N16),2) -> 1426.21 | K16: =ROUND(F16*(O16),2) -> 0 | L16: =ROUND(F16*(G16),2) -> 0 | N16: 24.25 | P16: =ROUND(F16*(R16),3) -> 0.617 | R16: 0.01048775 | Z16: 0
D17: POVRCHOVÉ ÚPRAVY | G17: =ROUND((SUM(L15:L16))/1,2) -> 0 | H17: =ROUND((SUM(M15:M16))/1,2) -> 0 | I17: =ROUND((SUM(I15:I16))/1,2) -> 0 | L17: =ROUND((SUM(L15:L16))/1,2) -> 0 | M17: =ROUND((SUM(M15:M16))/1,2) -> 0 | P17: =ROUND((SUM(P15:P16))/1,2) -> 0.62 | S17: =ROUND((SUM(S15:S16))/1,2) -> 0
D19: OSTATNÉ PRÁCE
B20: 13/B 1 | C20: 965082930 | D20: Odstránenie násypu pod podlahami alebo na strechách,hr.do 200 mm -1,400 t | E20: m3 | F20: 158.11462 | I20: =ROUND(F20*(G20+H20),2) -> 0 | J20: =ROUND(F20*(N20),2) -> 1503.67 | K20: =ROUND(F20*(O20),2) -> 0 | L20: =ROUND(F20*(G20),2) -> 0 | N20: 9.51 | S20: =ROUND(F20*(X20),3) -> 221.36 | X20: 1.4 | Z20: 0
B21: 6/B 1 | C21: 98101111P | D21: Demolácia krovu postupným rozoberaním | E21: M3 | F21: 16.551 | I21: =ROUND(F21*(G21+H21),2) -> 0 | J21: =ROUND(F21*(N21),2) -> 31.78 | K21: =ROUND(F21*(O21),2) -> 0 | L21: =ROUND(F21*(G21),2) -> 0 | N21: 1.92 | S21: =ROUND(F21*(X21),3) -> 0.497 | X21: 0.03 | Z21: 0
B22: 11/A 1 | C22: 959941131 | D22: Chemická kotva s kotevnou závitovou tyčou dl. 300 mm, matica s podložkou, tesnená chemickou ampulkou do betónu, ŽB, kameňa, s vyvŕtaním otvoru M16/200 mm | E22: kus | F22: 6 | I22: =ROUND(F22*(G22+H22),2) -> 0 | J22: =ROUND(F22*(N22),2) -> 32.58 | K22: =ROUND(F22*(O22),2) -> 0 | L22: =ROUND(F22*(G22),2) -> 0 | N22: 5.43 | Z22: 0
B23: 11/A 1 | C23: 953943121 | D23: Osadenie drobných kovových predmetov do betónu pred zabetónovaním, hmotnosti do 1 kg/kus | E23: kus | F23: 12 | I23: =ROUND(F23*(G23+H23),2) -> 0 | J23: =ROUND(F23*(N23),2) -> 47.52 | K23: =ROUND(F23*(O23),2) -> 0 | L23: =ROUND(F23*(G23),2) -> 0 | N23: 3.96 | P23: =ROUND(F23*(R23),3) -> 0.001 | R23: 0.0001 | Z23: 0
B24: P/PC | C24: OK | D24: Dodávka oceľových konštrukcií vrátane povrchových úprav - dodávka uchytenia pomurnice | E24: kg | F24: 7.2 | I24: =ROUND(F24*(G24+H24),2) -> 0 | J24: =ROUND(F24*(N24),2) -> 14.26 | K24: =ROUND(F24*(O24),2) -> 0 | M24: =ROUND(F24*(H24),2) -> 0 | N24: 1.98 | P24: =ROUND(F24*(R24),3) -> 0.007 | R24: 0.001 | Z24: 0
D25: OSTATNÉ PRÁCE | G25: =ROUND((SUM(L19:L24))/1,2) -> 0 | H25: =ROUND((SUM(M19:M24))/1,2) -> 0 | I25: =ROUND((SUM(I19:I24))/1,2) -> 0 | L25: =ROUND((SUM(L19:L24))/1,2) -> 0 | M25: =ROUND((SUM(M19:M24))/1,2) -> 0 | P25: =ROUND((SUM(P19:P24))/1,2) -> 0.01 | S25: =ROUND((SUM(S19:S24))/1,2) -> 221.86
D27: PRESUNY HMÔT
B28: 14/C 1 | C28: 999281211 | D28: Presun hmôt pre opravy a údržbu vonkajších plášťov doterajších objektov výšky do 25 m | E28: t | F28: 0.67455478 | I28: =ROUND(F28*(G28+H28),2) -> 0 | J28: =ROUND(F28*(N28),2) -> 12.88 | K28: =ROUND(F28*(O28),2) -> 0 | L28: =ROUND(F28*(G28),2) -> 0 | N28: 19.09 | Z28: 0
D29: PRESUNY HMÔT | G29: =ROUND((SUM(L27:L28))/1,2) -> 0 | H29: =ROUND((SUM(M27:M28))/1,2) -> 0 | I29: =ROUND((SUM(I27:I28))/1,2) -> 0 | L29: =ROUND((SUM(L27:L28))/1,2) -> 0 | M29: =ROUND((SUM(M27:M28))/1,2) -> 0 | P29: =ROUND((SUM(P27:P28))/1,2) -> 0 | S29: =ROUND((SUM(S27:S28))/1,2) -> 0
D31: Práce HSV | G31: =ROUND((SUM(L9:L30))/2,2) -> 0 | H31: =ROUND((SUM(M9:M30))/2,2) -> 0 | I31: =ROUND((SUM(I9:I30))/2,2) -> 0 | L31: =ROUND((SUM(L9:L30))/2,2) -> 0 | M31: =ROUND((SUM(M9:M30))/2,2) -> 0 | P31: =ROUND((SUM(P9:P30))/2,2) -> 0.68 | S31: =ROUND((SUM(S9:S30))/2,2) -> 221.86
D33: Práce PSV
D34: POVLAKOVÉ KRYTINY
B35: 711/A 2 | C35: 712991040 | D35: Montáž podkladnej konštrukcie z OSB dosiek hr. 18 mm na atike šírky 411 -620 mm pod klampiarske konš | E35: m | F35: 138 | I35: =ROUND(F35*(G35+H35),2) -> 0 | J35: =ROUND(F35*(N35),2) -> 829.38 | K35: =ROUND(F35*(O35),2) -> 0 | L35: =ROUND(F35*(G35),2) -> 0 | N35: 6.01 | P35: =ROUND(F35*(R35),3) -> 0.004 | R35: 3e-05 | Z35: 0
B36: S/S80 | C36: 6072624800 | D36: Doska drevoštiepková OSB hr. 22 mm, vhodné do vlhkého prostredia | E36: m2 | F36: 91.08 | I36: =ROUND(F36*(G36+H36),2) -> 0 | J36: =ROUND(F36*(N36),2) -> 751.41 | K36: =ROUND(F36*(O36),2) -> 0 | M36: =ROUND(F36*(H36),2) -> 0 | N36: 8.25 | P36: =ROUND(F36*(R36),3) -> 1.166 | R36: 0.0128 | Z36: 0
B37: 711/A 2 | C37: 712997002 | D37: Montáž spádových vrstiev z tvrdeného polystyrému š. od 200 do 400 mm | E37: m | F37: 138 | I37: =ROUND(F37*(G37+H37),2) -> 0 | J37: =ROUND(F37*(N37),2) -> 154.56 | K37: =ROUND(F37*(O37),2) -> 0 | L37: =ROUND(F37*(G37),2) -> 0 | N37: 1.12 | Z37: 0
B38: P/PC | C38: MAT | D38: Spádová vrstva z extrudovaného polystyrénu pod K2, š. 350 mm | E38: m | F38: 138 | I38: =ROUND(F38*(G38+H38),2) -> 0 | J38: =ROUND(F38*(N38),2) -> 357.42 | K38: =ROUND(F38*(O38),2) -> 0 | M38: =ROUND(F38*(H38),2) -> 0 | N38: 2.59 | Z38: 0
B39: 711/A 2 | C39: 712370360 | D39: Zhotovenie povlakovej krytiny striech plochých do 10° fóliou PVC mechanicky kotvená a tepelne spájaná s vytiahnutím, vrátane doplnkov | E39: m2 | F39: 1146.729 | I39: =ROUND(F39*(G39+H39),2) -> 0 | J39: =ROUND(F39*(N39),2) -> 8313.79 | K39: =ROUND(F39*(O39),2) -> 0 | L39: =ROUND(F39*(G39),2) -> 0 | N39: 7.25 | P39: =ROUND(F39*(R39),3) -> 0.711 | R39: 0.00062 | Z39: 0
B40: S/S20 | C40: 2833000120 | D40: PVC-P hydroizolačná fólia, vystužená polyesterovou mriežkou hr. 1,5 mm, obj. hmotnosti 3,2 kg/m2, tepelná odolnosť -30 až +80 st., svetlošedá, odolná voči UV žiareniu, vrátane doplnkov | E40: m2 | F40: 1318.7383 | I40: =ROUND(F40*(G40+H40),2) -> 0 | J40: =ROUND(F40*(N40),2) -> 14835.81 | K40: =ROUND(F40*(O40),2) -> 0 | M40: =ROUND(F40*(H40),2) -> 0 | N40: 11.25 | P40: =ROUND(F40*(R40),3) -> 2.901 | R40: 0.0022 | Z40: 0
B41: 711/A 2 | C41: 712391171 | D41: Zhotov. povlak. krytiny striech plochých a šikmýchdo 30° ostatné z ochrannej textílie podklad.vrstvy | E41: m2 | F41: 1146.729 | I41: =ROUND(F41*(G41+H41),2) -> 0 | J41: =ROUND(F41*(N41),2) -> 1433.41 | K41: =ROUND(F41*(O41),2) -> 0 | L41: =ROUND(F41*(G41),2) -> 0 | N41: 1.25 | Z41: 0
B42: S/S90 | C42: 6936654900 | D42: Separačná geotextília so zvýšenou požiarnou odolnosťou, obj. hmotnosti 300 g/m2 | E42: m2 | F42: 1318.738 | I42: =ROUND(F42*(G42+H42),2) -> 0 | J42: =ROUND(F42*(N42),2) -> 1160.49 | K42: =ROUND(F42*(O42),2) -> 0 | M42: =ROUND(F42*(H42),2) -> 0 | N42: 0.88 | P42: =ROUND(F42*(R42),3) -> 0.396 | R42: 0.0003 | Z42: 0
B43: 711/A 2 | C43: 998712102 | D43: Presun hmôt pre izoláciu povlakovej krytiny v objektoch výšky nad 6 do 12 m | E43: t | F43: 5.1777817 | I43: =ROUND(F43*(G43+H43),2) -> 0 | J43: =ROUND(F43*(N43),2) -> 158.08 | K43: =ROUND(F43*(O43),2) -> 0 | L43: =ROUND(F43*(G43),2) -> 0 | N43: 30.53 | Z43: 0
D44: POVLAKOVÉ KRYTINY | G44: =ROUND((SUM(L34:L43))/1,2) -> 0 | H44: =ROUND((SUM(M34:M43))/1,2) -> 0 | I44: =ROUND((SUM(I34:I43))/1,2) -> 0 | L44: =ROUND((SUM(L34:L43))/1,2) -> 0 | M44: =ROUND((SUM(M34:M43))/1,2) -> 0 | P44: =ROUND((SUM(P34:P43))/1,2) -> 5.18 | S44: =ROUND((SUM(S34:S43))/1,2) -> 0
D46: IZOLÁCIE TEPELNÉ BEŽNÝCH STAVEB. KONŠTRUKCIÍ
B47: 713/A 1 | C47: 713191127 | D47: Montáž parozábrany vrchom s vytiahnutím na d stenu do výšky 500 mm | E47: m2 | F47: 991.7727 | I47: =ROUND(F47*(G47+H47),2) -> 0 | J47: =ROUND(F47*(N47),2) -> 942.18 | K47: =ROUND(F47*(O47),2) -> 0 | L47: =ROUND(F47*(G47),2) -> 0 | N47: 0.95 | Z47: 0
B48: S/S20 | C48: 2830010400 | D48: Parozábrana - fólia PE | E48: m2 | F48: 1140.5389 | I48: =ROUND(F48*(G48+H48),2) -> 0 | J48: =ROUND(F48*(N48),2) -> 1140.54 | K48: =ROUND(F48*(O48),2) -> 0 | M48: =ROUND(F48*(H48),2) -> 0 | N48: 1 | P48: =ROUND(F48*(R48),3) -> 0.023 | R48: 2e-05 | Z48: 0
B49: 713/A 1 | C49: 713111111 | D49: Montáž tepelnej izolácie rohožami,pásmi,dielcami,doskami stropov, vrchom - klad. voľne | E49: m2 | F49: 1983.546 | I49: =ROUND(F49*(G49+H49),2) -> 0 | J49: =ROUND(F49*(N49),2) -> 2221.57 | K49: =ROUND(F49*(O49),2) -> 0 | L49: =ROUND(F49*(G49),2) -> 0 | N49: 1.12 | Z49: 0
B50: S/S90 | C50: 6314150080 | D50: Tepelná izolácia doska z minerálnej vlny hr. 150 mm, objemová hmotnosť 50 kg/m3, lamdaD=0,037 W/mK | E50: m2 | F50: 2023.2169 | I50: =ROUND(F50*(G50+H50),2) -> 0 | J50: =ROUND(F50*(N50),2) -> 15882.25 | K50: =ROUND(F50*(O50),2) -> 0 | M50: =ROUND(F50*(H50),2) -> 0 | N50: 7.85 | P50: =ROUND(F50*(R50),3) -> 9.104 | R50: 0.0045 | Z50: 0
B51: 713/A 1 | C51: 713161510 | D51: Montáž tepelnej izolácie do podkrovia medzi a pod krokvy kladená voľne hr. nad 10 cm | E51: m2 | F51: 16.728 | I51: =ROUND(F51*(G51+H51),2) -> 0 | J51: =ROUND(F51*(N51),2) -> 84.81 | K51: =ROUND(F51*(O51),2) -> 0 | L51: =ROUND(F51*(G51),2) -> 0 | N51: 5.07 | Z51: 0
B52: S/S90 | C52: 6314150110 | D52: Tepelná izolácia doska z minerálnej vlny hr. 200 mm, objemová hmotnosť 50 kg/m3, lamdaD=0,037 W/mK | E52: m2 | F52: 17.06256 | I52: =ROUND(F52*(G52+H52),2) -> 0 | J52: =ROUND(F52*(N52),2) -> 174.89 | K52: =ROUND(F52*(O52),2) -> 0 | M52: =ROUND(F52*(H52),2) -> 0 | N52: 10.25 | P52: =ROUND(F52*(R52),3) -> 0.102 | R52: 0.006 | Z52: 0
B53: 713/A 5 | C53: 998713102 | D53: Presun hmôt pre izolácie tepelné v objektoch výšky nad 6 m do 12 m | E53: t | F53: 9.2296623 | I53: =ROUND(F53*(G53+H53),2) -> 0 | J53: =ROUND(F53*(N53),2) -> 275.6 | K53: =ROUND(F53*(O53),2) -> 0 | L53: =ROUND(F53*(G53),2) -> 0 | N53: 29.86 | Z53: 0
D54: IZOLÁCIE TEPELNÉ BEŽNÝCH STAVEB. KONŠTRUKCIÍ | G54: =ROUND((SUM(L46:L53))/1,2) -> 0 | H54: =ROUND((SUM(M46:M53))/1,2) -> 0 | I54: =ROUND((SUM(I46:I53))/1,2) -> 0 | L54: =ROUND((SUM(L46:L53))/1,2) -> 0 | M54: =ROUND((SUM(M46:M53))/1,2) -> 0 | P54: =ROUND((SUM(P46:P53))/1,2) -> 9.23 | S54: =ROUND((SUM(S46:S53))/1,2) -> 0
D56: ZTI-VNÚTORNA KANALIZÁCIA
B57: 721/B 1 | C57: 721140802 | D57: Demontáž potrubia z liatinových rúr odpadového alebo dažďového do DN 100 0,01492t | E57: m | F57: 7 | I57: =ROUND(F57*(G57+H57),2) -> 0 | J57: =ROUND(F57*(N57),2) -> 31.57 | K57: =ROUND(F57*(O57),2) -> 0 | L57: =ROUND(F57*(G57),2) -> 0 | N57: 4.51 | S57: =ROUND(F57*(X57),3) -> 0.104 | X57: 0.01492 | Z57: 0
B58: R/R 0 | C58: 721140992.1 | D58: Montáž potrubia z liatinových rúr okapového systému s odklonením od fasády o 200 mm | E58: m | F58: 7 | I58: =ROUND(F58*(G58+H58),2) -> 0 | J58: =ROUND(F58*(N58),2) -> 22.75 | K58: =ROUND(F58*(O58),2) -> 0 | L58: =ROUND(F58*(G58),2) -> 0 | N58: 3.25 | Z58: 0
B59: 721/A 1 | C59: 721211303 | D59: Vetracia hlavica na odvetranie kanalizačného zvodu DN150 mm, s integr. PVC manžetou 500x500 mm, existujúci liatin. zvod predĺžiť o potrebnú hrúbku s redukciou na PVC hlav., dažď. krytka, farba šedá, výška nad PVC fóliou 300 mm, označenia K12 | E59: ks | F59: 5 | I59: =ROUND(F59*(G59+H59),2) -> 0 | J59: =ROUND(F59*(N59),2) -> 310.5 | K59: =ROUND(F59*(O59),2) -> 0 | L59: =ROUND(F59*(G59),2) -> 0 | N59: 62.1 | P59: =ROUND(F59*(R59),3) -> 0.161 | R59: 0.0322282 | Z59: 0
D60: ZTI-VNÚTORNA KANALIZÁCIA | G60: =ROUND((SUM(L56:L59))/1,2) -> 0 | H60: =ROUND((SUM(M56:M59))/1,2) -> 0 | I60: =ROUND((SUM(I56:I59))/1,2) -> 0 | L60: =ROUND((SUM(L56:L59))/1,2) -> 0 | M60: =ROUND((SUM(M56:M59))/1,2) -> 0 | P60: =ROUND((SUM(P56:P59))/1,2) -> 0.16 | S60: =ROUND((SUM(S56:S59))/1,2) -> 0.1
D62: KONŠTRUKCIE TESÁRSKE
B63: 762/A 1 | C63: 762342210 | D63: Montáž latovania - kontralaty rozpon 80-120 cm | E63: m2 | F63: 1005.116 | I63: =ROUND(F63*(G63+H63),2) -> 0 | J63: =ROUND(F63*(N63),2) -> 1266.45 | K63: =ROUND(F63*(O63),2) -> 0 | L63: =ROUND(F63*(G63),2) -> 0 | N63: 1.26 | Z63: 0
B64: S/S80 | C64: 6053341100 | D64: Laty opracované SM/JD akosť II do 25cm2 | E64: M3 | F64: 0.22572 | I64: =ROUND(F64*(G64+H64),2) -> 0 | J64: =ROUND(F64*(N64),2) -> 58.41 | K64: =ROUND(F64*(O64),2) -> 0 | M64: =ROUND(F64*(H64),2) -> 0 | N64: 258.78 | P64: =ROUND(F64*(R64),3) -> 0.124 | R64: 0.55 | Z64: 0
B65: 762/A 1 | C65: 762342203 | D65: Montáž latovania pri vzdialenosti lát 220-400 mm | E65: m2 | F65: 959.198 | I65: =ROUND(F65*(G65+H65),2) -> 0 | J65: =ROUND(F65*(N65),2) -> 1390.84 | K65: =ROUND(F65*(O65),2) -> 0 | L65: =ROUND(F65*(G65),2) -> 0 | N65: 1.45 | Z65: 0
B66: S/S80 | C66: 6051501000 | D66: Hranolček smrekový 1, pomocné laťovanie pod S1 | E66: m3 | F66: 12.661414 | I66: =ROUND(F66*(G66+H66),2) -> 0 | J66: =ROUND(F66*(N66),2) -> 2544.94 | K66: =ROUND(F66*(O66),2) -> 0 | M66: =ROUND(F66*(H66),2) -> 0 | N66: 201 | P66: =ROUND(F66*(R66),3) -> 6.964 | R66: 0.55 | Z66: 0
B67: 762/A 1 | C67: 762810026 | D67: Debnenie stropov z dosiek OSB (vhodných do vlhkého prostredia) skrutkovaných na trámy na pero a drážku hr. dosky 22 mm | E67: m2 | F67: 1005.116 | I67: =ROUND(F67*(G67+H67),2) -> 0 | J67: =ROUND(F67*(N67),2) -> 12312.67 | K67: =ROUND(F67*(O67),2) -> 0 | L67: =ROUND(F67*(G67),2) -> 0 | N67: 12.25 | P67: =ROUND(F67*(R67),3) -> 14.272 | R67: 0.014199 | Z67: 0
B68: 762/A 1 | C68: 762332110 | D68: Montáž viazaných konštrukcií krovov striech z reziva priemernej plochy do 120 cm2 | E68: m | F68: 85.5 | I68: =ROUND(F68*(G68+H68),2) -> 0 | J68: =ROUND(F68*(N68),2) -> 403.56 | K68: =ROUND(F68*(O68),2) -> 0 | L68: =ROUND(F68*(G68),2) -> 0 | N68: 4.72 | P68: =ROUND(F68*(R68),3) -> 0.085 | R68: 0.00099 | Z68: 0
B69: 762/A 1 | C69: 762332120 | D69: Montáž viazaných konštrukcií krovov striech z reziva priemernej plochy 120-224 cm2 | E69: m | F69: 6 | I69: =ROUND(F69*(G69+H69),2) -> 0 | J69: =ROUND(F69*(N69),2) -> 36.9 | K69: =ROUND(F69*(O69),2) -> 0 | L69: =ROUND(F69*(G69),2) -> 0 | N69: 6.15 | P69: =ROUND(F69*(R69),3) -> 0.006 | R69: 0.00099 | Z69: 0
B70: S/S80 | C70: 6051590000 | D70: Hranol mäkké rezivo - omietané smrekovec hranol akosť I - na krov | E70: m3 | F70: 1.53648 | I70: =ROUND(F70*(G70+H70),2) -> 0 | J70: =ROUND(F70*(N70),2) -> 250.69 | K70: =ROUND(F70*(O70),2) -> 0 | M70: =ROUND(F70*(H70),2) -> 0 | N70: 163.16 | P70: =ROUND(F70*(R70),3) -> 0.845 | R70: 0.55 | Z70: 0
B71: 762/A 1 | C71: 762332130 | D71: Montáž viazaných konštrukcií krovov striech z reziva priemernej plochy 224-288 cm2 | E71: m | F71: 18 | I71: =ROUND(F71*(G71+H71),2) -> 0 | J71: =ROUND(F71*(N71),2) -> 154.62 | K71: =ROUND(F71*(O71),2) -> 0 | L71: =ROUND(F71*(G71),2) -> 0 | N71: 8.59 | P71: =ROUND(F71*(R71),3) -> 0.018 | R71: 0.00099 | Z71: 0
B72: 762/A 1 | C72: 762332140 | D72: Montáž viazaných konštrukcií krovov striech z reziva priemernej plochy nad 288 cm2 | E72: m | F72: 0.52 | I72: =ROUND(F72*(G72+H72),2) -> 0 | J72: =ROUND(F72*(N72),2) -> 4.85 | K72: =ROUND(F72*(O72),2) -> 0 | L72: =ROUND(F72*(G72),2) -> 0 | N72: 9.32 | P72: =ROUND(F72*(R72),3) -> 0.001 | R72: 0.00099 | Z72: 0
B73: 762/A 1 | C73: 762395000 | D73: Spojovacie a ochranné prostriedky svorky, dosky, klince, pásová oceľ, vruty, impregnácia | E73: m3 | F73: 38.746807 | I73: =ROUND(F73*(G73+H73),2) -> 0 | J73: =ROUND(F73*(N73),2) -> 1098.08 | K73: =ROUND(F73*(O73),2) -> 0 | L73: =ROUND(F73*(G73),2) -> 0 | N73: 28.34 | P73: =ROUND(F73*(R73),3) -> 0.912 | R73: 0.02355 | Z73: 0
B74: 762/C 1 | C74: 762341922 | D74: Debnenie a latovanie striech vyrezanie otvorov v debnení z dosiek do hr. 32 mm plochy otvoru do 4m2 -0,01700t, spätna montáž | E74: m2 | F74: 250 | I74: =ROUND(F74*(G74+H74),2) -> 0 | J74: =ROUND(F74*(N74),2) -> 2357.5 | K74: =ROUND(F74*(O74),2) -> 0 | L74: =ROUND(F74*(G74),2) -> 0 | N74: 9.43 | P74: =ROUND(F74*(R74),3) -> 0.041 | R74: 0.000165024 | Z74: 0
B75: 762/A 1 | C75: 998762102 | D75: Presun hmôt pre konštrukcie tesárske v objektoch výšky do 12 m | E75: t | F75: 23.267293 | I75: =ROUND(F75*(G75+H75),2) -> 0 | J75: =ROUND(F75*(N75),2) -> 1027.02 | K75: =ROUND(F75*(O75),2) -> 0 | L75: =ROUND(F75*(G75),2) -> 0 | N75: 44.14 | Z75: 0
D76: KONŠTRUKCIE TESÁRSKE | G76: =ROUND((SUM(L62:L75))/1,2) -> 0 | H76: =ROUND((SUM(M62:M75))/1,2) -> 0 | I76: =ROUND((SUM(I62:I75))/1,2) -> 0 | L76: =ROUND((SUM(L62:L75))/1,2) -> 0 | M76: =ROUND((SUM(M62:M75))/1,2) -> 0 | P76: =ROUND((SUM(P62:P75))/1,2) -> 23.27 | S76: =ROUND((SUM(S62:S75))/1,2) -> 0
D78: KONŠTRUKCIE KLAMPIARSKE
B79: 764/B 1 | C79: 764311822 | D79: Demontáž krytiny hladkej strešnej z tabúľ , so sklonom do 30° 0,00732t | E79: m2 | F79: 989.15808 | I79: =ROUND(F79*(G79+H79),2) -> 0 | J79: =ROUND(F79*(N79),2) -> 989.16 | K79: =ROUND(F79*(O79),2) -> 0 | L79: =ROUND(F79*(G79),2) -> 0 | N79: 1 | S79: =ROUND(F79*(X79),3) -> 7.241 | X79: 0.00732 | Z79: 0
B80: 764/B 1 | C80: 764430840 | D80: Demontáž oplechovania múrov a nadmuroviek rš od 330 do 500 mm 0,00230t | E80: m | F80: 18.89 | I80: =ROUND(F80*(G80+H80),2) -> 0 | J80: =ROUND(F80*(N80),2) -> 18.7 | K80: =ROUND(F80*(O80),2) -> 0 | L80: =ROUND(F80*(G80),2) -> 0 | N80: 0.99 | S80: =ROUND(F80*(X80),3) -> 0.043 | X80: 0.0023 | Z80: 0
B81: 764/B 1 | C81: 764430850 | D81: Demontáž oplechovania múrov a nadmuroviek rš 600 mm 0,00337t | E81: m | F81: 126.43 | I81: =ROUND(F81*(G81+H81),2) -> 0 | J81: =ROUND(F81*(N81),2) -> 139.07 | K81: =ROUND(F81*(O81),2) -> 0 | L81: =ROUND(F81*(G81),2) -> 0 | N81: 1.1 | S81: =ROUND(F81*(X81),3) -> 0.426 | X81: 0.00337 | Z81: 0
B82: 764/B 1 | C82: 764351836 | D82: Demontáž háka so sklonom žľabu do 30° 0,00009t | E82: kus | F82: 90 | I82: =ROUND(F82*(G82+H82),2) -> 0 | J82: =ROUND(F82*(N82),2) -> 48.6 | K82: =ROUND(F82*(O82),2) -> 0 | L82: =ROUND(F82*(G82),2) -> 0 | N82: 0.54 | S82: =ROUND(F82*(X82),3) -> 0.008 | X82: 9e-05 | Z82: 0
B83: 764/B 1 | C83: 764352810 | D83: Demontáž žľabov pododkvapových polkruhových so sklonom do 30° rš 330 mm 0,0033t | E83: m | F83: 80.61 | I83: =ROUND(F83*(G83+H83),2) -> 0 | J83: =ROUND(F83*(N83),2) -> 60.46 | K83: =ROUND(F83*(O83),2) -> 0 | L83: =ROUND(F83*(G83),2) -> 0 | N83: 0.75 | S83: =ROUND(F83*(X83),3) -> 0.271 | X83: 0.00336 | Z83: 0
B84: 764/B 1 | C84: 764359810 | D84: Demontáž kotlíka kónického, so sklonom žľabu do 30° 0,0011t | E84: kus | F84: 7 | I84: =ROUND(F84*(G84+H84),2) -> 0 | J84: =ROUND(F84*(N84),2) -> 7 | K84: =ROUND(F84*(O84),2) -> 0 | L84: =ROUND(F84*(G84),2) -> 0 | N84: 1 | S84: =ROUND(F84*(X84),3) -> 0.008 | X84: 0.00115 | Z84: 0
B85: 764/B 1 | C85: 764454801 | D85: Demontáž odpadových rúr kruhových, s priemerom 75 a 100 mm 0,00226t | E85: m | F85: 45.5 | I85: =ROUND(F85*(G85+H85),2) -> 0 | J85: =ROUND(F85*(N85),2) -> 28.67 | K85: =ROUND(F85*(O85),2) -> 0 | L85: =ROUND(F85*(G85),2) -> 0 | N85: 0.63 | S85: =ROUND(F85*(X85),3) -> 0.103 | X85: 0.00226 | Z85: 0
B86: 764/A 4 | C86: 764730460 | D86: Oplechovanie atiky po zateplení z poplastovaného plechu hr. 0,75 mm, rš. 800 mm, označenie K2 | E86: M | F86: 138 | I86: =ROUND(F86*(G86+H86),2) -> 0 | J86: =ROUND(F86*(N86),2) -> 2691 | K86: =ROUND(F86*(O86),2) -> 0 | L86: =ROUND(F86*(G86),2) -> 0 | N86: 19.5 | P86: =ROUND(F86*(R86),3) -> 0.511 | R86: 0.0037 | Z86: 0
B87: 764/A 6 | C87: 764352300 | D87: Žľaby z poplastovaného plechu hr. 0,6 mm, rš 330 mm, označenie K3, K5, K6 | E87: m | F87: 86 | I87: =ROUND(F87*(G87+H87),2) -> 0 | J87: =ROUND(F87*(N87),2) -> 1212.6 | K87: =ROUND(F87*(O87),2) -> 0 | L87: =ROUND(F87*(G87),2) -> 0 | N87: 14.1 | P87: =ROUND(F87*(R87),3) -> 0.232 | R87: 0.0027 | Z87: 0
B88: 764/A 6 | C88: 764359221 | D88: Žľabový kotlík z poplastovaného plechu hr. 0,6 mm, priemeru 160/100mm, označenie K4 | E88: kus | F88: 7 | I88: =ROUND(F88*(G88+H88),2) -> 0 | J88: =ROUND(F88*(N88),2) -> 80.57 | K88: =ROUND(F88*(O88),2) -> 0 | L88: =ROUND(F88*(G88),2) -> 0 | N88: 11.51 | P88: =ROUND(F88*(R88),3) -> 0.007 | R88: 0.001 | Z88: 0
B89: 764/A 6 | C89: 764454212 | D89: Odpadové rúry z poplastovaného plechu hr. 0,6 mm, rš. 330mm, D100mm, označenie K7, K8, K9 | E89: m | F89: 40 | I89: =ROUND(F89*(G89+H89),2) -> 0 | J89: =ROUND(F89*(N89),2) -> 615.6 | K89: =ROUND(F89*(O89),2) -> 0 | L89: =ROUND(F89*(G89),2) -> 0 | N89: 15.39 | P89: =ROUND(F89*(R89),3) -> 0.108 | R89: 0.00269 | Z89: 0
B90: 764/A 6 | C90: 764172073 | D90: Oplechovanie okapu z poplastovaného plechu hr. 0,6 mm rš. 330 mm, označenie K10 | E90: m | F90: 166 | I90: =ROUND(F90*(G90+H90),2) -> 0 | J90: =ROUND(F90*(N90),2) -> 1044.14 | K90: =ROUND(F90*(O90),2) -> 0 | L90: =ROUND(F90*(G90),2) -> 0 | N90: 6.29 | P90: =ROUND(F90*(R90),3) -> 0.101 | R90: 0.00061 | Z90: 0
B91: 764/A 7 | C91: 998764102 | D91: Presun hmôt pre konštrukcie klampiarske v objektoch výšky nad 6 do 12 m | E91: t | F91: 0.95866 | I91: =ROUND(F91*(G91+H91),2) -> 0 | J91: =ROUND(F91*(N91),2) -> 52.52 | K91: =ROUND(F91*(O91),2) -> 0 | L91: =ROUND(F91*(G91),2) -> 0 | N91: 54.78 | Z91: 0
D92: KONŠTRUKCIE KLAMPIARSKE | G92: =ROUND((SUM(L78:L91))/1,2) -> 0 | H92: =ROUND((SUM(M78:M91))/1,2) -> 0 | I92: =ROUND((SUM(I78:I91))/1,2) -> 0 | L92: =ROUND((SUM(L78:L91))/1,2) -> 0 | M92: =ROUND((SUM(M78:M91))/1,2) -> 0 | P92: =ROUND((SUM(P78:P91))/1,2) -> 0.96 | S92: =ROUND((SUM(S78:S91))/1,2) -> 8.1
D94: KRYTINY TVRDÉ
B95: 765/A 1 | C95: 765901321 | D95: Pokrytie strechy fóliou vysokodifúznou (paropriepustnou), hydroizolačnou, poistnou PE fóliou | E95: m2 | F95: 1005.1799 | I95: =ROUND(F95*(G95+H95),2) -> 0 | J95: =ROUND(F95*(N95),2) -> 3970.46 | K95: =ROUND(F95*(O95),2) -> 0 | L95: =ROUND(F95*(G95),2) -> 0 | N95: 3.95 | P95: =ROUND(F95*(R95),3) -> 0.221 | R95: 0.00022 | Z95: 0
B96: 765/A 1 | C96: 998765102 | D96: Presun hmôt pre tvrdé krytiny v objektoch výšky nad 6 do 12 m | E96: t | F96: 0.22113958 | I96: =ROUND(F96*(G96+H96),2) -> 0 | J96: =ROUND(F96*(N96),2) -> 7.04 | K96: =ROUND(F96*(O96),2) -> 0 | L96: =ROUND(F96*(G96),2) -> 0 | N96: 31.84 | Z96: 0
D97: KRYTINY TVRDÉ | G97: =ROUND((SUM(L94:L96))/1,2) -> 0 | H97: =ROUND((SUM(M94:M96))/1,2) -> 0 | I97: =ROUND((SUM(I94:I96))/1,2) -> 0 | L97: =ROUND((SUM(L94:L96))/1,2) -> 0 | M97: =ROUND((SUM(M94:M96))/1,2) -> 0 | P97: =ROUND((SUM(P94:P96))/1,2) -> 0.22 | S97: =ROUND((SUM(S94:S96))/1,2) -> 0
D99: KOVOVÉ DOPLNKOVÉ KONŠTRUKCIE
B100: 767/A 1 | C100: 767591221 | D100: Montáž mriežky | E100: kus | F100: 1 | I100: =ROUND(F100*(G100+H100),2) -> 0 | J100: =ROUND(F100*(N100),2) -> 2.56 | K100: =ROUND(F100*(O100),2) -> 0 | L100: =ROUND(F100*(G100),2) -> 0 | N100: 2.56 | P100: =ROUND(F100*(R100),3) -> 0 | R100: 3e-05 | Z100: 0
B101: S/S50 | C101: 5534371553 | D101: Mriežka z hliníkového plechu 400x400 mm, opatrená bielo práškovou vypaľovacou farbou, označenie K11 | E101: kus | F101: 1 | I101: =ROUND(F101*(G101+H101),2) -> 0 | J101: =ROUND(F101*(N101),2) -> 17.65 | K101: =ROUND(F101*(O101),2) -> 0 | M101: =ROUND(F101*(H101),2) -> 0 | N101: 17.65 | P101: =ROUND(F101*(R101),3) -> 0.001 | R101: 0.0007 | Z101: 0
B102: 767/A 3 | C102: 998767102 | D102: Presun hmôt pre kovové stavebné doplnkové konštrukcie v objektoch výšky nad 6 do 12 m | E102: t | F102: 0.00073 | I102: =ROUND(F102*(G102+H102),2) -> 0 | J102: =ROUND(F102*(N102),2) -> 0.03 | K102: =ROUND(F102*(O102),2) -> 0 | L102: =ROUND(F102*(G102),2) -> 0 | N102: 38.71 | Z102: 0
D103: KOVOVÉ DOPLNKOVÉ KONŠTRUKCIE | G103: =ROUND((SUM(L99:L102))/1,2) -> 0 | H103: =ROUND((SUM(M99:M102))/1,2) -> 0 | I103: =ROUND((SUM(I99:I102))/1,2) -> 0 | L103: =ROUND((SUM(L99:L102))/1,2) -> 0 | M103: =ROUND((SUM(M99:M102))/1,2) -> 0 | P103: =ROUND((SUM(P99:P102))/1,2) -> 0 | S103: =ROUND((SUM(S99:S102))/1,2) -> 0
D105: Práce PSV | G105: =ROUND((SUM(L33:L104))/2,2) -> 0 | H105: =ROUND((SUM(M33:M104))/2,2) -> 0 | I105: =ROUND((SUM(I33:I104))/2,2) -> 0 | L105: =ROUND((SUM(L33:L104))/2,2) -> 0 | M105: =ROUND((SUM(M33:M104))/2,2) -> 0 | P105: =ROUND((SUM(P33:P104))/2,2) -> 39.02 | S105: =ROUND((SUM(S33:S104))/2,2) -> 8.2
B106: Zateplenie strešného plášťa | F106: Celkom | G106: =ROUND((SUM(L9:L105))/3,2) -> 0 | H106: =ROUND((SUM(M9:M105))/3,2) -> 0 | I106: =ROUND((SUM(I9:I105))/3,2) -> 0 | K106: =ROUND((SUM(K9:K105)),2) -> 0 | L106: =ROUND((SUM(L9:L105))/3,2) -> 0 | M106: =ROUND((SUM(M9:M105))/3,2) -> 0 | P106: =ROUND((SUM(P9:P105))/3,2) -> 39.7 | S106: =ROUND((SUM(S9:S105))/3,2) -> 230.06 | Z106: =(SUM(Z9:Z105)) -> 0

Sheet Kryci_list 11561
F1: Krycí list rozpočtu | W1: 30.126
B2: Stavba Zvyšenie energetickej hospodárnosti Materskej školy Vyšný Žipov | G2: Miesto:
B3: Objekt Ostatné práce
I4: Ks:
B5: Zákazka: | F5: Spracoval: | I5: Dňa | J5: 25.03.2017
B6: Odberateľ: Obec Vyšný Žipov | G6: IČO:
G7: DIČ:
B8: Dodávateľ: Ing. arch. Ľubomír Naňák | G8: IČO:
G9: DIČ:
B10: Projektant: | G10: IČO:
G11: DIČ:
B15: A | C15: ZRN | D15: Montáž | E15: Materiál | F15: ZRN spolu | G15: B | H15: Ďalšie náklady
B16: 1 | C16: HSV | D16: ='Rekap 11561'!B18 -> 0 | E16: ='Rekap 11561'!C18 -> 0 | F16: ='Rekap 11561'!D18 -> 0 | G16: 6 | H16: Ostatné náklady | J16: 0
B17: 2 | C17: PSV | D17: ='Rekap 11561'!B32 -> 0 | E17: ='Rekap 11561'!C32 -> 0 | F17: ='Rekap 11561'!D32 -> 0 | G17: 7 | H17: Kompletačná činnosť | J17: ='SO 11561'!Z170 -> 0
B18: 3 | C18: MONT | D18: ='Rekap 11561'!B37 -> 0 | E18: ='Rekap 11561'!C37 -> 0 | F18: ='Rekap 11561'!D37 -> 0 | G18: 8 | H18: HZS | J18: 0
B19: 4 | G19: 9
B20: 5 | C20: Spolu | F20: =SUM(F16:F19) -> 0 | G20: 10 | H20: Spolu | J20: =SUM(J16:J19) -> 0
B21: C | C21: VRN | G21: D | H21: VRN
B22: 11 | C22: Zariadenie staveniska | E22: 0% z [H+P+M] | F22: =((F16*U22*0)+(F17*V22*0)+(F18*W22*0))/100 -> 0 | G22: 16 | H22: Mimoriadne sťaž.podmienky | I22: 0% z [H+P+M] | J22: =((F16*X22*0)+(F17*Y22*0)+(F18*Z22*0))/100 -> 0 | U22: 1 | V22: 1 | W22: 1 | X22: 1 | Y22: 1 | Z22: 1
B23: 12 | C23: Územie so sťaž. podmienk. | E23: 0% z [H+P] | F23: =((F16*U23*0)+(F17*V23*0)+(F18*W23*0))/100 -> 0 | G23: 17 | H23: Horské oblasti | I23: 0% z [H+P+M] | J23: =((F16*X23*0)+(F17*Y23*0)+(F18*Z23*0))/100 -> 0 | U23: 1 | V23: 1 | W23: 0 | X23: 1 | Y23: 1 | Z23: 1
B24: 13 | C24: Prevádzkové vplyvy | E24: 0% z [H+P+M] | F24: =((F16*U24*0)+(F17*V24*0)+(F18*W24*0))/100 -> 0 | G24: 18 | H24: Mimostavenisková doprava | I24: 0% z [H+P] | J24: =((F16*X24*0)+(F17*Y24*0)+(F18*Z24*0))/100 -> 0 | U24: 1 | V24: 1 | W24: 1 | X24: 1 | Y24: 1 | Z24: 0
B25: 14 | G25: 19
B26: 15 | G26: 20 | H26: Spolu | J26: =SUM(J22:J25)+SUM(F22:F25) -> 0
C27: Projektant,rozpočtár | G27: E | H27: Celkové náklady
G28: 21 | H28: Súčet riadkov 5,10,15,20 | J28: =F20+J20+F26+J26 -> 0
G29: 22 | H29: DPH 20% z | I29: =J28-SUM('SO 11561'!K9:'SO 11561'!K169) -> 0 | J29: =ROUND(((ROUND(I29,2)*20)*1/100),2) -> 0
G30: 23 | H30: DPH 0% z | I30: =SUM('SO 11561'!K9:'SO 11561'!K169) -> 0 | J30: =ROUND(((ROUND(I30,2)*0)/100),2) -> 0
G31: 24 | H31: Spolu | J31: =SUM(J28:J30) -> 0
G32: F
D33: Odberateľ | G33: 26 | H33: Dodávateľ

Sheet Rekap 11561
A1: Odberateľ: Obec Vyšný Žipov | D1: Spracoval: | W1: 30.126
A2: Projektant: | D2: Ks:
A3: Dodávateľ: Ing. arch. Ľubomír Naňák | D3: Dátum: 25.03.2017
A4: Stavba Zvyšenie energetickej hospodárnosti Materskej školy Vyšný Žipov
A5: Objekt Ostatné práce
A8: Prehľad rozpočtových nákladov
A9: Oddiel | B9: Montáž | C9: Materiál | D9: Spolu | E9: Hmotnosť (T) | F9: Suť (T)
A10: Práce HSV
A11: ZEMNÉ PRÁCE | B11: ='SO 11561'!L18 -> 0 | C11: ='SO 11561'!M18 -> 0 | D11: ='SO 11561'!I18 -> 0 | E11: ='SO 11561'!P18 -> 0 | F11: ='SO 11561'!S18 -> 0
A12: ZÁKLADY | B12: ='SO 11561'!L25 -> 0 | C12: ='SO 11561'!M25 -> 0 | D12: ='SO 11561'!I25 -> 0 | E12: ='SO 11561'!P25 -> 9.62 | F12: ='SO 11561'!S25 -> 0
A13: ZVISLÉ KONŠTRUKCIE | B13: ='SO 11561'!L29 -> 0 | C13: ='SO 11561'!M29 -> 0 | D13: ='SO 11561'!I29 -> 0 | E13: ='SO 11561'!P29 -> 0.29 | F13: ='SO 11561'!S29 -> 0
A14: VODOROVNÉ KONŠTRUKCIE | B14: ='SO 11561'!L42 -> 0 | C14: ='SO 11561'!M42 -> 0 | D14: ='SO 11561'!I42 -> 0 | E14: ='SO 11561'!P42 -> 1.71 | F14: ='SO 11561'!S42 -> 0
A15: POVRCHOVÉ ÚPRAVY | B15: ='SO 11561'!L59 -> 0 | C15: ='SO 11561'!M59 -> 0 | D15: ='SO 11561'!I59 -> 0 | E15: ='SO 11561'!P59 -> 156.38 | F15: ='SO 11561'!S59 -> 0
A16: OSTATNÉ PRÁCE | B16: ='SO 11561'!L75 -> 0 | C16: ='SO 11561'!M75 -> 0 | D16: ='SO 11561'!I75 -> 0 | E16: ='SO 11561'!P75 -> 0.12 | F16: ='SO 11561'!S75 -> 36.95
A17: PRESUNY HMÔT | B17: ='SO 11561'!L79 -> 0 | C17: ='SO 11561'!M79 -> 0 | D17: ='SO 11561'!I79 -> 0 | E17: ='SO 11561'!P79 -> 0 | F17: ='SO 11561'!S79 -> 0
A18: Práce HSV | B18: ='SO 11561'!L81 -> 0 | C18: ='SO 11561'!M81 -> 0 | D18: ='SO 11561'!I81 -> 0 | E18: ='SO 11561'!P81 -> 168.12 | F18: ='SO 11561'!S81 -> 36.95
A20: Práce PSV
A21: IZOLÁCIE PROTI VODE A VLHKOSTI | B21: ='SO 11561'!L91 -> 0 | C21: ='SO 11561'!M91 -> 0 | D21: ='SO 11561'!I91 -> 0 | E21: ='SO 11561'!P91 -> 0.05 | F21: ='SO 11561'!S91 -> 0
A22: IZOLÁCIE TEPELNÉ BEŽNÝCH STAVEB. KONŠTRUKCIÍ | B22: ='SO 11561'!L98 -> 0 | C22: ='SO 11561'!M98 -> 0 | D22: ='SO 11561'!I98 -> 0 | E22: ='SO 11561'!P98 -> 0.1 | F22: ='SO 11561'!S98 -> 0
A23: ZTI-ZARIAĎOVACIE PREDMETY | B23: ='SO 11561'!L103 -> 0 | C23: ='SO 11561'!M103 -> 0 | D23: ='SO 11561'!I103 -> 0 | E23: ='SO 11561'!P103 -> 0 | F23: ='SO 11561'!S103 -> 0
A24: KONŠTRUKCIE TESÁRSKE | B24: ='SO 11561'!L109 -> 0 | C24: ='SO 11561'!M109 -> 0 | D24: ='SO 11561'!I109 -> 0 | E24: ='SO 11561'!P109 -> 0.13 | F24: ='SO 11561'!S109 -> 0
A25: DREVOSTAVBY | B25: ='SO 11561'!L114 -> 0 | C25: ='SO 11561'!M114 -> 0 | D25: ='SO 11561'!I114 -> 0 | E25: ='SO 11561'!P114 -> 0.2 | F25: ='SO 11561'!S114 -> 0
A26: KONŠTRUKCIE STOLÁRSKE | B26: ='SO 11561'!L120 -> 0 | C26: ='SO 11561'!M120 -> 0 | D26: ='SO 11561'!I120 -> 0 | E26: ='SO 11561'!P120 -> 0.03 | F26: ='SO 11561'!S120 -> 0
A27: KOVOVÉ DOPLNKOVÉ KONŠTRUKCIE | B27: ='SO 11561'!L127 -> 0 | C27: ='SO 11561'!M127 -> 0 | D27: ='SO 11561'!I127 -> 0 | E27: ='SO 11561'!P127 -> 0.23 | F27: ='SO 11561'!S127 -> 0
A28: PODLAHY A OBKLADY KERAMICKÉ-DLAŽBY | B28: ='SO 11561'!L133 -> 0 | C28: ='SO 11561'!M133 -> 0 | D28: ='SO 11561'!I133 -> 0 | E28: ='SO 11561'!P133 -> 0.05 | F28: ='SO 11561'!S133 -> 0
A29: PODLAHY A OBKLADY KERAMICKÉ-OBKLADY | B29: ='SO 11561'!L140 -> 0 | C29: ='SO 11561'!M140 -> 0 | D29: ='SO 11561'!I140 -> 0 | E29: ='SO 11561'!P140 -> 1.81 | F29: ='SO 11561'!S140 -> 0.16
A30: NÁTERY | B30: ='SO 11561'!L148 -> 0 | C30: ='SO 11561'!M148 -> 0 | D30: ='SO 11561'!I148 -> 0 | E30: ='SO 11561'!P148 -> 2.95 | F30: ='SO 11561'!S148 -> 0
A31: MAĽBY | B31: ='SO 11561'!L152 -> 0 | C31: ='SO 11561'!M152 -> 0 | D31: ='SO 11561'!I152 -> 0 | E31: ='SO 11561'!P152 -> 0.24 | F31: ='SO 11561'!S152 -> 0
A32: Práce PSV | B32: ='SO 11561'!L154 -> 0 | C32: ='SO 11561'!M154 -> 0 | D32: ='SO 11561'!I154 -> 0 | E32: ='SO 11561'!P154 -> 5.79 | F32: ='SO 11561'!S154 -> 0.16
A34: Montážne práce
A35: M-21 ELEKTROMONTÁŽE | B35: ='SO 11561'!L159 -> 0 | C35: ='SO 11561'!M159 -> 0 | D35: ='SO 11561'!I159 -> 0 | E35: ='SO 11561'!P159 -> 0 | F35: ='SO 11561'!S159 -> 0
A36: M-43 MONTÁŽ OCEĽOVÝCH KONŠTRUKCIÍ | B36: ='SO 11561'!L167 -> 0 | C36: ='SO 11561'!M167 -> 0 | D36: ='SO 11561'!I167 -> 0 | E36: ='SO 11561'!P167 -> 2.75 | F36: ='SO 11561'!S167 -> 0
A37: Montážne práce | B37: ='SO 11561'!L169 -> 0 | C37: ='SO 11561'!M169 -> 0 | D37: ='SO 11561'!I169 -> 0 | E37: ='SO 11561'!P169 -> 2.75 | F37: ='SO 11561'!S169 -> 0
A39: Celkom | B39: ='SO 11561'!L170 -> 0 | C39: ='SO 11561'!M170 -> 0 | D39: ='SO 11561'!I170 -> 0 | E39: ='SO 11561'!P170 -> 176.66 | F39: ='SO 11561'!S170 -> 37.11

Sheet SO 11561
B1: Odberateľ: Obec Vyšný Žipov | E1: Spracoval: | W1: 30.126
B2: Projektant: | E2: Ks:
B3: Dodávateľ: Ing. arch. Ľubomír Naňák | E3: Dátum: 25.03.2017
B4: Stavba Zvyšenie energetickej hospodárnosti Materskej školy Vyšný Žipov
B5: Objekt Ostatné práce
B7: Prehľad rozpočtových nákladov
A8: Por.č. | B8: Cenník | C8: Kód položky | D8: Názov | E8: Mj | F8: Množstvo | G8: Montáž | H8: Materiál | I8: Cena celkom | P8: Hmotnosť | S8: Suť
D9: Práce HSV
D10: ZEMNÉ PRÁCE
B11: 1/A 1 | C11: 133301101 | D11: Výkop šachty hornina 4 do 100 m3 | E11: m3 | F11: 5.1074 | I11: =ROUND(F11*(G11+H11),2) -> 0 | J11: =ROUND(F11*(N11),2) -> 266.4 | K11: =ROUND(F11*(O11),2) -> 0 | L11: =ROUND(F11*(G11),2) -> 0 | N11: 52.16 | Z11: 0
B12: 1/A 1 | C12: 133301109 | D12: Príplatok k cenám za lepivosť horniny | E12: m3 | F12: 2.5535 | I12: =ROUND(F12*(G12+H12),2) -> 0 | J12: =ROUND(F12*(N12),2) -> 19.56 | K12: =ROUND(F12*(O12),2) -> 0 | L12: =ROUND(F12*(G12),2) -> 0 | N12: 7.66 | Z12: 0
B13: 1/A 1 | C13: 162301102 | D13: Vodorovné premiestnenie výkopku tr.1-4,do 1000 m | E13: m3 | F13: 5.107 | I13: =ROUND(F13*(G13+H13),2) -> 0 | J13: =ROUND(F13*(N13),2) -> 18.28 | K13: =ROUND(F13*(O13),2) -> 0 | L13: =ROUND(F13*(G13),2) -> 0 | N13: 3.58 | Z13: 0
B14: 1/A 1 | C14: 171201101 | D14: Uloženie sypaniny do násypov s rozprestretím sypaniny vo vrstvách a s hrubým urovnaním nezhutnených | E14: m3 | F14: 5.107 | I14: =ROUND(F14*(G14+H14),2) -> 0 | J14: =ROUND(F14*(N14),2) -> 5.06 | K14: =ROUND(F14*(O14),2) -> 0 | L14: =ROUND(F14*(G14),2) -> 0 | N14: 0.99 | Z14: 0
B15: 1/A 1 | C15: 174101001 | D15: Zásyp sypaninou so zhutnením jám, šachiet, rýh, zárezov alebo okolo objektov do 100 m3 | E15: m3 | F15: 0.55 | I15: =ROUND(F15*(G15+H15),2) -> 0 | J15: =ROUND(F15*(N15),2) -> 1.83 | K15: =ROUND(F15*(O15),2) -> 0 | L15: =ROUND(F15*(G15),2) -> 0 | N15: 3.33 | Z15: 0
B16: P/PE | C16: 583372130 | D16: Štrkopiesok / A3 / frakcia 0-32 tr. Z | E16: M3 | F16: 0.55 | I16: =ROUND(F16*(G16+H16),2) -> 0 | J16: =ROUND(F16*(N16),2) -> 11.32 | K16: =ROUND(F16*(O16),2) -> 0 | M16: =ROUND(F16*(H16),2) -> 0 | N16: 20.58 | Z16: 0
B17: 1/A 1 | C17: 181101102 | D17: Úprava pláne v zárezoch v hornine 1-4 so zhutnením | E17: m2 | F17: 9.8 | I17: =ROUND(F17*(G17+H17),2) -> 0 | J17: =ROUND(F17*(N17),2) -> 4.21 | K17: =ROUND(F17*(O17),2) -> 0 | L17: =ROUND(F17*(G17),2) -> 0 | N17: 0.43 | Z17: 0
D18: ZEMNÉ PRÁCE | G18: =ROUND((SUM(L10:L17))/1,2) -> 0 | H18: =ROUND((SUM(M10:M17))/1,2) -> 0 | I18: =ROUND((SUM(I10:I17))/1,2) -> 0 | L18: =ROUND((SUM(L10:L17))/1,2) -> 0 | M18: =ROUND((SUM(M10:M17))/1,2) -> 0 | P18: =ROUND((SUM(P10:P17))/1,2) -> 0 | S18: =ROUND((SUM(S10:S17))/1,2) -> 0
D20: ZÁKLADY
B21: 2/A 1 | C21: 271571111 | D21: Vankúše zhutnené pod základy zo štrkopiesku | E21: m3 | F21: 1.27892 | I21: =ROUND(F21*(G21+H21),2) -> 0 | J21: =ROUND(F21*(N21),2) -> 33.1 | K21: =ROUND(F21*(O21),2) -> 0 | L21: =ROUND(F21*(G21),2) -> 0 | N21: 25.88 | P21: =ROUND(F21*(R21),3) -> 2.481 | R21: 1.93971 | Z21: 0
B22: 11/A 1 | C22: 275313521 | D22: Betón základových pätiek, prostý tr.C 12/15 | E22: m3 | F22: 3.0020568 | I22: =ROUND(F22*(G22+H22),2) -> 0 | J22: =ROUND(F22*(N22),2) -> 228.49 | K22: =ROUND(F22*(O22),2) -> 0 | L22: =ROUND(F22*(G22),2) -> 0 | N22: 76.11 | P22: =ROUND(F22*(R22),3) -> 7.139 | R22: 2.3778966 | Z22: 0
B23: 11/A 1 | C23: 275351215 | D23: Debnenie základových pätiek, zhotovenie-dielce | E23: m2 | F23: 0.448 | I23: =ROUND(F23*(G23+H23),2) -> 0 | J23: =ROUND(F23*(N23),2) -> 5.25 | K23: =ROUND(F23*(O23),2) -> 0 | L23: =ROUND(F23*(G23),2) -> 0 | N23: 11.71 | P23: =ROUND(F23*(R23),3) -> 0 | R23: 0.0007337485 | Z23: 0
B24: 11/A 1 | C24: 275351216 | D24: Debnenie základovýcb pätiek, odstránenie-dielce | E24: m2 | F24: 0.448 | I24: =ROUND(F24*(G24+H24),2) -> 0 | J24: =ROUND(F24*(N24),2) -> 1.08 | K24: =ROUND(F24*(O24),2) -> 0 | L24: =ROUND(F24*(G24),2) -> 0 | N24: 2.41 | Z24: 0
D25: ZÁKLADY | G25: =ROUND((SUM(L20:L24))/1,2) -> 0 | H25: =ROUND((SUM(M20:M24))/1,2) -> 0 | I25: =ROUND((SUM(I20:I24))/1,2) -> 0 | L25: =ROUND((SUM(L20:L24))/1,2) -> 0 | M25: =ROUND((SUM(M20:M24))/1,2) -> 0 | P25: =ROUND((SUM(P20:P24))/1,2) -> 9.62 | S25: =ROUND((SUM(S20:S24))/1,2) -> 0
D27: ZVISLÉ KONŠTRUKCIE
B28: 11/A 1 | C28: 317321411 | D28: Betón prekladov železový (bez výstuže) tr.C 25/30 | E28: m3 | F28: 0.117 | I28: =ROUND(F28*(G28+H28),2) -> 0 | J28: =ROUND(F28*(N28),2) -> 11.9 | K28: =ROUND(F28*(O28),2) -> 0 | L28: =ROUND(F28*(G28),2) -> 0 | N28: 101.68 | P28: =ROUND(F28*(R28),3) -> 0.286 | R28: 2.4468052 | Z28: 0
D29: ZVISLÉ KONŠTRUKCIE | G29: =ROUND((SUM(L27:L28))/1,2) -> 0 | H29: =ROUND((SUM(M27:M28))/1,2) -> 0 | I29: =ROUND((SUM(I27:I28))/1,2) -> 0 | L29: =ROUND((SUM(L27:L28))/1,2) -> 0 | M29: =ROUND((SUM(M27:M28))/1,2) -> 0 | P29: =ROUND((SUM(P27:P28))/1,2) -> 0.29 | S29: =ROUND((SUM(S27:S28))/1,2) -> 0
D31: VODOROVNÉ KONŠTRUKCIE
B32: R/R 0 | C32: 434129000.1 | D32: Osadenie prefabrikovaného schodiskového stupňa hmotnosti do 300 kg na oceľovú konštrukciu | E32: kus | F32: 21 | I32: =ROUND(F32*(G32+H32),2) -> 0 | J32: =ROUND(F32*(N32),2) -> 262.5 | K32: =ROUND(F32*(O32),2) -> 0 | L32: =ROUND(F32*(G32),2) -> 0 | N32: 12.5 | Z32: 0
B33: R/R 0 | C33: 434129000.2 | D33: Osadenie prefabrikovaného schodiskového stupňa hmotnosti od 300 kg do 800 kg na oceľovú konštrukciu | E33: kus | F33: 1 | I33: =ROUND(F33*(G33+H33),2) -> 0 | J33: =ROUND(F33*(N33),2) -> 32.6 | K33: =ROUND(F33*(O33),2) -> 0 | L33: =ROUND(F33*(G33),2) -> 0 | N33: 32.6 | Z33: 0
B34: R/R 0 | C34: 434129000.3 | D34: Osadenie prefabrikovaného schodiskového stupňa hmotnosti nad 800 kg na oceľovú konštrukciu | E34: kus | F34: 1 | I34: =ROUND(F34*(G34+H34),2) -> 0 | J34: =ROUND(F34*(N34),2) -> 45.6 | K34: =ROUND(F34*(O34),2) -> 0 | L34: =ROUND(F34*(G34),2) -> 0 | N34: 45.6 | Z34: 0
B35: P/PE | C35: 592247015002 | D35: Prefabrikovaný stupň železobetónový 2050x300x100 mm, označenie St1 | E35: ks | F35: 21 | I35: =ROUND(F35*(G35+H35),2) -> 0 | J35: =ROUND(F35*(N35),2) -> 656.25 | K35: =ROUND(F35*(O35),2) -> 0 | M35: =ROUND(F35*(H35),2) -> 0 | N35: 31.25 | Z35: 0
B36: P/PE | C36: 592247016001 | D36: Prefabrikovaný stupň železobetónový 2050x1350x100 mm, označenie St2 | E36: ks | F36: 1 | I36: =ROUND(F36*(G36+H36),2) -> 0 | J36: =ROUND(F36*(N36),2) -> 83.02 | K36: =ROUND(F36*(O36),2) -> 0 | M36: =ROUND(F36*(H36),2) -> 0 | N36: 83.02 | Z36: 0
B37: P/PE | C37: 592247017001 | D37: Prefabrikovaný stupň železobetónový 2050x1650x100 mm, označenie St3 | E37: ks | F37: 1 | I37: =ROUND(F37*(G37+H37),2) -> 0 | J37: =ROUND(F37*(N37),2) -> 102.5 | K37: =ROUND(F37*(O37),2) -> 0 | M37: =ROUND(F37*(H37),2) -> 0 | N37: 102.5 | Z37: 0
B38: 11/A 1 | C38: 417321515 | D38: Betón stužujúcich pásov a vencov železový tr. C 25/30 | E38: m3 | F38: 0.69825 | I38: =ROUND(F38*(G38+H38),2) -> 0 | J38: =ROUND(F38*(N38),2) -> 69.94 | K38: =ROUND(F38*(O38),2) -> 0 | L38: =ROUND(F38*(G38),2) -> 0 | N38: 100.16 | P38: =ROUND(F38*(R38),3) -> 1.596 | R38: 2.2854966 | Z38: 0
B39: 11/A 1 | C39: 417351115 | D39: Debnenie bočníc stužujúcich pásov a vencov vrátane vzpier zhotovenie | E39: m2 | F39: 4.11 | I39: =ROUND(F39*(G39+H39),2) -> 0 | J39: =ROUND(F39*(N39),2) -> 31.73 | K39: =ROUND(F39*(O39),2) -> 0 | L39: =ROUND(F39*(G39),2) -> 0 | N39: 7.72 | P39: =ROUND(F39*(R39),3) -> 0.014 | R39: 0.0033 | Z39: 0
B40: 11/A 1 | C40: 417351116 | D40: Debnenie bočníc stužujúcich pásov a vencov vrátane vzpier odstránenie | E40: m2 | F40: 4.11 | I40: =ROUND(F40*(G40+H40),2) -> 0 | J40: =ROUND(F40*(N40),2) -> 11.92 | K40: =ROUND(F40*(O40),2) -> 0 | L40: =ROUND(F40*(G40),2) -> 0 | N40: 2.9 | Z40: 0
B41: 11/A 1 | C41: 417361821 | D41: Výstuž stužujúcich pásov a vencov z betonárskej ocele 10505 | E41: t | F41: 0.0975 | I41: =ROUND(F41*(G41+H41),2) -> 0 | J41: =ROUND(F41*(N41),2) -> 123.98 | K41: =ROUND(F41*(O41),2) -> 0 | L41: =ROUND(F41*(G41),2) -> 0 | N41: 1271.56 | P41: =ROUND(F41*(R41),3) -> 0.104 | R41: 1.0675581 | Z41: 0
D42: VODOROVNÉ KONŠTRUKCIE | G42: =ROUND((SUM(L31:L41))/1,2) -> 0 | H42: =ROUND((SUM(M31:M41))/1,2) -> 0 | I42: =ROUND((SUM(I31:I41))/1,2) -> 0 | L42: =ROUND((SUM(L31:L41))/1,2) -> 0 | M42: =ROUND((SUM(M31:M41))/1,2) -> 0 | P42: =ROUND((SUM(P31:P41))/1,2) -> 1.71 | S42: =ROUND((SUM(S31:S41))/1,2) -> 0
D44: POVRCHOVÉ ÚPRAVY
B45: 11/A 1 | C45: 631571003 | D45: Násyp zo štrkopiesku 0-32 (pre spevnenie podkladu) | E45: m3 | F45: 0.98 | I45: =ROUND(F45*(G45+H45),2) -> 0 | J45: =ROUND(F45*(N45),2) -> 37.52 | K45: =ROUND(F45*(O45),2) -> 0 | L45: =ROUND(F45*(G45),2) -> 0 | N45: 38.29 | P45: =ROUND(F45*(R45),3) -> 1.8 | R45: 1.837 | Z45: 0
B46: 11/A 1 | C46: 631315611 | D46: Mazanina z betónu prostého tr.C 16/20 hr.nad 120 do 240 mm | E46: m3 | F46: 1.47 | I46: =ROUND(F46*(G46+H46),2) -> 0 | J46: =ROUND(F46*(N46),2) -> 170.11 | K46: =ROUND(F46*(O46),2) -> 0 | L46: =ROUND(F46*(G46),2) -> 0 | N46: 115.72 | P46: =ROUND(F46*(R46),3) -> 3.559 | R46: 2.4210276 | Z46: 0
B47: 11/A 1 | C47: 631319155 | D47: Príplatok za prehlad. povrchu betónovej mazaniny min. tr.C 8/10 oceľ. hlad. hr. 120-240 mm | E47: m3 | F47: 1.47 | I47: =ROUND(F47*(G47+H47),2) -> 0 | J47: =ROUND(F47*(N47),2) -> 12.97 | K47: =ROUND(F47*(O47),2) -> 0 | L47: =ROUND(F47*(G47),2) -> 0 | N47: 8.82 | Z47: 0
B48: 11/A 1 | C48: 631319175 | D48: Prípl. za strhnutie povrchu mazaniny latou pre hr. obidvoch vrstiev mazaniny nad 120 do 240 mm | E48: m3 | F48: 1.47 | I48: =ROUND(F48*(G48+H48),2) -> 0 | J48: =ROUND(F48*(N48),2) -> 3.95 | K48: =ROUND(F48*(O48),2) -> 0 | L48: =ROUND(F48*(G48),2) -> 0 | N48: 2.69 | Z48: 0
B49: 11/A 1 | C49: 631351101 | D49: Debnenie stien, rýh a otvorov v podlahách zhotovenie | E49: m2 | F49: 0.315 | I49: =ROUND(F49*(G49+H49),2) -> 0 | J49: =ROUND(F49*(N49),2) -> 2.7 | K49: =ROUND(F49*(O49),2) -> 0 | L49: =ROUND(F49*(G49),2) -> 0 | N49: 8.58 | P49: =ROUND(F49*(R49),3) -> 0.003 | R49: 0.0086 | Z49: 0
B50: 11/A 1 | C50: 631351102 | D50: Debnenie stien, rýh a otvorov v podlahách odstránenie | E50: m2 | F50: 0.315 | I50: =ROUND(F50*(G50+H50),2) -> 0 | J50: =ROUND(F50*(N50),2) -> 0.99 | K50: =ROUND(F50*(O50),2) -> 0 | L50: =ROUND(F50*(G50),2) -> 0 | N50: 3.14 | Z50: 0
B51: 11/A 1 | C51: 631362021 | D51: Výstuž mazanín z betónov (z kameniva) a z ľahkých betónov zo zváraných sietí z drôtov typu KARI | E51: t | F51: 0.05292 | I51: =ROUND(F51*(G51+H51),2) -> 0 | J51: =ROUND(F51*(N51),2) -> 66.47 | K51: =ROUND(F51*(O51),2) -> 0 | L51: =ROUND(F51*(G51),2) -> 0 | N51: 1256.11 | P51: =ROUND(F51*(R51),3) -> 0.064 | R51: 1.2029614 | Z51: 0
B52: 11/A 1 | C52: 632477003 | D52: Samonivelačný cementový poter hr. 50 mm | E52: m2 | F52: 9.8 | I52: =ROUND(F52*(G52+H52),2) -> 0 | J52: =ROUND(F52*(N52),2) -> 208.35 | K52: =ROUND(F52*(O52),2) -> 0 | L52: =ROUND(F52*(G52),2) -> 0 | N52: 21.26 | P52: =ROUND(F52*(R52),3) -> 0.628 | R52: 0.06405 | Z52: 0
B53: 14/C 1 | C53: 611421431 | D53: Oprava omietok stropov v množstve do 50 % štukových | E53: m2 | F53: 1614.71 | I53: =ROUND(F53*(G53+H53),2) -> 0 | J53: =ROUND(F53*(N53),2) -> 13159.89 | K53: =ROUND(F53*(O53),2) -> 0 | L53: =ROUND(F53*(G53),2) -> 0 | N53: 8.15 | P53: =ROUND(F53*(R53),3) -> 50.976 | R53: 0.03157 | Z53: 0
B54: R/R 0 | C54: 767569992.1 | D54: Demontáž oceľových rebríkov osadených do muriva | E54: m | F54: 6 | I54: =ROUND(F54*(G54+H54),2) -> 0 | J54: =ROUND(F54*(N54),2) -> 27 | K54: =ROUND(F54*(O54),2) -> 0 | L54: =ROUND(F54*(G54),2) -> 0 | N54: 4.5 | Z54: 0
B55: 14/C 1 | C55: 612421431 | D55: Oprava vnútorných vápenných omietok stien, v množstve opravenej plochy nad 30 do 50 % štukových | E55: m2 | F55: 3150.748 | I55: =ROUND(F55*(G55+H55),2) -> 0 | J55: =ROUND(F55*(N55),2) -> 21929.21 | K55: =ROUND(F55*(O55),2) -> 0 | L55: =ROUND(F55*(G55),2) -> 0 | N55: 6.96 | P55: =ROUND(F55*(R55),3) -> 89.702 | R55: 0.02847 | Z55: 0
B56: 11/A 1 | C56: 612421637 | D56: Vnútorná omietka vápenná alebo vápennocementová v podlaží a v schodisku stien štuková | E56: m2 | F56: 105.7184 | I56: =ROUND(F56*(G56+H56),2) -> 0 | J56: =ROUND(F56*(N56),2) -> 895.43 | K56: =ROUND(F56*(O56),2) -> 0 | L56: =ROUND(F56*(G56),2) -> 0 | N56: 8.47 | P56: =ROUND(F56*(R56),3) -> 5.043 | R56: 0.0477 | Z56: 0
B57: 11/A 1 | C57: 611473112 | D57: Vnútorná omietka vápennocementová zo suchých zmesí stropov alebo schodiskových konštrukcií štuková | E57: m2 | F57: 10.4 | I57: =ROUND(F57*(G57+H57),2) -> 0 | J57: =ROUND(F57*(N57),2) -> 110.03 | K57: =ROUND(F57*(O57),2) -> 0 | L57: =ROUND(F57*(G57),2) -> 0 | N57: 10.58 | P57: =ROUND(F57*(R57),3) -> 0.273 | R57: 0.026216032 | Z57: 0
B58: 11/A 1 | C58: 612451111 | D58: Vnútorná cementová omietka v podlaží a v schodisku muriva tehlového hrubá zatretá | E58: m2 | F58: 106.026 | I58: =ROUND(F58*(G58+H58),2) -> 0 | J58: =ROUND(F58*(N58),2) -> 628.73 | K58: =ROUND(F58*(O58),2) -> 0 | L58: =ROUND(F58*(G58),2) -> 0 | N58: 5.93 | P58: =ROUND(F58*(R58),3) -> 4.336 | R58: 0.0409 | Z58: 0
D59: POVRCHOVÉ ÚPRAVY | G59: =ROUND((SUM(L44:L58))/1,2) -> 0 | H59: =ROUND((SUM(M44:M58))/1,2) -> 0 | I59: =ROUND((SUM(I44:I58))/1,2) -> 0 | L59: =ROUND((SUM(L44:L58))/1,2) -> 0 | M59: =ROUND((SUM(M44:M58))/1,2) -> 0 | P59: =ROUND((SUM(P44:P58))/1,2) -> 156.38 | S59: =ROUND((SUM(S44:S58))/1,2) -> 0
D61: OSTATNÉ PRÁCE
B62: 6/B 1 | C62: 981011412 | D62: Demolácia budov murovaných na MC alebo betónu postupným rozoberaním s podielom konštrukcie 15% | E62: m3 | F62: 97.4344 | I62: =ROUND(F62*(G62+H62),2) -> 0 | J62: =ROUND(F62*(N62),2) -> 1140.96 | K62: =ROUND(F62*(O62),2) -> 0 | L62: =ROUND(F62*(G62),2) -> 0 | N62: 11.71 | P62: =ROUND(F62*(R62),3) -> 0.054 | R62: 0.00055 | S62: =ROUND(F62*(X62),3) -> 25.333 | X62: 0.26 | Z62: 0
B63: 13/B 1 | C63: 978059531 | D63: Odsekanie a odobratie stien z obkladačiek vnútorných nad 2 m2 -0,068 t | E63: m2 | F63: 106.026 | I63: =ROUND(F63*(G63+H63),2) -> 0 | J63: =ROUND(F63*(N63),2) -> 319.14 | K63: =ROUND(F63*(O63),2) -> 0 | L63: =ROUND(F63*(G63),2) -> 0 | N63: 3.01 | S63: =ROUND(F63*(X63),3) -> 7.21 | X63: 0.068 | Z63: 0
B64: 13/B 1 | C64: 962032231 | D64: Búranie muriva nadzákladového z tehál pálených, vápenopieskových,cementových na maltu -1,905 t | E64: m3 | F64: 2.2662 | I64: =ROUND(F64*(G64+H64),2) -> 0 | J64: =ROUND(F64*(N64),2) -> 48.34 | K64: =ROUND(F64*(O64),2) -> 0 | L64: =ROUND(F64*(G64),2) -> 0 | N64: 21.33 | P64: =ROUND(F64*(R64),3) -> 0.003 | R64: 0.00131 | S64: =ROUND(F64*(X64),3) -> 4.079 | X64: 1.8 | Z64: 0
B65: 13/B 1 | C65: 971033241 | D65: Vybúranie otvoru v murive tehl. plochy do 0,0225 m2 hr.do 300 mm -0,008 t | E65: kus | F65: 41 | I65: =ROUND(F65*(G65+H65),2) -> 0 | J65: =ROUND(F65*(N65),2) -> 115.21 | K65: =ROUND(F65*(O65),2) -> 0 | L65: =ROUND(F65*(G65),2) -> 0 | N65: 2.81 | S65: =ROUND(F65*(X65),3) -> 0.328 | X65: 0.008 | Z65: 0
B66: 11/A 1 | C66: 952901111 | D66: Vyčistenie budov pri výške podlaží do 4m | E66: m2 | F66: 1624.51 | I66: =ROUND(F66*(G66+H66),2) -> 0 | J66: =ROUND(F66*(N66),2) -> 5831.99 | K66: =ROUND(F66*(O66),2) -> 0 | L66: =ROUND(F66*(G66),2) -> 0 | N66: 3.59 | Z66: 0
B67: 3/A 1 | C67: 941955004 | D67: Lešenie ľahké pracovné pomocné, s výškou lešeňovej podlahy nad 2,50 do 3,5 m | E67: m2 | F67: 9.8 | I67: =ROUND(F67*(G67+H67),2) -> 0 | J67: =ROUND(F67*(N67),2) -> 56.06 | K67: =ROUND(F67*(O67),2) -> 0 | L67: =ROUND(F67*(G67),2) -> 0 | N67: 5.72 | P67: =ROUND(F67*(R67),3) -> 0.058 | R67: 0.00592 | Z67: 0
B68: 13/B 1 | C68: 979011111 | D68: Zvislá doprava sutiny a vybúraných hmôt za prvé podlažie nad alebo pod základným podlažím | E68: t | F68: 258.807 | I68: =ROUND(F68*(G68+H68),2) -> 0 | J68: =ROUND(F68*(N68),2) -> 2083.4 | K68: =ROUND(F68*(O68),2) -> 0 | L68: =ROUND(F68*(G68),2) -> 0 | N68: 8.05 | Z68: 0
B69: 13/B 1 | C69: 979011121 | D69: Zvislá doprava sutiny a vybúraných hmôt za každé ďalšie podlažie | E69: t | F69: 258.807 | I69: =ROUND(F69*(G69+H69),2) -> 0 | J69: =ROUND(F69*(N69),2) -> 1459.67 | K69: =ROUND(F69*(O69),2) -> 0 | L69: =ROUND(F69*(G69),2) -> 0 | N69: 5.64 | Z69: 0
B70: 13/B 1 | C70: 979082111 | D70: Vnútrostavenisková doprava sutiny a vybúraných hmôt do 10 m | E70: t | F70: 258.807 | I70: =ROUND(F70*(G70+H70),2) -> 0 | J70: =ROUND(F70*(N70),2) -> 2104.1 | K70: =ROUND(F70*(O70),2) -> 0 | L70: =ROUND(F70*(G70),2) -> 0 | N70: 8.13 | Z70: 0
B71: 321/B 1 | C71: 979082315 | D71: Vodorovná doprava sutiny a vybúraných hmôt bez naloženia ale so zložením do 3000 m | E71: t | F71: 258.807 | I71: =ROUND(F71*(G71+H71),2) -> 0 | J71: =ROUND(F71*(N71),2) -> 1011.94 | K71: =ROUND(F71*(O71),2) -> 0 | L71: =ROUND(F71*(G71),2) -> 0 | N71: 3.91 | Z71: 0
B72: 321/B 1 | C72: 979082319 | D72: Príplatok k cenám za každých ďalších aj začatých 1000 m | E72: t | F72: 3105.684 | I72: =ROUND(F72*(G72+H72),2) -> 0 | J72: =ROUND(F72*(N72),2) -> 590.08 | K72: =ROUND(F72*(O72),2) -> 0 | L72: =ROUND(F72*(G72),2) -> 0 | N72: 0.19 | Z72: 0
B73: 211/B 1 | C73: 979087112 | D73: Nakladanie na dopravný prostriedok pre vodorovnú dopravu sutiny | E73: t | F73: 258.807 | I73: =ROUND(F73*(G73+H73),2) -> 0 | J73: =ROUND(F73*(N73),2) -> 926.53 | K73: =ROUND(F73*(O73),2) -> 0 | L73: =ROUND(F73*(G73),2) -> 0 | N73: 3.58 | Z73: 0
B74: 13/B 1 | C74: SKLADKA | D74: Poplatok za uloženie sute na skládku | E74: T | F74: 258.807 | I74: =ROUND(F74*(G74+H74),2) -> 0 | J74: =ROUND(F74*(N74),2) -> 3882.11 | K74: =ROUND(F74*(O74),2) -> 0 | L74: =ROUND(F74*(G74),2) -> 0 | N74: 15 | Z74: 0
D75: OSTATNÉ PRÁCE | G75: =ROUND((SUM(L61:L74))/1,2) -> 0 | H75: =ROUND((SUM(M61:M74))/1,2) -> 0 | I75: =ROUND((SUM(I61:I74))/1,2) -> 0 | L75: =ROUND((SUM(L61:L74))/1,2) -> 0 | M75: =ROUND((SUM(M61:M74))/1,2) -> 0 | P75: =ROUND((SUM(P61:P74))/1,2) -> 0.12 | S75: =ROUND((SUM(S61:S74))/1,2) -> 36.95
D77: PRESUNY HMÔT
B78: 14/C 1 | C78: 999281111 | D78: Presun hmôt pre opravy a údržbu objektov vrátane vonkajších plášťov výšky do 25 m | E78: t | F78: 170.86638 | I78: =ROUND(F78*(G78+H78),2) -> 0 | J78: =ROUND(F78*(N78),2) -> 4808.18 | K78: =ROUND(F78*(O78),2) -> 0 | L78: =ROUND(F78*(G78),2) -> 0 | N78: 28.14 | Z78: 0
D79: PRESUNY HMÔT | G79: =ROUND((SUM(L77:L78))/1,2) -> 0 | H79: =ROUND((SUM(M77:M78))/1,2) -> 0 | I79: =ROUND((SUM(I77:I78))/1,2) -> 0 | L79: =ROUND((SUM(L77:L78))/1,2) -> 0 | M79: =ROUND((SUM(M77:M78))/1,2) -> 0 | P79: =ROUND((SUM(P77:P78))/1,2) -> 0 | S79: =ROUND((SUM(S77:S78))/1,2) -> 0
D81: Práce HSV | G81: =ROUND((SUM(L9:L80))/2,2) -> 0 | H81: =ROUND((SUM(M9:M80))/2,2) -> 0 | I81: =ROUND((SUM(I9:I80))/2,2) -> 0 | L81: =ROUND((SUM(L9:L80))/2,2) -> 0 | M81: =ROUND((SUM(M9:M80))/2,2) -> 0 | P81: =ROUND((SUM(P9:P80))/2,2) -> 168.12 | S81: =ROUND((SUM(S9:S80))/2,2) -> 36.95
D83: Práce PSV
D84: IZOLÁCIE PROTI VODE A VLHKOSTI
B85: 711/A 1 | C85: 711141559 | D85: Izolácia proti zemnej vlhkosti a tlakovej vode vodorovná NAIP pritavením | E85: m2 | F85: 9.8 | I85: =ROUND(F85*(G85+H85),2) -> 0 | J85: =ROUND(F85*(N85),2) -> 18.03 | K85: =ROUND(F85*(O85),2) -> 0 | L85: =ROUND(F85*(G85),2) -> 0 | N85: 1.84 | P85: =ROUND(F85*(R85),3) -> 0.004 | R85: 0.0004 | Z85: 0
B86: 711/A 1 | C86: 711111001 | D86: Izolácia proti zemnej vlhkosti vodorovná penetračným náterom za studena | E86: m2 | F86: 9.8 | I86: =ROUND(F86*(G86+H86),2) -> 0 | J86: =ROUND(F86*(N86),2) -> 1.76 | K86: =ROUND(F86*(O86),2) -> 0 | L86: =ROUND(F86*(G86),2) -> 0 | N86: 0.18 | Z86: 0
B87: 711/A 1 | C87: 998711102 | D87: Presun hmôt pre izoláciu proti vode v objektoch výšky nad 6 do 12 m | E87: t | F87: 0.04867 | I87: =ROUND(F87*(G87+H87),2) -> 0 | J87: =ROUND(F87*(N87),2) -> 1.38 | K87: =ROUND(F87*(O87),2) -> 0 | L87: =ROUND(F87*(G87),2) -> 0 | N87: 28.26 | Z87: 0
B88: P/PE | C88: 628322810 | D88: Pás ťažký asfaltový HYDROBIT V 60 S 35 alebo ekvivalen | E88: m2 | F88: 11.27 | I88: =ROUND(F88*(G88+H88),2) -> 0 | J88: =ROUND(F88*(N88),2) -> 34.94 | K88: =ROUND(F88*(O88),2) -> 0 | M88: =ROUND(F88*(H88),2) -> 0 | N88: 3.1 | Z88: 0
B89: 721/A 1 | C89: 725 | D89: Príplatok za napojenie na existujúcu izoláciu proti zemnej vlhkosti | E89: m | F89: 11.3 | I89: =ROUND(F89*(G89+H89),2) -> 0 | J89: =ROUND(F89*(N89),2) -> 115.83 | K89: =ROUND(F89*(O89),2) -> 0 | L89: =ROUND(F89*(G89),2) -> 0 | N89: 10.25 | P89: =ROUND(F89*(R89),3) -> 0.042 | R89: 0.0037 | Z89: 0
B90: S/S10 | C90: 1116315000 | D90: Lak asfaltový ALP-PENETRAL alebo ekvivalen v sudoch | E90: t | F90: 0.00294 | I90: =ROUND(F90*(G90+H90),2) -> 0 | J90: =ROUND(F90*(N90),2) -> 4.22 | K90: =ROUND(F90*(O90),2) -> 0 | M90: =ROUND(F90*(H90),2) -> 0 | N90: 1434.43 | P90: =ROUND(F90*(R90),3) -> 0.003 | R90: 1 | Z90: 0
D91: IZOLÁCIE PROTI VODE A VLHKOSTI | G91: =ROUND((SUM(L84:L90))/1,2) -> 0 | H91: =ROUND((SUM(M84:M90))/1,2) -> 0 | I91: =ROUND((SUM(I84:I90))/1,2) -> 0 | L91: =ROUND((SUM(L84:L90))/1,2) -> 0 | M91: =ROUND((SUM(M84:M90))/1,2) -> 0 | P91: =ROUND((SUM(P84:P90))/1,2) -> 0.05 | S91: =ROUND((SUM(S84:S90))/1,2) -> 0
D93: IZOLÁCIE TEPELNÉ BEŽNÝCH STAVEB. KONŠTRUKCIÍ
B94: 713/A 1 | C94: 713121111 | D94: Montáž tepelnej izolácie rohožami,pásmi,dielcami,doskami podláh, jednovrstvová | E94: m2 | F94: 9.8 | I94: =ROUND(F94*(G94+H94),2) -> 0 | J94: =ROUND(F94*(N94),2) -> 7.06 | K94: =ROUND(F94*(O94),2) -> 0 | L94: =ROUND(F94*(G94),2) -> 0 | N94: 0.72 | P94: =ROUND(F94*(R94),3) -> 0 | R94: 3e-05 | Z94: 0
B95: 713/A 1 | C95: 713191122 | D95: Izolácie tepelné podláh,stropov zvrchu,striech prekrytím pásom do výšky 100mm PE fóliou | E95: m2 | F95: 9.8 | I95: =ROUND(F95*(G95+H95),2) -> 0 | J95: =ROUND(F95*(N95),2) -> 28.81 | K95: =ROUND(F95*(O95),2) -> 0 | L95: =ROUND(F95*(G95),2) -> 0 | N95: 2.94 | P95: =ROUND(F95*(R95),3) -> 0.016 | R95: 0.0016 | Z95: 0
B96: S/S20 | C96: 2837650010 | D96: Extrudovaný polystyrén XPS hr. 30 mm, izolácia podláh | E96: m2 | F96: 9.996 | I96: =ROUND(F96*(G96+H96),2) -> 0 | J96: =ROUND(F96*(N96),2) -> 81.07 | K96: =ROUND(F96*(O96),2) -> 0 | M96: =ROUND(F96*(H96),2) -> 0 | N96: 8.11 | P96: =ROUND(F96*(R96),3) -> 0.084 | R96: 0.0084 | Z96: 0
B97: 713/A 5 | C97: 998713102 | D97: Presun hmôt pre izolácie tepelné v objektoch výšky nad 6 m do 12 m | E97: t | F97: 0.0999404 | I97: =ROUND(F97*(G97+H97),2) -> 0 | J97: =ROUND(F97*(N97),2) -> 2.98 | K97: =ROUND(F97*(O97),2) -> 0 | L97: =ROUND(F97*(G97),2) -> 0 | N97: 29.86 | Z97: 0
D98: IZOLÁCIE TEPELNÉ BEŽNÝCH STAVEB. KONŠTRUKCIÍ | G98: =ROUND((SUM(L93:L97))/1,2) -> 0 | H98: =ROUND((SUM(M93:M97))/1,2) -> 0 | I98: =ROUND((SUM(I93:I97))/1,2) -> 0 | L98: =ROUND((SUM(L93:L97))/1,2) -> 0 | M98: =ROUND((SUM(M93:M97))/1,2) -> 0 | P98: =ROUND((SUM(P93:P97))/1,2) -> 0.1 | S98: =ROUND((SUM(S93:S97))/1,2) -> 0
D100: ZTI-ZARIAĎOVACIE PREDMETY
B101: 721/A 5 | C101: 7250009001 | D101: Montáž decentrálnej jednotky rekuperácie TwinFresh RA50 alebo ekvivalen s kabelážou a riadením | E101: kus | F101: 41 | I101: =ROUND(F101*(G101+H101),2) -> 0 | J101: =ROUND(F101*(N101),2) -> 6314 | K101: =ROUND(F101*(O101),2) -> 0 | L101: =ROUND(F101*(G101),2) -> 0 | N101: 154 | Z101: 0
B102: P/PC | C102: MAT | D102: Decentrálne vetracie zar. TwinFresh RA50 alebo ekvivalen vrátane el.napojenia, prísluš.a ovládania, mriežok | E102: kus | F102: 41 | I102: =ROUND(F102*(G102+H102),2) -> 0 | J102: =ROUND(F102*(N102),2) -> 11500.5 | K102: =ROUND(F102*(O102),2) -> 0 | M102: =ROUND(F102*(H102),2) -> 0 | N102: 280.5 | Z102: 0
D103: ZTI-ZARIAĎOVACIE PREDMETY | G103: =ROUND((SUM(L100:L102))/1,2) -> 0 | H103: =ROUND((SUM(M100:M102))/1,2) -> 0 | I103: =ROUND((SUM(I100:I102))/1,2) -> 0 | L103: =ROUND((SUM(L100:L102))/1,2) -> 0 | M103: =ROUND((SUM(M100:M102))/1,2) -> 0 | P103: =ROUND((SUM(P100:P102))/1,2) -> 0 | S103: =ROUND((SUM(S100:S102))/1,2) -> 0
D105: KONŠTRUKCIE TESÁRSKE
B106: 762/A 1 | C106: 998762102 | D106: Presun hmôt pre konštrukcie tesárske v objektoch výšky do 12 m | E106: t | F106: 0.12739803 | I106: =ROUND(F106*(G106+H106),2) -> 0 | J106: =ROUND(F106*(N106),2) -> 5.86 | K106: =ROUND(F106*(O106),2) -> 0 | L106: =ROUND(F106*(G106),2) -> 0 | N106: 46.03 | Z106: 0
B107: 762/A 1 | C107: 762395000 | D107: Spojovacie a ochranné prostriedky svorky, dosky, klince, pásová oceľ, vruty, impregnácia | E107: m3 | F107: 0.092334 | I107: =ROUND(F107*(G107+H107),2) -> 0 | J107: =ROUND(F107*(N107),2) -> 2.73 | K107: =ROUND(F107*(O107),2) -> 0 | L107: =ROUND(F107*(G107),2) -> 0 | N107: 29.55 | P107: =ROUND(F107*(R107),3) -> 0.002 | R107: 0.02355 | Z107: 0
B108: 762/A 1 | C108: 762421336 | D108: Obloženie stropov alebo strešných podhľadov z dosiek CETRIS alebo ekvivalen skrutkovaných na zraz hr. dosky 20 mm | E108: m2 | F108: 4.1965 | I108: =ROUND(F108*(G108+H108),2) -> 0 | J108: =ROUND(F108*(N108),2) -> 129.08 | K108: =ROUND(F108*(O108),2) -> 0 | L108: =ROUND(F108*(G108),2) -> 0 | N108: 30.76 | P108: =ROUND(F108*(R108),3) -> 0.125 | R108: 0.02984 | Z108: 0
D109: KONŠTRUKCIE TESÁRSKE | G109: =ROUND((SUM(L105:L108))/1,2) -> 0 | H109: =ROUND((SUM(M105:M108))/1,2) -> 0 | I109: =ROUND((SUM(I105:I108))/1,2) -> 0 | L109: =ROUND((SUM(L105:L108))/1,2) -> 0 | M109: =ROUND((SUM(M105:M108))/1,2) -> 0 | P109: =ROUND((SUM(P105:P108))/1,2) -> 0.13 | S109: =ROUND((SUM(S105:S108))/1,2) -> 0
D111: DREVOSTAVBY
B112: 763/A 2 | C112: 763161311 | D112: SDK podkrovie bez izolácie, s parozábranou kca z profilov CD 1vrstvová dosky, požiarna odolnosť min. 30 min. | E112: m2 | F112: 9.8 | I112: =ROUND(F112*(G112+H112),2) -> 0 | J112: =ROUND(F112*(N112),2) -> 354.76 | K112: =ROUND(F112*(O112),2) -> 0 | L112: =ROUND(F112*(G112),2) -> 0 | N112: 36.2 | P112: =ROUND(F112*(R112),3) -> 0.201 | R112: 0.020487344 | Z112: 0
B113: 763/A 2 | C113: 998763301 | D113: Presun hmôt pre sádrokartónové konštrukcie v objektoch výšky do 7 m | E113: t | F113: 0.20077597 | I113: =ROUND(F113*(G113+H113),2) -> 0 | J113: =ROUND(F113*(N113),2) -> 8.12 | K113: =ROUND(F113*(O113),2) -> 0 | L113: =ROUND(F113*(G113),2) -> 0 | N113: 40.46 | Z113: 0
...

Sheet Kryci_list 11562
F1: Krycí list rozpočtu | W1: 30.126
B2: Stavba Zvyšenie energetickej hospodárnosti Materskej školy Vyšný Žipov | G2: Miesto:
B3: Objekt Ústredné vykurovanie
I4: Ks:
B5: Zákazka: | F5: Spracoval: | I5: Dňa | J5: 25.03.2017
B6: Odberateľ: Obec Vyšný Žipov | G6: IČO:
G7: DIČ:
B8: Dodávateľ: Ing. arch. Ľubomír Naňák | G8: IČO:
G9: DIČ:
B10: Projektant: | G10: IČO:
G11: DIČ:
B15: A | C15: ZRN | D15: Montáž | E15: Materiál | F15: ZRN spolu | G15: B | H15: Ďalšie náklady
B16: 1 | C16: HSV | G16: 6 | H16: Ostatné náklady | J16: 0
B17: 2 | C17: PSV | D17: ='Rekap 11562'!B19 -> 0 | E17: ='Rekap 11562'!C19 -> 0 | F17: ='Rekap 11562'!D19 -> 0 | G17: 7 | H17: Kompletačná činnosť | J17: ='SO 11562'!Z155 -> 0
B18: 3 | C18: MONT | G18: 8 | H18: HZS | J18: 0
B19: 4 | G19: 9
B20: 5 | C20: Spolu | F20: =SUM(F16:F19) -> 0 | G20: 10 | H20: Spolu | J20: =SUM(J16:J19) -> 0
B21: C | C21: VRN | G21: D | H21: VRN
B22: 11 | C22: Zariadenie staveniska | E22: 0% z [H+P+M] | F22: =((F16*U22*0)+(F17*V22*0)+(F18*W22*0))/100 -> 0 | G22: 16 | H22: Mimoriadne sťaž.podmienky | I22: 0% z [H+P+M] | J22: =((F16*X22*0)+(F17*Y22*0)+(F18*Z22*0))/100 -> 0 | U22: 1 | V22: 1 | W22: 1 | X22: 1 | Y22: 1 | Z22: 1
B23: 12 | C23: Územie so sťaž. podmienk. | E23: 0% z [H+P] | F23: =((F16*U23*0)+(F17*V23*0)+(F18*W23*0))/100 -> 0 | G23: 17 | H23: Horské oblasti | I23: 0% z [H+P+M] | J23: =((F16*X23*0)+(F17*Y23*0)+(F18*Z23*0))/100 -> 0 | U23: 1 | V23: 1 | W23: 0 | X23: 1 | Y23: 1 | Z23: 1
B24: 13 | C24: Prevádzkové vplyvy | E24: 0% z [H+P+M] | F24: =((F16*U24*0)+(F17*V24*0)+(F18*W24*0))/100 -> 0 | G24: 18 | H24: Mimostavenisková doprava | I24: 0% z [H+P] | J24: =((F16*X24*0)+(F17*Y24*0)+(F18*Z24*0))/100 -> 0 | U24: 1 | V24: 1 | W24: 1 | X24: 1 | Y24: 1 | Z24: 0
B25: 14 | G25: 19
B26: 15 | G26: 20 | H26: Spolu | J26: =SUM(J22:J25)+SUM(F22:F25) -> 0
C27: Projektant,rozpočtár | G27: E | H27: Celkové náklady
G28: 21 | H28: Súčet riadkov 5,10,15,20 | J28: =F20+J20+F26+J26 -> 0
G29: 22 | H29: DPH 20% z | I29: =J28-SUM('SO 11562'!K9:'SO 11562'!K154) -> 0 | J29: =ROUND(((ROUND(I29,2)*20)*1/100),2) -> 0
G30: 23 | H30: DPH 0% z | I30: =SUM('SO 11562'!K9:'SO 11562'!K154) -> 0 | J30: =ROUND(((ROUND(I30,2)*0)/100),2) -> 0
G31: 24 | H31: Spolu | J31: =SUM(J28:J30) -> 0
G32: F
D33: Odberateľ | G33: 26 | H33: Dodávateľ

Sheet Rekap 11562
A1: Odberateľ: Obec Vyšný Žipov | D1: Spracoval: | W1: 30.126
A2: Projektant: | D2: Ks:
A3: Dodávateľ: Ing. arch. Ľubomír Naňák | D3: Dátum: 25.03.2017
A4: Stavba Zvyšenie energetickej hospodárnosti Materskej školy Vyšný Žipov
A5: Objekt Ústredné vykurovanie
A8: Prehľad rozpočtových nákladov
A9: Oddiel | B9: Montáž | C9: Materiál | D9: Spolu | E9: Hmotnosť (T) | F9: Suť (T)
A10: Práce PSV
A11: IZOLÁCIE TEPELNÉ BEŽNÝCH STAVEB. KONŠTRUKCIÍ | B11: ='SO 11562'!L21 -> 0 | C11: ='SO 11562'!M21 -> 0 | D11: ='SO 11562'!I21 -> 0 | E11: ='SO 11562'!P21 -> 0 | F11: ='SO 11562'!S21 -> 0
A12: ZTI-VNÚTORNA KANALIZÁCIA | B12: ='SO 11562'!L25 -> 0 | C12: ='SO 11562'!M25 -> 0 | D12: ='SO 11562'!I25 -> 0 | E12: ='SO 11562'!P25 -> 0 | F12: ='SO 11562'!S25 -> 0
A13: ÚSTREDNÉ VYKUROVANIE-KOTOLNE | B13: ='SO 11562'!L37 -> 0 | C13: ='SO 11562'!M37 -> 0 | D13: ='SO 11562'!I37 -> 0 | E13: ='SO 11562'!P37 -> 0 | F13: ='SO 11562'!S37 -> 0
A14: ÚSTREDNÉ VYKUROVANIE-STROJOVNE | B14: ='SO 11562'!L54 -> 0 | C14: ='SO 11562'!M54 -> 0 | D14: ='SO 11562'!I54 -> 0 | E14: ='SO 11562'!P54 -> 0 | F14: ='SO 11562'!S54 -> 0
A15: ÚSTREDNÉ VYKUROVANIE-ROZVOD POTRUBIA | B15: ='SO 11562'!L70 -> 0 | C15: ='SO 11562'!M70 -> 0 | D15: ='SO 11562'!I70 -> 0 | E15: ='SO 11562'!P70 -> 0 | F15: ='SO 11562'!S70 -> 0
A16: ÚSTREDNÉ VYKUROVANIE-ARMATÚRY | B16: ='SO 11562'!L100 -> 0 | C16: ='SO 11562'!M100 -> 0 | D16: ='SO 11562'!I100 -> 0 | E16: ='SO 11562'!P100 -> 0 | F16: ='SO 11562'!S100 -> 0
A17: ÚSTREDNÉ VYKUROVANIE-VYKUROVACIE TELESÁ | B17: ='SO 11562'!L141 -> 0 | C17: ='SO 11562'!M141 -> 0 | D17: ='SO 11562'!I141 -> 0 | E17: ='SO 11562'!P141 -> 0 | F17: ='SO 11562'!S141 -> 0
A18: KONŠTRUKCIE KLAMPIARSKE | B18: ='SO 11562'!L152 -> 0 | C18: ='SO 11562'!M152 -> 0 | D18: ='SO 11562'!I152 -> 0 | E18: ='SO 11562'!P152 -> 0 | F18: ='SO 11562'!S152 -> 0
A19: Práce PSV | B19: ='SO 11562'!L154 -> 0 | C19: ='SO 11562'!M154 -> 0 | D19: ='SO 11562'!I154 -> 0 | E19: ='SO 11562'!P154 -> 0 | F19: ='SO 11562'!S154 -> 0
A21: Celkom | B21: ='SO 11562'!L155 -> 0 | C21: ='SO 11562'!M155 -> 0 | D21: ='SO 11562'!I155 -> 0 | E21: ='SO 11562'!P155 -> 0 | F21: ='SO 11562'!S155 -> 0

Sheet SO 11562
B1: Odberateľ: Obec Vyšný Žipov | E1: Spracoval: | W1: 30.126
B2: Projektant: | E2: Ks:
B3: Dodávateľ: Ing. arch. Ľubomír Naňák | E3: Dátum: 25.03.2017
B4: Stavba Zvyšenie energetickej hospodárnosti Materskej školy Vyšný Žipov
B5: Objekt Ústredné vykurovanie
B7: Prehľad rozpočtových nákladov
A8: Por.č. | B8: Cenník | C8: Kód položky | D8: Názov | E8: Mj | F8: Množstvo | G8: Montáž | H8: Materiál | I8: Cena celkom | P8: Hmotnosť | S8: Suť
D9: Práce PSV
D10: IZOLÁCIE TEPELNÉ BEŽNÝCH STAVEB. KONŠTRUKCIÍ
B11: 713/A 4 | C11: 713482121 | D11: Montáž trubíc z PE, hr.15-20 mm,vnút.priemer do 38 mm | E11: m | F11: 118 | I11: =ROUND(F11*(G11+H11),2) -> 0 | J11: =ROUND(F11*(N11),2) -> 260.78 | K11: =ROUND(F11*(O11),2) -> 0 | L11: =ROUND(F11*(G11),2) -> 0 | N11: 2.21 | Z11: 0
B12: 713/A 4 | C12: 713482131 | D12: Montáž trubíc z PE, hr.30 mm,vnút.priemer do 38 mm | E12: m | F12: 176 | I12: =ROUND(F12*(G12+H12),2) -> 0 | J12: =ROUND(F12*(N12),2) -> 413.6 | K12: =ROUND(F12*(O12),2) -> 0 | L12: =ROUND(F12*(G12),2) -> 0 | N12: 2.35 | Z12: 0
B13: S/S20 | C13: 2837741523 | D13: Tubolit DG 15 x 13 izolácia-trubica AZ FLEX Armacell alebo ekvivalen | E13: m | F13: 38 | I13: =ROUND(F13*(G13+H13),2) -> 0 | J13: =ROUND(F13*(N13),2) -> 20.52 | K13: =ROUND(F13*(O13),2) -> 0 | M13: =ROUND(F13*(H13),2) -> 0 | N13: 0.54 | Z13: 0
B14: S/S20 | C14: 2837741529 | D14: Tubolit DG 18 x 20 izolácia-trubica AZ FLEX Armacell alebo ekvivalen | E14: m | F14: 12 | I14: =ROUND(F14*(G14+H14),2) -> 0 | J14: =ROUND(F14*(N14),2) -> 12.24 | K14: =ROUND(F14*(O14),2) -> 0 | M14: =ROUND(F14*(H14),2) -> 0 | N14: 1.02 | Z14: 0
B15: S/S20 | C15: 2837741542 | D15: Tubolit DG 22 x 20 izolácia-trubica AZ FLEX Armacell alebo ekvivalen | E15: m | F15: 68 | I15: =ROUND(F15*(G15+H15),2) -> 0 | J15: =ROUND(F15*(N15),2) -> 79.56 | K15: =ROUND(F15*(O15),2) -> 0 | M15: =ROUND(F15*(H15),2) -> 0 | N15: 1.17 | Z15: 0
B16: S/S20 | C16: 2837741558 | D16: Tubolit DG 28 x 30 izolácia-trubica AZ FLEX Armacell alebo ekvivalen | E16: m | F16: 48 | I16: =ROUND(F16*(G16+H16),2) -> 0 | J16: =ROUND(F16*(N16),2) -> 112.8 | K16: =ROUND(F16*(O16),2) -> 0 | M16: =ROUND(F16*(H16),2) -> 0 | N16: 2.35 | Z16: 0
B17: S/S20 | C17: 2837741571 | D17: Tubolit DG 35 x 30 izolácia-trubica AZ FLEX Armacell alebo ekvivalen | E17: m | F17: 120 | I17: =ROUND(F17*(G17+H17),2) -> 0 | J17: =ROUND(F17*(N17),2) -> 316.8 | K17: =ROUND(F17*(O17),2) -> 0 | M17: =ROUND(F17*(H17),2) -> 0 | N17: 2.64 | Z17: 0
B18: R/RE | C18: 2837741628 | D18: HT Armaflex HT 25/18 alebo ekvivalen | E18: m | F18: 4 | I18: =ROUND(F18*(G18+H18),2) -> 0 | J18: =ROUND(F18*(N18),2) -> 27.96 | K18: =ROUND(F18*(O18),2) -> 0 | L18: =ROUND(F18*(G18),2) -> 0 | N18: 6.99 | Z18: 0
B19: R/RE | C19: 2837741629 | D19: HT Armaflex HT 25/28 alebo ekvivalen | E19: m | F19: 4 | I19: =ROUND(F19*(G19+H19),2) -> 0 | J19: =ROUND(F19*(N19),2) -> 27.96 | K19: =ROUND(F19*(O19),2) -> 0 | L19: =ROUND(F19*(G19),2) -> 0 | N19: 6.99 | Z19: 0
B20: R/RE | C20: 802IZO120 | D20: Príslušenstvo, páska, lepidlo | E20: ks | F20: 20 | I20: =ROUND(F20*(G20+H20),2) -> 0 | J20: =ROUND(F20*(N20),2) -> 63 | K20: =ROUND(F20*(O20),2) -> 0 | L20: =ROUND(F20*(G20),2) -> 0 | N20: 3.15 | Z20: 0
D21: IZOLÁCIE TEPELNÉ BEŽNÝCH STAVEB. KONŠTRUKCIÍ | G21: =ROUND((SUM(L10:L20))/1,2) -> 0 | H21: =ROUND((SUM(M10:M20))/1,2) -> 0 | I21: =ROUND((SUM(I10:I20))/1,2) -> 0 | L21: =ROUND((SUM(L10:L20))/1,2) -> 0 | M21: =ROUND((SUM(M10:M20))/1,2) -> 0 | P21: =ROUND((SUM(P10:P20))/1,2) -> 0 | S21: =ROUND((SUM(S10:S20))/1,2) -> 0
D23: ZTI-VNÚTORNA KANALIZÁCIA
B24: 721/A 1 | C24: 721173203 | D24: Potrubie z PVC D 32x1, 8, odvod kondenzu aj s tvarovkami | E24: m | F24: 25 | I24: =ROUND(F24*(G24+H24),2) -> 0 | J24: =ROUND(F24*(N24),2) -> 137 | K24: =ROUND(F24*(O24),2) -> 0 | L24: =ROUND(F24*(G24),2) -> 0 | N24: 5.48 | Z24: 0
D25: ZTI-VNÚTORNA KANALIZÁCIA | G25: =ROUND((SUM(L23:L24))/1,2) -> 0 | H25: =ROUND((SUM(M23:M24))/1,2) -> 0 | I25: =ROUND((SUM(I23:I24))/1,2) -> 0 | L25: =ROUND((SUM(L23:L24))/1,2) -> 0 | M25: =ROUND((SUM(M23:M24))/1,2) -> 0 | P25: =ROUND((SUM(P23:P24))/1,2) -> 0 | S25: =ROUND((SUM(S23:S24))/1,2) -> 0
D27: ÚSTREDNÉ VYKUROVANIE-KOTOLNE
B28: R/RE | C28: 706IVARTČ110 | D28: Plynové tepelné čerpadlo Aisin Toyota, vonkajšia jednotka AXGP 450E1-N, vzduch/voda, výkon 53kW,dod. fy. Yzamer alebo ekvivalen | E28: ks | F28: 1 | I28: =ROUND(F28*(G28+H28),2) -> 0 | J28: =ROUND(F28*(N28),2) -> 25475 | K28: =ROUND(F28*(O28),2) -> 0 | L28: =ROUND(F28*(G28),2) -> 0 | N28: 25475 | Z28: 0
B29: R/RE | C29: 706IVARTČ111 | D29: Plynové tepelné čerpadlo Aisin Toyota, vnútorná jednotka AWS 16HP-E1,dod. fy. Yzamer alebo ekvivalen | E29: ks | F29: 1 | I29: =ROUND(F29*(G29+H29),2) -> 0 | J29: =ROUND(F29*(N29),2) -> 6700 | K29: =ROUND(F29*(O29),2) -> 0 | L29: =ROUND(F29*(G29),2) -> 0 | N29: 6700 | Z29: 0
B30: R/RE | C30: 731161010 | D30: Montáž plynového tep. čerpadla vonkajšej a vnútornej jednotky | E30: ks | F30: 2 | I30: =ROUND(F30*(G30+H30),2) -> 0 | J30: =ROUND(F30*(N30),2) -> 1732.94 | K30: =ROUND(F30*(O30),2) -> 0 | L30: =ROUND(F30*(G30),2) -> 0 | N30: 866.47 | Z30: 0
B31: R/RE | C31: 706IVARTČ112 | D31: Doprava a vykládka TČ | E31: ks | F31: 1 | I31: =ROUND(F31*(G31+H31),2) -> 0 | J31: =ROUND(F31*(N31),2) -> 810 | K31: =ROUND(F31*(O31),2) -> 0 | L31: =ROUND(F31*(G31),2) -> 0 | N31: 810 | Z31: 0
B32: R/RE | C32: 706IVARTČ113 | D32: Oživenie TČ | E32: ks | F32: 1 | I32: =ROUND(F32*(G32+H32),2) -> 0 | J32: =ROUND(F32*(N32),2) -> 360 | K32: =ROUND(F32*(O32),2) -> 0 | L32: =ROUND(F32*(G32),2) -> 0 | N32: 360 | Z32: 0
B33: R/RE | C33: 706IVARTČ114 | D33: Servisný technik | E33: ks | F33: 1 | I33: =ROUND(F33*(G33+H33),2) -> 0 | J33: =ROUND(F33*(N33),2) -> 369 | K33: =ROUND(F33*(O33),2) -> 0 | L33: =ROUND(F33*(G33),2) -> 0 | N33: 369 | Z33: 0
B34: R/RE | C34: 702KOT152 | D34: Plynový kondenzačný závesný kotol Protherm Pantherm Condens 30 KKO, výkon 8,5-32,8kW alebo ekvivalen | E34: ks | F34: 1 | I34: =ROUND(F34*(G34+H34),2) -> 0 | J34: =ROUND(F34*(N34),2) -> 1320 | K34: =ROUND(F34*(O34),2) -> 0 | L34: =ROUND(F34*(G34),2) -> 0 | N34: 1320 | Z34: 0
B35: R/RE | C35: 731261070 | D35: Montáž plynového kotla nástenného kondenzačného vykurovacieho bez zásobníka | E35: ks | F35: 1 | I35: =ROUND(F35*(G35+H35),2) -> 0 | J35: =ROUND(F35*(N35),2) -> 355.37 | K35: =ROUND(F35*(O35),2) -> 0 | L35: =ROUND(F35*(G35),2) -> 0 | N35: 355.37 | Z35: 0
B36: 731/A 1 | C36: 731341130 | D36: Hadica napúšťacia gumená | E36: m | F36: 1 | I36: =ROUND(F36*(G36+H36),2) -> 0 | J36: =ROUND(F36*(N36),2) -> 2.69 | K36: =ROUND(F36*(O36),2) -> 0 | L36: =ROUND(F36*(G36),2) -> 0 | N36: 2.69 | Z36: 0
D37: ÚSTREDNÉ VYKUROVANIE-KOTOLNE | G37: =ROUND((SUM(L27:L36))/1,2) -> 0 | H37: =ROUND((SUM(M27:M36))/1,2) -> 0 | I37: =ROUND((SUM(I27:I36))/1,2) -> 0 | L37: =ROUND((SUM(L27:L36))/1,2) -> 0 | M37: =ROUND((SUM(M27:M36))/1,2) -> 0 | P37: =ROUND((SUM(P27:P36))/1,2) -> 0 | S37: =ROUND((SUM(S27:S36))/1,2) -> 0
D39: ÚSTREDNÉ VYKUROVANIE-STROJOVNE
B40: R/RE | C40: 706IVAR816 | D40: Akumulačná nádoba pre uzavreté vykurovacie systémy fy. Secespol, typ TXE-ARN 300 o obs. 300l alebo ekvivalen | E40: ks | F40: 1 | I40: =ROUND(F40*(G40+H40),2) -> 0 | J40: =ROUND(F40*(N40),2) -> 850 | K40: =ROUND(F40*(O40),2) -> 0 | L40: =ROUND(F40*(G40),2) -> 0 | N40: 850 | Z40: 0
B41: R/RE | C41: 706IVARTČ107 | D41: Kotlový modul bez rozdeľovača PAW.HEAT BLOC D31, DN25, DAB.EVOTRON 60/180 alebo ekvivalen | E41: ks | F41: 2 | I41: =ROUND(F41*(G41+H41),2) -> 0 | J41: =ROUND(F41*(N41),2) -> 890 | K41: =ROUND(F41*(O41),2) -> 0 | L41: =ROUND(F41*(G41),2) -> 0 | N41: 445 | Z41: 0
B42: R/RE | C42: 706IVARTČ109 | D42: Kotlový modul bez rozdeľovača PAW.K31, DN20, Grundfos alpha2 alebo ekvivalen | E42: ks | F42: 1 | I42: =ROUND(F42*(G42+H42),2) -> 0 | J42: =ROUND(F42*(N42),2) -> 500 | K42: =ROUND(F42*(O42),2) -> 0 | L42: =ROUND(F42*(G42),2) -> 0 | N42: 500 | Z42: 0
B43: S/S40 | C43: 4846798600 | D43: Doplňovacie zariad. automatické fillcontrol typ FC ,10 bar/60°C REFLEX alebo ekvivalen | E43: ks | F43: 1 | I43: =ROUND(F43*(G43+H43),2) -> 0 | J43: =ROUND(F43*(N43),2) -> 924.77 | K43: =ROUND(F43*(O43),2) -> 0 | M43: =ROUND(F43*(H43),2) -> 0 | N43: 924.77 | Z43: 0
B44: R/RE | C44: 4848101220 | D44: Hydraulický vyrovnávač tlaku, 5/4, PN 10, oceľ s povrchovou úpravou IVAR.548 Z, 4000l/h alebo ekvivalen | E44: ks | F44: 1 | I44: =ROUND(F44*(G44+H44),2) -> 0 | J44: =ROUND(F44*(N44),2) -> 517 | K44: =ROUND(F44*(O44),2) -> 0 | L44: =ROUND(F44*(G44),2) -> 0 | N44: 517 | Z44: 0
B45: R/RE | C45: 714KOT306 | D45: Elektromagnetická úprava vody EOVK 01, Buderus alebo ekvivalen | E45: ks | F45: 2 | I45: =ROUND(F45*(G45+H45),2) -> 0 | J45: =ROUND(F45*(N45),2) -> 82.5 | K45: =ROUND(F45*(O45),2) -> 0 | L45: =ROUND(F45*(G45),2) -> 0 | N45: 41.25 | Z45: 0
B46: 731/A 4 | C46: 734209116 | D46: Montáž závitovej armatúry s 2 závitmi G 5/4 | E46: ks | F46: 4 | I46: =ROUND(F46*(G46+H46),2) -> 0 | J46: =ROUND(F46*(N46),2) -> 14.96 | K46: =ROUND(F46*(O46),2) -> 0 | L46: =ROUND(F46*(G46),2) -> 0 | N46: 3.74 | Z46: 0
B47: 731/A 2 | C47: 732111125 | D47: Rozdeľovač a zberač, teleso rozdeľovača a zberača akosť normy 11 353.0 DN 100 | E47: ks | F47: 2 | I47: =ROUND(F47*(G47+H47),2) -> 0 | J47: =ROUND(F47*(N47),2) -> 120.18 | K47: =ROUND(F47*(O47),2) -> 0 | L47: =ROUND(F47*(G47),2) -> 0 | N47: 60.09 | Z47: 0
B48: 731/A 2 | C48: 732111312 | D48: Rozdeľovač a zberač, rúrkové hrdlo rozdeľovača a zberača bez príruby akosť nor. 11 353.0 DN do 25 | E48: ks | F48: 6 | I48: =ROUND(F48*(G48+H48),2) -> 0 | J48: =ROUND(F48*(N48),2) -> 34.8 | K48: =ROUND(F48*(O48),2) -> 0 | L48: =ROUND(F48*(G48),2) -> 0 | N48: 5.8 | Z48: 0
B49: 731/A 2 | C49: 732331515 | D49: Nádoba expanzná tlaková s membránou typ Expanzomat I bez poistného ventilu objemu 50 l alebo ekvivalen | E49: súb. | F49: 2 | I49: =ROUND(F49*(G49+H49),2) -> 0 | J49: =ROUND(F49*(N49),2) -> 152.28 | K49: =ROUND(F49*(O49),2) -> 0 | L49: =ROUND(F49*(G49),2) -> 0 | N49: 76.14 | Z49: 0
B50: 731/A 1 | C50: 731291020 | D50: Montáž rýchlomontážnej sady bez zmiešavača DN 25 | E50: ks | F50: 3 | I50: =ROUND(F50*(G50+H50),2) -> 0 | J50: =ROUND(F50*(N50),2) -> 187.02 | K50: =ROUND(F50*(O50),2) -> 0 | L50: =ROUND(F50*(G50),2) -> 0 | N50: 62.34 | Z50: 0
B51: 731/A 2 | C51: 732331929 | D51: Automatické doplňovanie a kontrola tlaku vody. Uvedenie do prevádzky servisom Reflex alebo ekvivalen | E51: súb. | F51: 1 | I51: =ROUND(F51*(G51+H51),2) -> 0 | J51: =ROUND(F51*(N51),2) -> 418.06 | K51: =ROUND(F51*(O51),2) -> 0 | L51: =ROUND(F51*(G51),2) -> 0 | N51: 418.06 | Z51: 0
B52: R/RE | C52: 732351000 | D52: Montáž akumulačného zásobníka vykurovacej vody v spojení so solárnymi systémami, tepelnými čerpadlami a kotlami na pevné palivo objem do 400 l | E52: ks | F52: 1 | I52: =ROUND(F52*(G52+H52),2) -> 0 | J52: =ROUND(F52*(N52),2) -> 67.78 | K52: =ROUND(F52*(O52),2) -> 0 | L52: =ROUND(F52*(G52),2) -> 0 | N52: 67.78 | Z52: 0
B53: 731/A 2 | C53: 998732201 | D53: Presun hmôt pre strojovne v objektoch výšky do 6 m | E53: % | F53: 1.1 | I53: =ROUND(F53*(G53+H53),2) -> 0 | J53: =ROUND(F53*(N53),2) -> 51.61 | K53: =ROUND(F53*(O53),2) -> 0 | L53: =ROUND(F53*(G53),2) -> 0 | N53: 46.92 | Z53: 0
D54: ÚSTREDNÉ VYKUROVANIE-STROJOVNE | G54: =ROUND((SUM(L39:L53))/1,2) -> 0 | H54: =ROUND((SUM(M39:M53))/1,2) -> 0 | I54: =ROUND((SUM(I39:I53))/1,2) -> 0 | L54: =ROUND((SUM(L39:L53))/1,2) -> 0 | M54: =ROUND((SUM(M39:M53))/1,2) -> 0 | P54: =ROUND((SUM(P39:P53))/1,2) -> 0 | S54: =ROUND((SUM(S39:S53))/1,2) -> 0
D56: ÚSTREDNÉ VYKUROVANIE-ROZVOD POTRUBIA
B57: R/RE | C57: 733141000 | D57: Potrubie z nerezových rúrok spájaných lisovaním DN 15x1,2 | E57: m | F57: 400 | I57: =ROUND(F57*(G57+H57),2) -> 0 | J57: =ROUND(F57*(N57),2) -> 8924 | K57: =ROUND(F57*(O57),2) -> 0 | L57: =ROUND(F57*(G57),2) -> 0 | N57: 22.31 | Z57: 0
B58: R/RE | C58: 733141003 | D58: Potrubie z nerezových rúrok spájaných lisovaním DN 18x1,2 | E58: m | F58: 265 | I58: =ROUND(F58*(G58+H58),2) -> 0 | J58: =ROUND(F58*(N58),2) -> 6365.3 | K58: =ROUND(F58*(O58),2) -> 0 | L58: =ROUND(F58*(G58),2) -> 0 | N58: 24.02 | Z58: 0
B59: R/RE | C59: 733141006 | D59: Potrubie z nerezových rúrok spájaných lisovaním DN 22x1,5 | E59: m | F59: 220 | I59: =ROUND(F59*(G59+H59),2) -> 0 | J59: =ROUND(F59*(N59),2) -> 5808 | K59: =ROUND(F59*(O59),2) -> 0 | L59: =ROUND(F59*(G59),2) -> 0 | N59: 26.4 | Z59: 0
B60: R/RE | C60: 733141009 | D60: Potrubie z nerezových rúrok spájaných lisovaním DN 281,5 | E60: m | F60: 165 | I60: =ROUND(F60*(G60+H60),2) -> 0 | J60: =ROUND(F60*(N60),2) -> 5207.4 | K60: =ROUND(F60*(O60),2) -> 0 | L60: =ROUND(F60*(G60),2) -> 0 | N60: 31.56 | Z60: 0
B61: R/RE | C61: 733141012 | D61: Potrubie z nerezových rúrok spájaných lisovaním DN 35x1,5 | E61: m | F61: 130 | I61: =ROUND(F61*(G61+H61),2) -> 0 | J61: =ROUND(F61*(N61),2) -> 5740.8 | K61: =ROUND(F61*(O61),2) -> 0 | L61: =ROUND(F61*(G61),2) -> 0 | N61: 44.16 | Z61: 0
B62: R/RE | C62: 733141015 | D62: Potrubie z nerezových rúrok spájaných lisovaním DN 42 | E62: m | F62: 6 | I62: =ROUND(F62*(G62+H62),2) -> 0 | J62: =ROUND(F62*(N62),2) -> 355.68 | K62: =ROUND(F62*(O62),2) -> 0 | L62: =ROUND(F62*(G62),2) -> 0 | N62: 59.28 | Z62: 0
B63: R/RE | C63: 733141018 | D63: Potrubie z nerezových rúrok spájaných lisovaním DN 54 | E63: m | F63: 12 | I63: =ROUND(F63*(G63+H63),2) -> 0 | J63: =ROUND(F63*(N63),2) -> 879.72 | K63: =ROUND(F63*(O63),2) -> 0 | L63: =ROUND(F63*(G63),2) -> 0 | N63: 73.31 | Z63: 0
B64: R/RE | C64: 733151012 | D64: Potrubie z medených rúrok polotvrdých spájaných mäkkou spájkou D 28/1,0 mm | E64: m | F64: 42 | I64: =ROUND(F64*(G64+H64),2) -> 0 | J64: =ROUND(F64*(N64),2) -> 1026.06 | K64: =ROUND(F64*(O64),2) -> 0 | L64: =ROUND(F64*(G64),2) -> 0 | N64: 24.43 | Z64: 0
B65: R/RE | C65: 733151048 | D65: Potrubie z medených rúrok tvrdých spájaných mäkkou spájkou D 15/1,0 mm, chladiarenská meď | E65: m | F65: 4 | I65: =ROUND(F65*(G65+H65),2) -> 0 | J65: =ROUND(F65*(N65),2) -> 52.52 | K65: =ROUND(F65*(O65),2) -> 0 | L65: =ROUND(F65*(G65),2) -> 0 | N65: 13.13 | Z65: 0
B66: R/RE | C66: 733151057 | D66: Potrubie z medených rúrok tvrdých spájaných mäkkou spájkou D 28/1,0 mm, chladiarenská meď | E66: m | F66: 4 | I66: =ROUND(F66*(G66+H66),2) -> 0 | J66: =ROUND(F66*(N66),2) -> 96.24 | K66: =ROUND(F66*(O66),2) -> 0 | L66: =ROUND(F66*(G66),2) -> 0 | N66: 24.06 | Z66: 0
B67: R/RE | C67: 603SP1016 | D67: Upevňovací systém potrubia Wemefa, svorková objímkla DN15-35 | E67: ks | F67: 400 | I67: =ROUND(F67*(G67+H67),2) -> 0 | J67: =ROUND(F67*(N67),2) -> 240 | K67: =ROUND(F67*(O67),2) -> 0 | L67: =ROUND(F67*(G67),2) -> 0 | N67: 0.6 | Z67: 0
B68: 731/A 3 | C68: 733191201 | D68: Tlaková skúška medeného a nerezového potrubia do D 35 mm | E68: m | F68: 1248 | I68: =ROUND(F68*(G68+H68),2) -> 0 | J68: =ROUND(F68*(N68),2) -> 636.48 | K68: =ROUND(F68*(O68),2) -> 0 | L68: =ROUND(F68*(G68),2) -> 0 | N68: 0.51 | Z68: 0
B69: 731/A 3 | C69: 998733203 | D69: Presun hmôt pre rozvody potrubia v objektoch výšky nad 6 do 24 m | E69: % | F69: 1.5 | I69: =ROUND(F69*(G69+H69),2) -> 0 | J69: =ROUND(F69*(N69),2) -> 526.34 | K69: =ROUND(F69*(O69),2) -> 0 | L69: =ROUND(F69*(G69),2) -> 0 | N69: 350.89 | Z69: 0
D70: ÚSTREDNÉ VYKUROVANIE-ROZVOD POTRUBIA | G70: =ROUND((SUM(L56:L69))/1,2) -> 0 | H70: =ROUND((SUM(M56:M69))/1,2) -> 0 | I70: =ROUND((SUM(I56:I69))/1,2) -> 0 | L70: =ROUND((SUM(L56:L69))/1,2) -> 0 | M70: =ROUND((SUM(M56:M69))/1,2) -> 0 | P70: =ROUND((SUM(P56:P69))/1,2) -> 0 | S70: =ROUND((SUM(S56:S69))/1,2) -> 0
D72: ÚSTREDNÉ VYKUROVANIE-ARMATÚRY
B73: 731/A 4 | C73: 734173414 | D73: Prírubový spoj PN 1, 6/I, 200st. C DN 50 | E73: súb. | F73: 8 | I73: =ROUND(F73*(G73+H73),2) -> 0 | J73: =ROUND(F73*(N73),2) -> 213.28 | K73: =ROUND(F73*(O73),2) -> 0 | L73: =ROUND(F73*(G73),2) -> 0 | N73: 26.66 | Z73: 0
B74: 731/A 4 | C74: 734209101 | D74: Montáž závitovej armatúry s 1 závitom do G 1/2 | E74: ks | F74: 65 | I74: =ROUND(F74*(G74+H74),2) -> 0 | J74: =ROUND(F74*(N74),2) -> 52.65 | K74: =ROUND(F74*(O74),2) -> 0 | L74: =ROUND(F74*(G74),2) -> 0 | N74: 0.81 | Z74: 0
B75: 731/A 4 | C75: 734209112 | D75: Montáž závitovej armatúry s 2 závitmi do G 1/2 | E75: ks | F75: 40 | I75: =ROUND(F75*(G75+H75),2) -> 0 | J75: =ROUND(F75*(N75),2) -> 93.2 | K75: =ROUND(F75*(O75),2) -> 0 | L75: =ROUND(F75*(G75),2) -> 0 | N75: 2.33 | Z75: 0
B76: 731/A 4 | C76: 734209114 | D76: Montáž závitovej armatúry s 2 závitmi G 3/4 | E76: KUS | F76: 168 | I76: =ROUND(F76*(G76+H76),2) -> 0 | J76: =ROUND(F76*(N76),2) -> 480.48 | K76: =ROUND(F76*(O76),2) -> 0 | L76: =ROUND(F76*(G76),2) -> 0 | N76: 2.86 | Z76: 0
B77: 731/A 4 | C77: 734209115 | D77: Montáž závitovej armatúry s 2 závitmi G 1 | E77: KUS | F77: 4 | I77: =ROUND(F77*(G77+H77),2) -> 0 | J77: =ROUND(F77*(N77),2) -> 12.52 | K77: =ROUND(F77*(O77),2) -> 0 | L77: =ROUND(F77*(G77),2) -> 0 | N77: 3.13 | Z77: 0
B78: 731/A 4 | C78: 734209116 | D78: Montáž závitovej armatúry s 2 závitmi G 5/4 | E78: ks | F78: 15 | I78: =ROUND(F78*(G78+H78),2) -> 0 | J78: =ROUND(F78*(N78),2) -> 56.1 | K78: =ROUND(F78*(O78),2) -> 0 | L78: =ROUND(F78*(G78),2) -> 0 | N78: 3.74 | Z78: 0
B79: 731/A 4 | C79: 734209118 | D79: Montáž závitovej armatúry s 2 závitmi G 2 | E79: ks | F79: 5 | I79: =ROUND(F79*(G79+H79),2) -> 0 | J79: =ROUND(F79*(N79),2) -> 28.9 | K79: =ROUND(F79*(O79),2) -> 0 | L79: =ROUND(F79*(G79),2) -> 0 | N79: 5.78 | Z79: 0
B80: R/RE | C80: 700Gk1011 | D80: Guľový kohút DN15 | E80: ks | F80: 2 | I80: =ROUND(F80*(G80+H80),2) -> 0 | J80: =ROUND(F80*(N80),2) -> 11.56 | K80: =ROUND(F80*(O80),2) -> 0 | L80: =ROUND(F80*(G80),2) -> 0 | N80: 5.78 | Z80: 0
B81: R/RE | C81: 700Gk1012 | D81: Guľový kohút DN20 | E81: ks | F81: 2 | I81: =ROUND(F81*(G81+H81),2) -> 0 | J81: =ROUND(F81*(N81),2) -> 16.5 | K81: =ROUND(F81*(O81),2) -> 0 | L81: =ROUND(F81*(G81),2) -> 0 | N81: 8.25 | Z81: 0
B82: R/RE | C82: 700Gk1013 | D82: Guľový kohút DN25 | E82: ks | F82: 2 | I82: =ROUND(F82*(G82+H82),2) -> 0 | J82: =ROUND(F82*(N82),2) -> 36 | K82: =ROUND(F82*(O82),2) -> 0 | L82: =ROUND(F82*(G82),2) -> 0 | N82: 18 | Z82: 0
B83: R/RE | C83: 700Gk1014 | D83: Guľový kohút DN32 | E83: ks | F83: 14 | I83: =ROUND(F83*(G83+H83),2) -> 0 | J83: =ROUND(F83*(N83),2) -> 300.3 | K83: =ROUND(F83*(O83),2) -> 0 | L83: =ROUND(F83*(G83),2) -> 0 | N83: 21.45 | Z83: 0
B84: R/RE | C84: 700Gk1016 | D84: Guľový kohút DN50 | E84: ks | F84: 4 | I84: =ROUND(F84*(G84+H84),2) -> 0 | J84: =ROUND(F84*(N84),2) -> 199.32 | K84: =ROUND(F84*(O84),2) -> 0 | L84: =ROUND(F84*(G84),2) -> 0 | N84: 49.83 | Z84: 0
... B99: 731/A 4 | C99: 998734201 | D99: Presun hmôt pre armatúry v objektoch výšky do 6 m | E99: % | F99: 0.25 | I99: =ROUND(F99*(G99+H99),2) -> 0 | J99: =ROUND(F99*(N99),2) -> 12.79 | K99: =ROUND(F99*(O99),2) -> 0 | L99: =ROUND(F99*(G99),2) -> 0 | N99: 51.17 | Z99: 0
D100: ÚSTREDNÉ VYKUROVANIE-ARMATÚRY | G100: =ROUND((SUM(L72:L99))/1,2) -> 0 | H100: =ROUND((SUM(M72:M99))/1,2) -> 0 | I100: =ROUND((SUM(I72:I99))/1,2) -> 0 | L100: =ROUND((SUM(L72:L99))/1,2) -> 0 | M100: =ROUND((SUM(M72:M99))/1,2) -> 0 | P100: =ROUND((SUM(P72:P99))/1,2) -> 0 | S100: =ROUND((SUM(S72:S99))/1,2) -> 0
D102: ÚSTREDNÉ VYKUROVANIE-VYKUROVACIE TELESÁ
B103: 731/C 5 | C103: 735000912 | D103: Vyregulovanie ventilu s termostatickým ovládaním | E103: ks | F103: 102 | I103: =ROUND(F103*(G103+H103),2) -> 0 | J103: =ROUND(F103*(N103),2) -> 365.16 | K103: =ROUND(F103*(O103),2) -> 0 | L103: =ROUND(F103*(G103),2) -> 0 | N103: 3.58 | Z103: 0
B104: S/S40 | C104: 4845366600 | D104: Vykur. teleso doskové - oceľ. radiátor KORAD 11K 600x400 s bočným pripoj.,s jedným panelom a jedným konvekt. alebo ekvivalen | E104: ks | F104: 4 | I104: =ROUND(F104*(G104+H104),2) -> 0 | J104: =ROUND(F104*(N104),2) -> 156.32 | K104: =ROUND(F104*(O104),2) -> 0 | M104: =ROUND(F104*(H104),2) -> 0 | N104: 39.08 | Z104: 0
B105: S/S40 | C105: 4845366620 | D105: Vykur. teleso doskové - oceľ. radiátor KORAD 11K 600x600 s bočným pripoj.,s jedným panelom a jedným konvekt. alebo ekvivalen | E105: ks | F105: 4 | I105: =ROUND(F105*(G105+H105),2) -> 0 | J105: =ROUND(F105*(N105),2) -> 178.8 | K105: =ROUND(F105*(O105),2) -> 0 | M105: =ROUND(F105*(H105),2) -> 0 | N105: 44.7 | Z105: 0
B106: S/S40 | C106: 4845366640 | D106: Vykur. teleso doskové - oceľ. radiátor KORAD 11K 600x800 s bočným pripoj.,s jedným panelom a jedným konvekt. alebo ekvivalen | E106: ks | F106: 3 | I106: =ROUND(F106*(G106+H106),2) -> 0 | J106: =ROUND(F106*(N106),2) -> 160.62 | K106: =ROUND(F106*(O106),2) -> 0 | M106: =ROUND(F106*(H106),2) -> 0 | N106: 53.54 | Z106: 0
B107: S/S40 | C107: 4845366680 | D107: Vykur. teleso doskové - oceľ. radiátor KORAD 11K 600x1200 s bočným pripoj.,s jedným panelom a jedným konvekt. alebo ekvivalen | E107: ks | F107: 1 | I107: =ROUND(F107*(G107+H107),2) -> 0 | J107: =ROUND(F107*(N107),2) -> 71.28 | K107: =ROUND(F107*(O107),2) -> 0 | M107: =ROUND(F107*(H107),2) -> 0 | N107: 71.28 | Z107: 0
B108: S/S40 | C108: 4845390100 | D108: Vykur. teleso doskové - oceľ. radiátor KORAD 11VK 600x400 s pripoj. vpravo/vľavo,s jedným panelom a jedným konvekt. alebo ekvivalent | E108: ks | F108: 12 | I108: =ROUND(F108*(G108+H108),2) -> 0 | J108: =ROUND(F108*(N108),2) -> 744.96 | K108: =ROUND(F108*(O108),2) -> 0 | M108: =ROUND(F108*(H108),2) -> 0 | N108: 62.08 | Z108: 0
B109: S/S40 | C109: 4845390150 | D109: Vykurovacie teleso doskové oceľové KORAD VKP 11K s jedným panelom a jedným konvektorom 600x0500 alebo ekvivalent | E109: ks | F109: 1 | I109: =ROUND(F109*(G109+H109),2) -> 0 | J109: =ROUND(F109*(N109),2) -> 63.29 | K109: =ROUND(F109*(O109),2) -> 0 | M109: =ROUND(F109*(H109),2) -> 0 | N109: 63.29 | Z109: 0
B110: S/S40 | C110: 4845390300 | D110: Vykur. teleso doskové - oceľ. radiátor KORAD 11VK 600x800 s pripoj. vpravo/vľavo,s jedným panelom a jedným konvekt. alebo ekvivalent | E110: ks | F110: 11 | I110: =ROUND(F110*(G110+H110),2) -> 0 | J110: =ROUND(F110*(N110),2) -> 841.94 | K110: =ROUND(F110*(O110),2) -> 0 | M110: =ROUND(F110*(H110),2) -> 0 | N110: 76.54 | Z110: 0
B111: S/S40 | C111: 4845390500 | D111: Vykurovacie teleso doskové oceľové KORAD VKP 11K s jedným panelom a jedným konvektorom 600x1200 alebo ekvivalent | E111: ks | F111: 8 | I111: =ROUND(F111*(G111+H111),2) -> 0 | J111: =ROUND(F111*(N111),2) -> 738.96 | K111: =ROUND(F111*(O111),2) -> 0 | M111: =ROUND(F111*(H111),2) -> 0 | N111: 92.37 | Z111: 0
B112: S/S40 | C112: 4845390600 | D112: Vykurovacie teleso doskové oceľové KORAD VKP 11K s jedným panelom a jedným konvektorom 600x1400 alebo ekvivalent | E112: ks | F112: 17 | I112: =ROUND(F112*(G112+H112),2) -> 0 | J112: =ROUND(F112*(N112),2) -> 1718.53 | K112: =ROUND(F112*(O112),2) -> 0 | M112: =ROUND(F112*(H112),2) -> 0 | N112: 101.09 | Z112: 0
B113: S/S40 | C113: 4845390700 | D113: Vykurovacie teleso doskové oceľové KORAD VKP 11K s jedným panelom a jedným konvektorom 600x1600 alebo ekvivalent | E113: ks | F113: 4 | I113: =ROUND(F113*(G113+H113),2) -> 0 | J113: =ROUND(F113*(N113),2) -> 439.04 | K113: =ROUND(F113*(O113),2) -> 0 | M113: =ROUND(F113*(H113),2) -> 0 | N113: 109.76 | Z113: 0
B114: S/S40 | C114: 4845380350 | D114: Vykur. teleso doskové - oceľ. radiátor KORAD 22K 600x600 s bočným pripoj.,s dvoma panelmi a dvoma konvekt. alebo ekvivalent | E114: ks | F114: 3 | I114: =ROUND(F114*(G114+H114),2) -> 0 | J114: =ROUND(F114*(N114),2) -> 195.45 | K114: =ROUND(F114*(O114),2) -> 0 | M114: =ROUND(F114*(H114),2) -> 0 | N114: 65.15 | Z114: 0
B115: S/S40 | C115: 4845380450 | D115: Vykur. teleso doskové - oceľ. radiátor KORAD 22K 600x800 s bočným pripoj.,s dvoma panelmi a dvoma konvekt. alebo ekvivalent | E115: ks | F115: 1 | I115: =ROUND(F115*(G115+H115),2) -> 0 | J115: =ROUND(F115*(N115),2) -> 80.22 | K115: =ROUND(F115*(O115),2) -> 0 | M115: =ROUND(F115*(H115),2) -> 0 | N115: 80.22 | Z115: 0
... B124: S/S40 | C124: 4845385150 | D124: Vykur. teleso doskové - oceľ. radiátor KORAD 33K 600x600 s bočným pripoj.,s troma panelmi a troma konvekt. alebo ekvivalent | E124: ks | F124: 1 | I124: =ROUND(F124*(G124+H124),2) -> 0 | J124: =ROUND(F124*(N124),2) -> 99.92 | K124: =ROUND(F124*(O124),2) -> 0 | M124: =ROUND(F124*(H124),2) -> 0 | N124: 99.92 | Z124: 0
B125: R/RE | C125: 720V10000 | D125: Príslušenstvo k radiátorom | E125: ks | F125: 102 | I125: =ROUND(F125*(G125+H125),2) -> 0 | J125: =ROUND(F125*(N125),2) -> 1020 | K125: =ROUND(F125*(O125),2) -> 0 | L125: =ROUND(F125*(G125),2) -> 0 | N125: 10 | Z125: 0
B126: 731/A 5 | C126: 735154040 | D126: Montáž vykurovacieho telesa panelového jednoradového 600 mm/ dĺžky 400-600 mm | E126: ks | F126: 21 | I126: =ROUND(F126*(G126+H126),2) -> 0 | J126: =ROUND(F126*(N126),2) -> 109.41 | K126: =ROUND(F126*(O126),2) -> 0 | L126: =ROUND(F126*(G126),2) -> 0 | N126: 5.21 | Z126: 0
B127: 731/A 5 | C127: 735154041 | D127: Montáž vykurovacieho telesa panelového jednoradového 600 mm/ dĺžky 700-900 mm | E127: ks | F127: 14 | I127: =ROUND(F127*(G127+H127),2) -> 0 | J127: =ROUND(F127*(N127),2) -> 77.42 | K127: =ROUND(F127*(O127),2) -> 0 | L127: =ROUND(F127*(G127),2) -> 0 | N127: 5.53 | Z127: 0
B128: 731/A 5 | C128: 735154042 | D128: Montáž vykurovacieho telesa panelového jednoradového 600 mm/ dĺžky 1000-1200 mm | E128: ks | F128: 9 | I128: =ROUND(F128*(G128+H128),2) -> 0 | J128: =ROUND(F128*(N128),2) -> 52.65 | K128: =ROUND(F128*(O128),2) -> 0 | L128: =ROUND(F128*(G128),2) -> 0 | N128: 5.85 | Z128: 0
B129: 731/A 5 | C129: 735154043 | D129: Montáž vykurovacieho telesa panelového jednoradového 600 mm/ dĺžky 1400-1800 mm | E129: ks | F129: 21 | I129: =ROUND(F129*(G129+H129),2) -> 0 | J129: =ROUND(F129*(N129),2) -> 156.87 | K129: =ROUND(F129*(O129),2) -> 0 | L129: =ROUND(F129*(G129),2) -> 0 | N129: 7.47 | Z129: 0
...

Sheet Kryci_list 11563
F1: Krycí list rozpočtu | W1: 30.126
B2: Stavba Zvyšenie energetickej hospodárnosti Materskej školy Vyšný Žipov | G2: Miesto:
B3: Objekt Zmena plynofikácie
I4: Ks:
B5: Zákazka: | F5: Spracoval: | I5: Dňa | J5: 25.03.2017
B6: Odberateľ: Obec Vyšný Žipov | G6: IČO:
G7: DIČ:
B8: Dodávateľ: Ing. arch. Ľubomír Naňák | G8: IČO:
G9: DIČ:
B10: Projektant: | G10: IČO:
G11: DIČ:
B15: A | C15: ZRN | D15: Montáž | E15: Materiál | F15: ZRN spolu | G15: B | H15: Ďalšie náklady
B16: 1 | C16: HSV | G16: 6 | H16: Ostatné náklady | J16: 0
B17: 2 | C17: PSV | D17: ='Rekap 11563'!B13 -> 0 | E17: ='Rekap 11563'!C13 -> 0 | F17: ='Rekap 11563'!D13 -> 0 | G17: 7 | H17: Kompletačná činnosť | J17: ='SO 11563'!Z49 -> 0
B18: 3 | C18: MONT | G18: 8 | H18: HZS | J18: 0
B19: 4 | G19: 9
B20: 5 | C20: Spolu | F20: =SUM(F16:F19) -> 0 | G20: 10 | H20: Spolu | J20: =SUM(J16:J19) -> 0
B21: C | C21: VRN | G21: D | H21: VRN
B22: 11 | C22: Zariadenie staveniska | E22: 0% z [H+P+M] | F22: =((F16*U22*0)+(F17*V22*0)+(F18*W22*0))/100 -> 0 | G22: 16 | H22: Mimoriadne sťaž.podmienky | I22: 0% z [H+P+M] | J22: =((F16*X22*0)+(F17*Y22*0)+(F18*Z22*0))/100 -> 0 | U22: 1 | V22: 1 | W22: 1 | X22: 1 | Y22: 1 | Z22: 1
B23: 12 | C23: Územie so sťaž. podmienk. | E23: 0% z [H+P] | F23: =((F16*U23*0)+(F17*V23*0)+(F18*W23*0))/100 -> 0 | G23: 17 | H23: Horské oblasti | I23: 0% z [H+P+M] | J23: =((F16*X23*0)+(F17*Y23*0)+(F18*Z23*0))/100 -> 0 | U23: 1 | V23: 1 | W23: 0 | X23: 1 | Y23: 1 | Z23: 1
B24: 13 | C24: Prevádzkové vplyvy | E24: 0% z [H+P+M] | F24: =((F16*U24*0)+(F17*V24*0)+(F18*W24*0))/100 -> 0 | G24: 18 | H24: Mimostavenisková doprava | I24: 0% z [H+P] | J24: =((F16*X24*0)+(F17*Y24*0)+(F18*Z24*0))/100 -> 0 | U24: 1 | V24: 1 | W24: 1 | X24: 1 | Y24: 1 | Z24: 0
B25: 14 | G25: 19
B26: 15 | G26: 20 | H26: Spolu | J26: =SUM(J22:J25)+SUM(F22:F25) -> 0
C27: Projektant,rozpočtár | G27: E | H27: Celkové náklady
G28: 21 | H28: Súčet riadkov 5,10,15,20 | J28: =F20+J20+F26+J26 -> 0
G29: 22 | H29: DPH 20% z | I29: =J28-SUM('SO 11563'!K9:'SO 11563'!K48) -> 0 | J29: =ROUND(((ROUND(I29,2)*20)*1/100),2) -> 0
G30: 23 | H30: DPH 0% z | I30: =SUM('SO 11563'!K9:'SO 11563'!K48) -> 0 | J30: =ROUND(((ROUND(I30,2)*0)/100),2) -> 0
G31: 24 | H31: Spolu | J31: =SUM(J28:J30) -> 0
G32: F
D33: Odberateľ | G33: 26 | H33: Dodávateľ

Sheet Rekap 11563
A1: Odberateľ: Obec Vyšný Žipov | D1: Spracoval: | W1: 30.126
A2: Projektant: | D2: Ks:
A3: Dodávateľ: Ing. arch. Ľubomír Naňák | D3: Dátum: 25.03.2017
A4: Stavba Zvyšenie energetickej hospodárnosti Materskej školy Vyšný Žipov
A5: Objekt Zmena plynofikácie
A8: Prehľad rozpočtových nákladov
A9: Oddiel | B9: Montáž | C9: Materiál | D9: Spolu | E9: Hmotnosť (T) | F9: Suť (T)
A10: Práce PSV
A11: ZTI-VNÚTORNÝ PLYNOVOD | B11: ='SO 11563'!L42 -> 0 | C11: ='SO 11563'!M42 -> 0 | D11: ='SO 11563'!I42 -> 0 | E11: ='SO 11563'!P42 -> 0 | F11: ='SO 11563'!S42 -> 0
A12: NÁTERY | B12: ='SO 11563'!L46 -> 0 | C12: ='SO 11563'!M46 -> 0 | D12: ='SO 11563'!I46 -> 0 | E12: ='SO 11563'!P46 -> 0 | F12: ='SO 11563'!S46 -> 0
A13: Práce PSV | B13: ='SO 11563'!L48 -> 0 | C13: ='SO 11563'!M48 -> 0 | D13: ='SO 11563'!I48 -> 0 | E13: ='SO 11563'!P48 -> 0 | F13: ='SO 11563'!S48 -> 0
A15: Celkom | B15: ='SO 11563'!L49 -> 0 | C15: ='SO 11563'!M49 -> 0 | D15: ='SO 11563'!I49 -> 0 | E15: ='SO 11563'!P49 -> 0 | F15: ='SO 11563'!S49 -> 0

Sheet SO 11563
B1: Odberateľ: Obec Vyšný Žipov | E1: Spracoval: | W1: 30.126
B2: Projektant: | E2: Ks:
B3: Dodávateľ: Ing. arch. Ľubomír Naňák | E3: Dátum: 25.03.2017
B4: Stavba Zvyšenie energetickej hospodárnosti Materskej školy Vyšný Žipov
B5: Objekt Zmena plynofikácie
B7: Prehľad rozpočtových nákladov
A8: Por.č. | B8: Cenník | C8: Kód položky | D8: Názov | E8: Mj | F8: Množstvo | G8: Montáž | H8: Materiál | I8: Cena celkom | P8: Hmotnosť | S8: Suť
D9: Práce PSV
D10: ZTI-VNÚTORNÝ PLYNOVOD
B11: 721/A 3 | C11: 723120203 | D11: Potrubie z oceľových rúrok závitových čiernych spájaných zvarovaním - akosť 11 353.0 DN 20 | E11: m | F11: 3 | I11: =ROUND(F11*(G11+H11),2) -> 0 | J11: =ROUND(F11*(N11),2) -> 28.41 | K11: =ROUND(F11*(O11),2) -> 0 | L11: =ROUND(F11*(G11),2) -> 0 | N11: 9.47 | Z11: 0
B12: 721/A 3 | C12: 723120204 | D12: Potrubie z oceľových rúrok závitových čiernych spájaných zvarovaním - akosť 11 353.0 DN 25 | E12: m | F12: 4 | I12: =ROUND(F12*(G12+H12),2) -> 0 | J12: =ROUND(F12*(N12),2) -> 43 | K12: =ROUND(F12*(O12),2) -> 0 | L12: =ROUND(F12*(G12),2) -> 0 | N12: 10.75 | Z12: 0
B13: 721/A 3 | C13: 723120206 | D13: Potrubie z oceľových rúrok závitových čiernych spájaných zvarovaním - akosť 11 353.0 DN 40 | E13: m | F13: 1 | I13: =ROUND(F13*(G13+H13),2) -> 0 | J13: =ROUND(F13*(N13),2) -> 13.42 | K13: =ROUND(F13*(O13),2) -> 0 | L13: =ROUND(F13*(G13),2) -> 0 | N13: 13.42 | Z13: 0
B14: 721/A 3 | C14: 723150312 | D14: Potrubie z oceľových rúrok hladkých čiernych spájaných zvarov. akosť 11 353.0 D 57/2, 9 | E14: m | F14: 3 | I14: =ROUND(F14*(G14+H14),2) -> 0 | J14: =ROUND(F14*(N14),2) -> 43.23 | K14: =ROUND(F14*(O14),2) -> 0 | L14: =ROUND(F14*(G14),2) -> 0 | N14: 14.41 | Z14: 0
B15: 721/A 3 | C15: 723150366 | D15: Potrubie z oceľových rúrok hladkých čiernych, chránička D 44,5/2 | E15: m | F15: 1 | I15: =ROUND(F15*(G15+H15),2) -> 0 | J15: =ROUND(F15*(N15),2) -> 8.9 | K15: =ROUND(F15*(O15),2) -> 0 | L15: =ROUND(F15*(G15),2) -> 0 | N15: 8.9 | Z15: 0
B16: 721/B 3 | C16: 723120804 | D16: Demontáž potrubia zvarovaného z oceľových rúrok závitových do DN 25, -0,00215t | E16: m | F16: 14 | I16: =ROUND(F16*(G16+H16),2) -> 0 | J16: =ROUND(F16*(N16),2) -> 12.32 | K16: =ROUND(F16*(O16),2) -> 0 | L16: =ROUND(F16*(G16),2) -> 0 | N16: 0.88 | Z16: 0
B17: R/RE | C17: 388411505 | D17: Tlakomer deformačný kruhový 0-6 kPa, 100mm | E17: kus | F17: 2 | I17: =ROUND(F17*(G17+H17),2) -> 0 | J17: =ROUND(F17*(N17),2) -> 79.2 | K17: =ROUND(F17*(O17),2) -> 0 | L17: =ROUND(F17*(G17),2) -> 0 | N17: 39.6 | Z17: 0
B18: R/RE | C18: 388411502 | D18: Tlakomerový kohút M20x1,5mm | E18: kus | F18: 2 | I18: =ROUND(F18*(G18+H18),2) -> 0 | J18: =ROUND(F18*(N18),2) -> 36.3 | K18: =ROUND(F18*(O18),2) -> 0 | L18: =ROUND(F18*(G18),2) -> 0 | N18: 18.15 | Z18: 0
B19: R/RE | C19: 388411503 | D19: Kondenzačná slučka privarovacia s nátr. prípojkou M20x1,5mm | E19: kus | F19: 2 | I19: =ROUND(F19*(G19+H19),2) -> 0 | J19: =ROUND(F19*(N19),2) -> 23.1 | K19: =ROUND(F19*(O19),2) -> 0 | L19: =ROUND(F19*(G19),2) -> 0 | N19: 11.55 | Z19: 0
B20: R/RE | C20: 900SK1001 | D20: Plechová skrinka na RTP a Plynomer 750x985x300mm | E20: ks | F20: 1 | I20: =ROUND(F20*(G20+H20),2) -> 0 | J20: =ROUND(F20*(N20),2) -> 85 | K20: =ROUND(F20*(O20),2) -> 0 | L20: =ROUND(F20*(G20),2) -> 0 | N20: 85 | Z20: 0
B21: R/RE | C21: 921RTP320 | D21: Regulátor tlaku plynu Pietro Fiorentini FE25, prietok 25m3/hod. alebo ekvivalent | E21: ks | F21: 1 | I21: =ROUND(F21*(G21+H21),2) -> 0 | J21: =ROUND(F21*(N21),2) -> 190 | K21: =ROUND(F21*(O21),2) -> 0 | L21: =ROUND(F21*(G21),2) -> 0 | N21: 190 | Z21: 0
B22: R/RE | C22: 700Gk1012 | D22: Guľový kohút DN20 | E22: ks | F22: 2 | I22: =ROUND(F22*(G22+H22),2) -> 0 | J22: =ROUND(F22*(N22),2) -> 16.5 | K22: =ROUND(F22*(O22),2) -> 0 | L22: =ROUND(F22*(G22),2) -> 0 | N22: 8.25 | Z22: 0
... B41: HZS/HZS | C41: HZS000114 | D41: Tlaková skúška, revízie, spustenie do prevádzky | E41: hod | F41: 24 | I41: =ROUND(F41*(G41+H41),2) -> 0 | J41: =ROUND(F41*(N41),2) -> 354.48 | K41: =ROUND(F41*(O41),2) -> 0 | L41: =ROUND(F41*(G41),2) -> 0 | N41: 14.77 | Z41: 0
D42: ZTI-VNÚTORNÝ PLYNOVOD | G42: =ROUND((SUM(L10:L41))/1,2) -> 0 | H42: =ROUND((SUM(M10:M41))/1,2) -> 0 | I42: =ROUND((SUM(I10:I41))/1,2) -> 0 | L42: =ROUND((SUM(L10:L41))/1,2) -> 0 | M42: =ROUND((SUM(M10:M41))/1,2) -> 0 | P42: =ROUND((SUM(P10:P41))/1,2) -> 0 | S42: =ROUND((SUM(S10:S41))/1,2) -> 0
D44: NÁTERY
B45: 783/A 1 | C45: 783424140 | D45: Nátery kov.potr.a armatúr syntet. do DN 50 mm farby bielej dvojnás. so základným náterom | E45: m | F45: 20 | I45: =ROUND(F45*(G45+H45),2) -> 0 | J45: =ROUND(F45*(N45),2) -> 26 | K45: =ROUND(F45*(O45),2) -> 0 | L45: =ROUND(F45*(G45),2) -> 0 | N45: 1.3 | Z45: 0
D46: NÁTERY | G46: =ROUND((SUM(L44:L45))/1,2) -> 0 | H46: =ROUND((SUM(M44:M45))/1,2) -> 0 | I46: =ROUND((SUM(I44:I45))/1,2) -> 0 | L46: =ROUND((SUM(L44:L45))/1,2) -> 0 | M46: =ROUND((SUM(M44:M45))/1,2) -> 0 | P46: =ROUND((SUM(P44:P45))/1,2) -> 0 | S46: =ROUND((SUM(S44:S45))/1,2) -> 0
D48: Práce PSV | G48: =ROUND((SUM(L9:L47))/2,2) -> 0 | H48: =ROUND((SUM(M9:M47))/2,2) -> 0 | I48: =ROUND((SUM(I9:I47))/2,2) -> 0 | L48: =ROUND((SUM(L9:L47))/2,2) -> 0 | M48: =ROUND((SUM(M9:M47))/2,2) -> 0 | P48: =ROUND((SUM(P9:P47))/2,2) -> 0 | S48: =ROUND((SUM(S9:S47))/2,2) -> 0
B49: Zmena plynofikácie | F49: Celkom | G49: =ROUND((SUM(L9:L48))/3,2) -> 0 | H49: =ROUND((SUM(M9:M48))/3,2) -> 0 | I49: =ROUND((SUM(I9:I48))/3,2) -> 0 | K49: =ROUND((SUM(K9:K48)),2) -> 0 | L49: =ROUND((SUM(L9:L48))/3,2) -> 0 | M49: =ROUND((SUM(M9:M48))/3,2) -> 0 | P49: =ROUND((SUM(P9:P48))/3,2) -> 0 | S49: =ROUND((SUM(S9:S48))/3,2) -> 0 | Z49: =(SUM(Z9:Z48)) -> 0

Sheet Kryci_list 11564
F1: Krycí list rozpočtu | W1: 30.126
B2: Stavba Zvyšenie energetickej hospodárnosti Materskej školy Vyšný Žipov | G2: Miesto:
B3: Objekt Elektroinštalácia
I4: Ks:
B5: Zákazka: | F5: Spracoval: | I5: Dňa | J5: 25.03.2017
B6: Odberateľ: Obec Vyšný Žipov | G6: IČO:
G7: DIČ:
B8: Dodávateľ: Ing. arch. Ľubomír Naňák | G8: IČO:
G9: DIČ:
B10: Projektant: | G10: IČO:
G11: DIČ:
B15: A | C15: ZRN | D15: Montáž | E15: Materiál | F15: ZRN spolu | G15: B | H15: Ďalšie náklady
B16: 1 | C16: HSV | G16: 6 | H16: Ostatné náklady | J16: 0
B17: 2 | C17: PSV | G17: 7 | H17: Kompletačná činnosť | J17: ='SO 11564'!Z155 -> 0
B18: 3 | C18: MONT | D18: ='Rekap 11564'!B13 -> 0 | E18: ='Rekap 11564'!C13 -> 0 | F18: ='Rekap 11564'!D13 -> 0 | G18: 8 | H18: HZS | J18: 0
B19: 4 | G19: 9
B20: 5 | C20: Spolu | F20: =SUM(F16:F19) -> 0 | G20: 10 | H20: Spolu | J20: =SUM(J16:J19) -> 0
B21: C | C21: VRN | G21: D | H21: VRN
B22: 11 | C22: Zariadenie staveniska | E22: 0% z [H+P+M] | F22: =((F16*U22*0)+(F17*V22*0)+(F18*W22*0))/100 -> 0 | G22: 16 | H22: Mimoriadne sťaž.podmienky | I22: 0% z [H+P+M] | J22: =((F16*X22*0)+(F17*Y22*0)+(F18*Z22*0))/100 -> 0 | U22: 1 | V22: 1 | W22: 1 | X22: 1 | Y22: 1 | Z22: 1
B23: 12 | C23: Územie so sťaž. podmienk. | E23: 0% z [H+P] | F23: =((F16*U23*0)+(F17*V23*0)+(F18*W23*0))/100 -> 0 | G23: 17 | H23: Horské oblasti | I23: 0% z [H+P+M] | J23: =((F16*X23*0)+(F17*Y23*0)+(F18*Z23*0))/100 -> 0 | U23: 1 | V23: 1 | W23: 0 | X23: 1 | Y23: 1 | Z23: 1
B24: 13 | C24: Prevádzkové vplyvy | E24: 0% z [H+P+M] | F24: =((F16*U24*0)+(F17*V24*0)+(F18*W24*0))/100 -> 0 | G24: 18 | H24: Mimostavenisková doprava | I24: 0% z [H+P] | J24: =((F16*X24*0)+(F17*Y24*0)+(F18*Z24*0))/100 -> 0 | U24: 1 | V24: 1 | W24: 1 | X24: 1 | Y24: 1 | Z24: 0
B25: 14 | G25: 19
B26: 15 | G26: 20 | H26: Spolu | J26: =SUM(J22:J25)+SUM(F22:F25) -> 0
C27: Projektant,rozpočtár | G27: E | H27: Celkové náklady
G28: 21 | H28: Súčet riadkov 5,10,15,20 | J28: =F20+J20+F26+J26 -> 0
G29: 22 | H29: DPH 20% z | I29: =J28-SUM('SO 11564'!K9:'SO 11564'!K154) -> 0 | J29: =ROUND(((ROUND(I29,2)*20)*1/100),2) -> 0
G30: 23 | H30: DPH 0% z | I30: =SUM('SO 11564'!K9:'SO 11564'!K154) -> 0 | J30: =ROUND(((ROUND(I30,2)*0)/100),2) -> 0
G31: 24 | H31: Spolu | J31: =SUM(J28:J30) -> 0
G32: F
D33: Odberateľ | G33: 26 | H33: Dodávateľ

Sheet Rekap 11564
A1: Odberateľ: Obec Vyšný Žipov | D1: Spracoval: | W1: 30.126
A2: Projektant: | D2: Ks:
A3: Dodávateľ: Ing. arch. Ľubomír Naňák | D3: Dátum: 25.03.2017
A4: Stavba Zvyšenie energetickej hospodárnosti Materskej školy Vyšný Žipov
A5: Objekt Elektroinštalácia
A8: Prehľad rozpočtových nákladov
A9: Oddiel | B9: Montáž | C9: Materiál | D9: Spolu | E9: Hmotnosť (T) | F9: Suť (T)
A10: Montážne práce
A11: M-21 ELEKTROMONTÁŽE | B11: ='SO 11564'!L146 -> 0 | C11: ='SO 11564'!M146 -> 0 | D11: ='SO 11564'!I146 -> 0 | E11: ='SO 11564'!P146 -> 0 | F11: ='SO 11564'!S146 -> 0
A12: M-46 MONTÁŽE ZEMNÝCH PRÁC | B12: ='SO 11564'!L152 -> 0 | C12: ='SO 11564'!M152 -> 0 | D12: ='SO 11564'!I152 -> 0 | E12: ='SO 11564'!P152 -> 0 | F12: ='SO 11564'!S152 -> 0
A13: Montážne práce | B13: ='SO 11564'!L154 -> 0 | C13: ='SO 11564'!M154 -> 0 | D13: ='SO 11564'!I154 -> 0 | E13: ='SO 11564'!P154 -> 0 | F13: ='SO 11564'!S154 -> 0
A15: Celkom | B15: ='SO 11564'!L155 -> 0 | C15: ='SO 11564'!M155 -> 0 | D15: ='SO 11564'!I155 -> 0 | E15: ='SO 11564'!P155 -> 0 | F15: ='SO 11564'!S155 -> 0

Sheet SO 11564
B1: Odberateľ: Obec Vyšný Žipov | E1: Spracoval: | W1: 30.126
B2: Projektant: | E2: Ks:
B3: Dodávateľ: Ing. arch. Ľubomír Naňák | E3: Dátum: 25.03.2017
B4: Stavba Zvyšenie energetickej hospodárnosti Materskej školy Vyšný Žipov
B5: Objekt Elektroinštalácia
B7: Prehľad rozpočtových nákladov
A8: Por.č. | B8: Cenník | C8: Kód položky | D8: Názov | E8: Mj | F8: Množstvo | G8: Montáž | H8: Materiál | I8: Cena celkom | P8: Hmotnosť | S8: Suť
D9: Montážne práce
D10: M-21 ELEKTROMONTÁŽE
B11: P/PE | C11: MAT1 | D11: Kábel N2XH-O 2x1,5 | E11: m | F11: 1224 | I11: =ROUND(F11*(G11+H11),2) -> 0 | J11: =ROUND(F11*(N11),2) -> 636.48 | K11: =ROUND(F11*(O11),2) -> 0 | M11: =ROUND(F11*(H11),2) -> 0 | N11: 0.52 | Z11: 0
B12: P/PE | C12: MAT2 | D12: Kábel N2XH-O 3x1,5 | E12: m | F12: 328 | I12: =ROUND(F12*(G12+H12),2) -> 0 | J12: =ROUND(F12*(N12),2) -> 196.8 | K12: =ROUND(F12*(O12),2) -> 0 | M12: =ROUND(F12*(H12),2) -> 0 | N12: 0.6 | Z12: 0
B13: P/PE | C13: MAT3 | D13: Kábel N2XH-J 3x1,5 | E13: m | F13: 1895 | I13: =ROUND(F13*(G13+H13),2) -> 0 | J13: =ROUND(F13*(N13),2) -> 1137 | K13: =ROUND(F13*(O13),2) -> 0 | M13: =ROUND(F13*(H13),2) -> 0 | N13: 0.6 | Z13: 0
B14: P/PE | C14: MAT4 | D14: Kábel N2XH-J 3x2,5 | E14: m | F14: 1952 | I14: =ROUND(F14*(G14+H14),2) -> 0 | J14: =ROUND(F14*(N14),2) -> 1620.16 | K14: =ROUND(F14*(O14),2) -> 0 | M14: =ROUND(F14*(H14),2) -> 0 | N14: 0.83 | Z14: 0
B15: P/PE | C15: MAT5 | D15: Kábel N2XH-J 5x2,5 | E15: m | F15: 106 | I15: =ROUND(F15*(G15+H15),2) -> 0 | J15: =ROUND(F15*(N15),2) -> 144.16 | K15: =ROUND(F15*(O15),2) -> 0 | M15: =ROUND(F15*(H15),2) -> 0 | N15: 1.36 | Z15: 0
B16: P/PE | C16: MAT6 | D16: Kábel N2XH-J 5x6 | E16: m | F16: 75 | I16: =ROUND(F16*(G16+H16),2) -> 0 | J16: =ROUND(F16*(N16),2) -> 291 | K16: =ROUND(F16*(O16),2) -> 0 | M16: =ROUND(F16*(H16),2) -> 0 | N16: 3.88 | Z16: 0
B17: P/PE | C17: MAT7 | D17: Kábel N2XH-J 5x10 | E17: m | F17: 52 | I17: =ROUND(F17*(G17+H17),2) -> 0 | J17: =ROUND(F17*(N17),2) -> 303.16 | K17: =ROUND(F17*(O17),2) -> 0 | M17: =ROUND(F17*(H17),2) -> 0 | N17: 5.83 | Z17: 0
B18: P/PE | C18: MAT8 | D18: Kábel N2XH-J 4x25 | E18: m | F18: 50 | I18: =ROUND(F18*(G18+H18),2) -> 0 | J18: =ROUND(F18*(N18),2) -> 617 | K18: =ROUND(F18*(O18),2) -> 0 | M18: =ROUND(F18*(H18),2) -> 0 | N18: 12.34 | Z18: 0
B19: P/PE | C19: MAT9 | D19: Kábel NHXH-J 3x1,5 | E19: m | F19: 402 | I19: =ROUND(F19*(G19+H19),2) -> 0 | J19: =ROUND(F19*(N19),2) -> 651.24 | K19: =ROUND(F19*(O19),2) -> 0 | M19: =ROUND(F19*(H19),2) -> 0 | N19: 1.62 | Z19: 0
B20: P/PE | C20: MAT10 | D20: Kábel CHKE-R 3x1 | E20: m | F20: 956 | I20: =ROUND(F20*(G20+H20),2) -> 0 | J20: =ROUND(F20*(N20),2) -> 573.6 | K20: =ROUND(F20*(O20),2) -> 0 | M20: =ROUND(F20*(H20),2) -> 0 | N20: 0.6 | Z20: 0
B21: P/PE | C21: MAT11 | D21: JXFE-R 2x2x08 | E21: m | F21: 593 | I21: =ROUND(F21*(G21+H21),2) -> 0 | J21: =ROUND(F21*(N21),2) -> 225.34 | K21: =ROUND(F21*(O21),2) -> 0 | M21: =ROUND(F21*(H21),2) -> 0 | N21: 0.38 | Z21: 0
B22: P/PE | C22: MAT12 | D22: Vodič N2XH 6 zž | E22: m | F22: 294 | I22: =ROUND(F22*(G22+H22),2) -> 0 | J22: =ROUND(F22*(N22),2) -> 273.42 | K22: =ROUND(F22*(O22),2) -> 0 | M22: =ROUND(F22*(H22),2) -> 0 | N22: 0.93 | Z22: 0
... B27: P/PE | C27: MAT17 | D27: Rozvádzač RS12 | E27: ks | F27: 1 | I27: =ROUND(F27*(G27+H27),2) -> 0 | J27: =ROUND(F27*(N27),2) -> 1690 | K27: =ROUND(F27*(O27),2) -> 0 | M27: =ROUND(F27*(H27),2) -> 0 | N27: 1690 | Z27: 0
B28: R/RE | C28: MAT18 | D28: Rozvádzač RS21 | E28: ks | F28: 1 | I28: =ROUND(F28*(G28+H28),2) -> 0 | J28: =ROUND(F28*(N28),2) -> 2954 | K28: =ROUND(F28*(O28),2) -> 0 | L28: =ROUND(F28*(G28),2) -> 0 | N28: 2954 | Z28: 0
B29: R/RE | C29: MAT19 | D29: Rozvádzač RS22 | E29: ks | F29: 1 | I29: =ROUND(F29*(G29+H29),2) -> 0 | J29: =ROUND(F29*(N29),2) -> 2940 | K29: =ROUND(F29*(O29),2) -> 0 | L29: =ROUND(F29*(G29),2) -> 0 | N29: 2940 | Z29: 0
B30: R/RE | C30: MAT20 | D30: EL1 - Svietidlo žiarivkové, parabolicka leštená mriežka, lineárna žiarivka 4x14W, 230V/50Hz, IP20, s predradníkom 0-10V/DALI alebo ekvivalent | E30: ks | F30: 175 | I30: =ROUND(F30*(G30+H30),2) -> 0 | J30: =ROUND(F30*(N30),2) -> 16042.25 | K30: =ROUND(F30*(O30),2) -> 0 | L30: =ROUND(F30*(G30),2) -> 0 | N30: 91.67 | Z30: 0
B31: R/RE | C31: MAT21 | D31: EL2 - Svietidlo žiarivkové, parabolicka leštená mriežka, lineárna žiarivka 4x14W, 230V/50Hz, IP20, s elektronickým predradníkom | E31: ks | F31: 38 | I31: =ROUND(F31*(G31+H31),2) -> 0 | J31: =ROUND(F31*(N31),2) -> 1837.3 | K31: =ROUND(F31*(O31),2) -> 0 | L31: =ROUND(F31*(G31),2) -> 0 | N31: 48.35 | Z31: 0
B32: R/RE | C32: MAT22 | D32: EL3 - Svietidlo núdzové LED, 230V/3,2W, 1h autonómnosť, IP44 | E32: ks | F32: 43 | I32: =ROUND(F32*(G32+H32),2) -> 0 | J32: =ROUND(F32*(N32),2) -> 2373.6 | K32: =ROUND(F32*(O32),2) -> 0 | L32: =ROUND(F32*(G32),2) -> 0 | N32: 55.2 | Z32: 0
B33: R/RE | C33: MAT23 | D33: EL4 - Svietidlo žiarivkové interiérové nástenná/stropné, kompaktná žiarivka 2x18W, predradník EVG, 230V/50Hz, IP20 | E33: ks | F33: 60 | I33: =ROUND(F33*(G33+H33),2) -> 0 | J33: =ROUND(F33*(N33),2) -> 1446 | K33: =ROUND(F33*(O33),2) -> 0 | L33: =ROUND(F33*(G33),2) -> 0 | N33: 24.1 | Z33: 0
B34: R/RE | C34: MAT24 | D34: EL5 - Svietidlo žiarivkové interiérové nástenná/stropné, kompaktná žiarivka 2x18W, 230V/50Hz, IP20, s pohyb. sezorom | E34: ks | F34: 31 | I34: =ROUND(F34*(G34+H34),2) -> 0 | J34: =ROUND(F34*(N34),2) -> 1589.06 | K34: =ROUND(F34*(O34),2) -> 0 | L34: =ROUND(F34*(G34),2) -> 0 | N34: 51.26 | Z34: 0
B35: R/RE | C35: MAT25 | D35: EL6 - Svietidlo žiarivkové interiérové stropné, linearna žiarivka 2x36W, 230V/50Hz, IP65 | E35: ks | F35: 20 | I35: =ROUND(F35*(G35+H35),2) -> 0 | J35: =ROUND(F35*(N35),2) -> 498.2 | K35: =ROUND(F35*(O35),2) -> 0 | L35: =ROUND(F35*(G35),2) -> 0 | N35: 24.91 | Z35: 0
B36: R/RE | C36: MAT26 | D36: Lineárna žiarivka 230V/14W | E36: ks | F36: 852 | I36: =ROUND(F36*(G36+H36),2) -> 0 | J36: =ROUND(F36*(N36),2) -> 2087.4 | K36: =ROUND(F36*(O36),2) -> 0 | L36: =ROUND(F36*(G36),2) -> 0 | N36: 2.45 | Z36: 0
B37: R/RE | C37: MAT27 | D37: Lineárna žiarivka 230V/36W | E37: ks | F37: 40 | I37: =ROUND(F37*(G37+H37),2) -> 0 | J37: =ROUND(F37*(N37),2) -> 108.4 | K37: =ROUND(F37*(O37),2) -> 0 | L37: =ROUND(F37*(G37),2) -> 0 | N37: 2.71 | Z37: 0
B38: R/RE | C38: MAT28 | D38: Kompaktná žiarivka 18W, 230V | E38: ks | F38: 182 | I38: =ROUND(F38*(G38+H38),2) -> 0 | J38: =ROUND(F38*(N38),2) -> 2407.86 | K38: =ROUND(F38*(O38),2) -> 0 | L38: =ROUND(F38*(G38),2) -> 0 | N38: 13.23 | Z38: 0
B39: R/RE | C39: MAT29 | D39: Jednopólový vypínač č.1 polozápustny,230V/16A, IP20 | E39: ks | F39: 37 | I39: =ROUND(F39*(G39+H39),2) -> 0 | J39: =ROUND(F39*(N39),2) -> 186.11 | K39: =ROUND(F39*(O39),2) -> 0 | L39: =ROUND(F39*(G39),2) -> 0 | N39: 5.03 | Z39: 0
... B72: R/RE | C72: DPM | D72: Drobný pomocný materiál | E72: ks | F72: 1 | I72: =ROUND(F72*(G72+H72),2) -> 0 | J72: =ROUND(F72*(N72),2) -> 150 | K72: =ROUND(F72*(O72),2) -> 0 | L72: =ROUND(F72*(G72),2) -> 0 | N72: 150 | Z72: 0
B73: R/RE | C73: PMM | D73: Podružný materiál 3% | E73: 1 | F73: 0.03 | I73: =ROUND(F73*(G73+H73),2) -> 0 | J73: =ROUND(F73*(N73),2) -> 2179.43 | K73: =ROUND(F73*(O73),2) -> 0 | L73: =ROUND(F73*(G73),2) -> 0 | N73: 72647.54 | Z73: 0
B74: R/RE | C74: 210881069 | D74: Kábel N2XH-O 2x1,5 | E74: m | F74: 1224 | I74: =ROUND(F74*(G74+H74),2) -> 0 | J74: =ROUND(F74*(N74),2) -> 795.6 | K74: =ROUND(F74*(O74),2) -> 0 | L74: =ROUND(F74*(G74),2) -> 0 | N74: 0.65 | Z74: 0
B75: R/RE | C75: 210881075 | D75: Kábel N2XH-O 3x1,5 | E75: m | F75: 328 | I75: =ROUND(F75*(G75+H75),2) -> 0 | J75: =ROUND(F75*(N75),2) -> 219.76 | K75: =ROUND(F75*(O75),2) -> 0 | L75: =ROUND(F75*(G75),2) -> 0 | N75: 0.67 | Z75: 0
B76: R/RE | C76: 210881075 | D76: Kábel N2XH-J 3x1,5 | E76: m | F76: 1895 | I76: =ROUND(F76*(G76+H76),2) -> 0 | J76: =ROUND(F76*(N76),2) -> 1269.65 | K76: =ROUND(F76*(O76),2) -> 0 | L76: =ROUND(F76*(G76),2) -> 0 | N76: 0.67 | Z76: 0
B77: R/RE | C77: 210881076 | D77: Kábel N2XH-J 3x2,5 | E77: m | F77: 1952 | I77: =ROUND(F77*(G77+H77),2) -> 0 | J77: =ROUND(F77*(N77),2) -> 1503.04 | K77: =ROUND(F77*(O77),2) -> 0 | L77: =ROUND(F77*(G77),2) -> 0 | N77: 0.77 | Z77: 0
B78: R/RE | C78: 210881101 | D78: Kábel N2XH-J 5x2,5 | E78: m | F78: 106 | I78: =ROUND(F78*(G78+H78),2) -> 0 | J78: =ROUND(F78*(N78),2) -> 68.9 | K78: =ROUND(F78*(O78),2) -> 0 | L78: =ROUND(F78*(G78),2) -> 0 | N78: 0.65 | Z78: 0
B79: R/RE | C79: 210881104 | D79: Kábel N2XH-J 5x10 | E79: m | F79: 52 | I79: =ROUND(F79*(G79+H79),2) -> 0 | J79: =ROUND(F79*(N79),2) -> 42.64 | K79: =ROUND(F79*(O79),2) -> 0 | L79: =ROUND(F79*(G79),2) -> 0 | N79: 0.82 | Z79: 0
B80: R/RE | C80: 210881392 | D80: Kábel NHXH-J 3x1,5 | E80: m | F80: 956 | I80: =ROUND(F80*(G80+H80),2) -> 0 | J80: =ROUND(F80*(N80),2) -> 659.64 | K80: =ROUND(F80*(O80),2) -> 0 | L80: =ROUND(F80*(G80),2) -> 0 | N80: 0.69 | Z80: 0
B81: R/RE | C81: 210881075 | D81: Kábel CHKE-R 3x1 | E81: m | F81: 593 | I81: =ROUND(F81*(G81+H81),2) -> 0 | J81: =ROUND(F81*(N81),2) -> 397.31 | K81: =ROUND(F81*(O81),2) -> 0 | L81: =ROUND(F81*(G81),2) -> 0 | N81: 0.67 | Z81: 0
B82: 922/M22 | C82: 220280221 | D82: JXFE-R 2x2x08 | E82: m | F82: 395 | I82: =ROUND(F82*(G82+H82),2) -> 0 | J82: =ROUND(F82*(N82),2) -> 319.95 | K82: =ROUND(F82*(O82),2) -> 0 | L82: =ROUND(F82*(G82),2) -> 0 | N82: 0.81 | Z82: 0
B83: R/RE | C83: 210881056 | D83: Vodič N2XH 6 zž | E83: m | F83: 294 | I83: =ROUND(F83*(G83+H83),2) -> 0 | J83: =ROUND(F83*(N83),2) -> 114.66 | K83: =ROUND(F83*(O83),2) -> 0 | L83: =ROUND(F83*(G83),2) -> 0 | N83: 0.39 | Z83: 0
B84: R/RE | C84: 210881059 | D84: Vodič N2XH 25 zž | E84: m | F84: 127 | I84: =ROUND(F84*(G84+H84),2) -> 0 | J84: =ROUND(F84*(N84),2) -> 106.68 | K84: =ROUND(F84*(O84),2) -> 0 | L84: =ROUND(F84*(G84),2) -> 0 | N84: 0.84 | Z84: 0
B85: R/RE | C85: 210220040 | D85: Svorka Bernard vrátane pásika | E85: ks | F85: 45 | I85: =ROUND(F85*(G85+H85),2) -> 0 | J85: =ROUND(F85*(N85),2) -> 167.4 | K85: =ROUND(F85*(O85),2) -> 0 | L85: =ROUND(F85*(G85),2) -> 0 | N85: 3.72 | Z85: 0
... B119: 921/M21 | C119: 210100003 | D119: Ukončenie vodičov v rozvádzač. vč. zapojenia a vodičovej koncovky do 16 mm2 | E119: ks | F119: 40 | I119: =ROUND(F119*(G119+H119),2) -> 0 | J119: =ROUND(F119*(N119),2) -> 40 | K119: =ROUND(F119*(O119),2) -> 0 | L119: =ROUND(F119*(G119),2) -> 0 | N119: 1 | Z119: 0
B120: 921/M21 | C120: 210100004 | D120: Ukončenie vodičov v rozvádzač. vč. zapojenia a vodičovej koncovky do 25 mm2 | F120: 16 | I120: =ROUND(F120*(G120+H120),2) -> 0 | J120: =ROUND(F120*(N120),2) -> 34.88 | K120: =ROUND(F120*(O120),2) -> 0 | L120: =ROUND(F120*(G120),2) -> 0 | N120: 2.18 | Z120: 0
B121: R/RE | C121: 971052241.1 | D121: Prieraz murivom | E121: ks | F121: 65 | I121: =ROUND(F121*(G121+H121),2) -> 0 | J121: =ROUND(F121*(N121),2) -> 717.6 | K121: =ROUND(F121*(O121),2) -> 0 | L121: =ROUND(F121*(G121),2) -> 0 | N121: 11.04 | Z121: 0
B122: R/RE | C122: 711712019.1 | D122: Sekanie drážky | E122: m | F122: 2107 | I122: =ROUND(F122*(G122+H122),2) -> 0 | J122: =ROUND(F122*(N122),2) -> 7816.97 | K122: =ROUND(F122*(O122),2) -> 0 | L122: =ROUND(F122*(G122),2) -> 0 | N122: 3.71 | Z122: 0
B123: P/PE | C123: REV | D123: Revízia elektroinštalácie, odborné skúšky | E123: kpl | F123: 1 | I123: =ROUND(F123*(G123+H123),2) -> 0 | J123: =ROUND(F123*(N123),2) -> 2800 | K123: =ROUND(F123*(O123),2) -> 0 | M123: =ROUND(F123*(H123),2) -> 0 | N123: 2800 | Z123: 0
B124: 921/M21 | C124: 210220020 | D124: Guľatina FeZn D=10mm | E124: m | F124: 51 | I124: =ROUND(F124*(G124+H124),2) -> 0 | J124: =ROUND(F124*(N124),2) -> 49.47 | K124: =ROUND(F124*(O124),2) -> 0 | L124: =ROUND(F124*(G124),2) -> 0 | N124: 0.97 | Z124: 0
B125: 921/M21 | C125: 210220800 | D125: Guľatina AlMgSi D=8mm | E125: m | F125: 399 | I125: =ROUND(F125*(G125+H125),2) -> 0 | J125: =ROUND(F125*(N125),2) -> 646.38 | K125: =ROUND(F125*(O125),2) -> 0 | L125: =ROUND(F125*(G125),2) -> 0 | N125: 1.62 | Z125: 0
B126: 921/M21 | C126: 210220243 | D126: Spájacia svorka SS | E126: ks | F126: 126 | I126: =ROUND(F126*(G126+H126),2) -> 0 | J126: =ROUND(F126*(N126),2) -> 191.52 | K126: =ROUND(F126*(O126),2) -> 0 | L126: =ROUND(F126*(G126),2) -> 0 | N126: 1.52 | Z126: 0
B127: 921/M21 | C127: 210220241 | D127: Svorka krížová SK | E127: ks | F127: 19 | I127: =ROUND(F127*(G127+H127),2) -> 0 | J127: =ROUND(F127*(N127),2) -> 41.04 | K127: =ROUND(F127*(O127),2) -> 0 | L127: =ROUND(F127*(G127),2) -> 0 | N127: 2.16 | Z127: 0
B128: 921/M21 | C128: 210220247 | D128: Svorka skúšobná SZ | E128: ks | F128: 13 | I128: =ROUND(F128*(G128+H128),2) -> 0 | J128: =ROUND(F128*(N128),2) -> 28.08 | K128: =ROUND(F128*(O128),2) -> 0 | L128: =ROUND(F128*(G128),2) -> 0 | N128: 2.16 | Z128: 0
B129: 921/M21 | C129: 210220246 | D129: Svorka odkvapová SO | E129: ks | F129: 12 | I129: =ROUND(F129*(G129+H129),2) -> 0 | J129: =ROUND(F129*(N129),2) -> 25.92 | K129: =ROUND(F129*(O129),2) -> 0 | L129: =ROUND(F129*(G129),2) -> 0 | N129: 2.16 | Z129: 0
B130: 921/M21 | C130: 210220101 | D130: Podpera vedenia PV21 + plastová podložka | E130: ks | F130: 295 | I130: =ROUND(F130*(G130+H130),2) -> 0 | J130: =ROUND(F130*(N130),2) -> 221.25 | K130: =ROUND(F130*(O130),2) -> 0 | L130: =ROUND(F130*(G130),2) -> 0 | N130: 0.75 | Z130: 0
B131: 921/M21 | C131: 210220240 | D131: Svorka na pripojenie zberacej tyče SJ01 | E131: ks | F131: 134 | I131: =ROUND(F131*(G131+H131),2) -> 0 | J131: =ROUND(F131*(N131),2) -> 289.44 | K131: =ROUND(F131*(O131),2) -> 0 | L131: =ROUND(F131*(G131),2) -> 0 | N131: 2.16 | Z131: 0
B132: 921/M21 | C132: 210220204 | D132: Bleskozvodova tyč JP 20 | E132: ks | F132: 15 | I132: =ROUND(F132*(G132+H132),2) -> 0 | J132: =ROUND(F132*(N132),2) -> 93.75 | K132: =ROUND(F132*(O132),2) -> 0 | L132: =ROUND(F132*(G132),2) -> 0 | N132: 6.25 | Z132: 0
B133: R/RE | C133: 210220220.1 | D133: Betónový držiak zachytávacej tyče | E133: ks | F133: 14 | I133: =ROUND(F133*(G133+H133),2) -> 0 | J133: =ROUND(F133*(N133),2) -> 100.52 | K133: =ROUND(F133*(O133),2) -> 0 | L133: =ROUND(F133*(G133),2) -> 0 | N133: 7.18 | Z133: 0
B134: 921/M21 | C134: 210220220 | D134: Držiak zachytávacej tyče do muriva DJ1 | E134: ks | F134: 2 | I134: =ROUND(F134*(G134+H134),2) -> 0 | J134: =ROUND(F134*(N134),2) -> 14.36 | K134: =ROUND(F134*(O134),2) -> 0 | L134: =ROUND(F134*(G134),2) -> 0 | N134: 7.18 | Z134: 0
B135: 921/M21 | C135: 210010005 | D135: Rúrka elektroinštaláčna d=32 mm | E135: m | F135: 104 | I135: =ROUND(F135*(G135+H135),2) -> 0 | J135: =ROUND(F135*(N135),2) -> 116.48 | K135: =ROUND(F135*(O135),2) -> 0 | L135: =ROUND(F135*(G135),2) -> 0 | N135: 1.12 | Z135: 0
... B140: R/RE | C140: nešp. | D140: Pomocné práce | E140: hod | F140: 16 | I140: =ROUND(F140*(G140+H140),2) -> 0 | J140: =ROUND(F140*(N140),2) -> 240 | K140: =ROUND(F140*(O140),2) -> 0 | L140: =ROUND(F140*(G140),2) -> 0 | N140: 15 | Z140: 0
B141: P/PE | C141: PPV | D141: PPV - 6 % | E141: 1 | F141: 0.06 | I141: =ROUND(F141*(G141+H141),2) -> 0 | J141: =ROUND(F141*(N141),2) -> 2217.56 | K141: =ROUND(F141*(O141),2) -> 0 | M141: =ROUND(F141*(H141),2) -> 0 | N141: 36959.33 | Z141: 0
B142: R/RE | C142: PRESUN | D142: Presun - 1 % | E142: 1 | F142: 0.01 | I142: =ROUND(F142*(G142+H142),2) -> 0 | J142: =ROUND(F142*(N142),2) -> 369.59 | K142: =ROUND(F142*(O142),2) -> 0 | L142: =ROUND(F142*(G142),2) -> 0 | N142: 36959.33 | Z142: 0
B143: R/RE | C143: DOPRAVA | D143: Doprava - 6% | E143: 1 | F143: 0.06 | I143: =ROUND(F143*(G143+H143),2) -> 0 | J143: =ROUND(F143*(N143),2) -> 2217.56 | K143: =ROUND(F143*(O143),2) -> 0 | L143: =ROUND(F143*(G143),2) -> 0 | N143: 36959.33 | Z143: 0
B144: R/R 0 | C144: 210881103 | D144: Kábel N2XH-J 5x6 | E144: m | F144: 75 | I144: =ROUND(F144*(G144+H144),2) -> 0 | J144: =ROUND(F144*(N144),2) -> 54 | K144: =ROUND(F144*(O144),2) -> 0 | L144: =ROUND(F144*(G144),2) -> 0 | N144: 0.72 | Z144: 0
B145: R/R 0 | C145: 210881097 | D145: Kábel N2XH-J 4x25 | E145: m | F145: 50 | I145: =ROUND(F145*(G145+H145),2) -> 0 | J145: =ROUND(F145*(N145),2) -> 56 | K145: =ROUND(F145*(O145),2) -> 0 | L145: =ROUND(F145*(G145),2) -> 0 | N145: 1.12 | Z145: 0
D146: M-21 ELEKTROMONTÁŽE | G146: =ROUND((SUM(L10:L145))/1,2) -> 0 | H146: =ROUND((SUM(M10:M145))/1,2) -> 0 | I146: =ROUND((SUM(I10:I145))/1,2) -> 0 | L146: =ROUND((SUM(L10:L145))/1,2) -> 0 | M146: =ROUND((SUM(M10:M145))/1,2) -> 0 | P146: =ROUND((SUM(P10:P145))/1,2) -> 0 | S146: =ROUND((SUM(S10:S145))/1,2) -> 0
D148: M-46 MONTÁŽE ZEMNÝCH PRÁC
B149: 946/M46 | C149: 460200154 | D149: Káblova ryha 350x700 mm | E149: m | F149: 104 | I149: =ROUND(F149*(G149+H149),2) -> 0 | J149: =ROUND(F149*(N149),2) -> 897.52 | K149: =ROUND(F149*(O149),2) -> 0 | L149: =ROUND(F149*(G149),2) -> 0 | N149: 8.63 | Z149: 0
B150: 946/M46 | C150: 460560154 | D150: Zásyp káblovej ryhy 350x700 mm | E150: m | F150: 104 | I150: =ROUND(F150*(G150+H150),2) -> 0 | J150: =ROUND(F150*(N150),2) -> 198.64 | K150: =ROUND(F150*(O150),2) -> 0 | L150: =ROUND(F150*(G150),2) -> 0 | N150: 1.91 | Z150: 0
B151: 946/M46 | C151: 460620013 | D151: Proviz. úprava terénu v zemine | E151: m2 | F151: 36 | I151: =ROUND(F151*(G151+H151),2) -> 0 | J151: =ROUND(F151*(N151),2) -> 55.8 | K151: =ROUND(F151*(O151),2) -> 0 | L151: =ROUND(F151*(G151),2) -> 0 | N151: 1.55 | Z151: 0
D152: M-46 MONTÁŽE ZEMNÝCH PRÁC | G152: =ROUND((SUM(L148:L151))/1,2) -> 0 | H152: =ROUND((SUM(M148:M151))/1,2) -> 0 | I152: =ROUND((SUM(I148:I151))/1,2) -> 0 | L152: =ROUND((SUM(L148:L151))/1,2) -> 0 | M152: =ROUND((SUM(M148:M151))/1,2) -> 0 | P152: =ROUND((SUM(P148:P151))/1,2) -> 0 | S152: =ROUND((SUM(S148:S151))/1,2) -> 0
D154: Montážne práce | G154: =ROUND((SUM(L9:L153))/2,2) -> 0 | H154: =ROUND((SUM(M9:M153))/2,2) -> 0 | I154: =ROUND((SUM(I9:I153))/2,2) -> 0 | L154: =ROUND((SUM(L9:L153))/2,2) -> 0 | M154: =ROUND((SUM(M9:M153))/2,2) -> 0 | P154: =ROUND((SUM(P9:P153))/2,2) -> 0 | S154: =ROUND((SUM(S9:S153))/2,2) -> 0
B155: Elektroinštalácia | F155: Celkom | G155: =ROUND((SUM(L9:L154))/3,2) -> 0 | H155: =ROUND((SUM(M9:M154))/3,2) -> 0 | I155: =ROUND((SUM(I9:I154))/3,2) -> 0 | K155: =ROUND((SUM(K9:K154)),2) -> 0 | L155: =ROUND((SUM(L9:L154))/3,2) -> 0 | M155: =ROUND((SUM(M9:M154))/3,2) -> 0 | P155: =ROUND((SUM(P9:P154))/3,2) -> 0 | S155: =ROUND((SUM(S9:S154))/3,2) -> 0 | Z155: =(SUM(Z9:Z154)) -> 0
