Workbook

Sheet Rekapitulácia
A2: Rekapitulácia rozpočtu | F2: Sadzby DPH
A3: Stavba Zlepšenie technickej vybavenosti v obci Vyšný Žipov s prítomnosťou MRK | F3: A | G3: B
F4: 0.2 | G4: 0
A6: Názov objektu | B6: ZRN | C6: VRN % | D6: HZS | E6: Kompl.čin. | F6: Ost. náklady | G6: Cena
A7: Časť A - SO 01 Chodník I.etapa - oprava | B7: ='SO 15275'!I164-Rekapitulácia!D7 -> 0 | C7: ='SO 15275'!P25 -> 0 | D7: 0 | E7: ='SO 15275'!P16 -> 0 | F7: 0 | G7: =B7+C7+D7+E7+F7 -> 0 | K7: ='SO 15275'!K164 -> 0 | Q7: 30.126
A8: Celkom bez DPH | B8: =SUM(B7:B7) -> 0 | C8: =SUM(C7:C7) -> 0 | D8: =SUM(D7:D7) -> 0 | E8: =SUM(E7:E7) -> 0 | F8: =SUM(F7:F7) -> 0 | G8: =SUM(G7:G7)-SUM(Z7:Z7) -> 0
A9: DPH 20% z | B9: =G8-SUM(Rekapitulácia!K7:'Rekapitulácia'!K7)*1 -> 0 | G9: =ROUND(((ROUND(B9,2)*20)/100),2)*1 -> 0
A10: DPH 0% z | B10: =(G8-B9) -> 0 | G10: =ROUND(((ROUND(B10,2)*0)/100),2) -> 0
A11: Celkom v EUR | G11: =SUM(G8:G10) -> 0

Sheet Krycí list stavby
W1: 30.126
B2: Krycí list stavby
B3: Stavba Zlepšenie technickej vybavenosti v obci Vyšný Žipov s prítomnosťou MRK
F4: Miesto:
F5: Ks:
B6: Zákazka: | D6: Spracoval: Ing. Ján Halgaš | F6: Dňa | G6: 14. 3. 2021
B7: Odberateľ: Obec Vyšný Žipov
B8: IČO: | F8: DIČ:
B9: Projektant:
B10: IČO: | F10: DIČ:
B11: Dodávateľ:
B12: IČO: | F12: DIČ:
B14: ZRN | C14: Montáž | D14: Materiál | E14: ZRN spolu | F14: Ďalšie náklady
B15: HSV | C15: ='SO 15275'!C15 -> 0 | D15: ='SO 15275'!D15 -> 0 | E15: ='SO 15275'!E15 -> 0 | F15: Ostatné náklady | I15: =Rekapitulácia!F8 -> 0
B16: PSV | C16: ='SO 15275'!C16 -> 0 | D16: ='SO 15275'!D16 -> 0 | E16: ='SO 15275'!E16 -> 0 | F16: Komplet. činnosť | I16: =Rekapitulácia!E8 -> 0
B17: MONT | C17: ='SO 15275'!C17 -> 0 | D17: ='SO 15275'!D17 -> 0 | E17: ='SO 15275'!E17 -> 0 | F17: HZS | I17: =Rekapitulácia!D8 -> 0
B18: VRN | C18: ='SO 15275'!C18 -> 0 | D18: ='SO 15275'!D18 -> 0 | E18: ='SO 15275'!E18 -> 0
B19: Spolu | E19: =SUM(E15:E18) -> 0 | F19: Spolu | I19: =SUM(I15:I18) -> 0
B20: VRN | F20: VRN
B21: Zariadenie staveniska | E21: ='SO 15275'!E21 -> 0 | F21: Sťažené podmienky dopravy | I21: ='SO 15275'!P21 -> 0
B22: Sťažené výrobné podmienky | E22: ='SO 15275'!E22 -> 0 | F22: Horské oblasti | I22: ='SO 15275'!P22 -> 0
B23: Prevádzkové vplyvy | E23: ='SO 15275'!E23 -> 0 | F23: Mimostavenisková doprava | I23: ='SO 15275'!P23 -> 0
F25: Spolu | I25: =SUM(E21:E24)+SUM(I21:I24) -> 0
B26: Projektant,rozpočtár | F26: Celkové náklady
F27: Celkové náklady bez DPH | I27: =E19+I19+I25 -> 0
F28: DPH 20% z | H28: =Rekapitulácia!B9 -> 0 | I28: =ROUND(((ROUND(H28,2)*20)/100),2)*1 -> 0
F29: DPH 0% z | H29: =Rekapitulácia!B10 -> 0 | I29: =ROUND(((ROUND(H29,2)*0)/100),2) -> 0
F30: Spolu v EUR | I30: =SUM(I27:I29) -> 0
B32: Odberateľ | E32: Dodávateľ

Sheet SO 15275
B1: Krycí list rozpočtu | E1: Rekapitulácia rozpočtu | H1: Rozpočet | W1: 30.126
B2: Krycí list rozpočtu
B3: Stavba Zlepšenie technickej vybavenosti v obci Vyšný Žipov s prítomnosťou MRK
B4: Objekt Časť A - SO 01 Chodník I.etapa - oprava | F4: Miesto:
F5: Ks:
B6: Zákazka: | D6: Spracoval: Ing. Ján Halgaš | F6: Dňa | G6: 14. 3. 2021
B7: Odberateľ: Obec Vyšný Žipov
B8: IČO: | F8: DIČ:
B9: Projektant:
B10: IČO: | F10: DIČ:
B11: Dodávateľ:
B12: IČO: | F12: DIČ:
B14: ZRN | C14: Montáž | D14: Materiál | E14: ZRN spolu | F14: Ďalšie náklady
B15: HSV | C15: ='SO 15275'!E63 -> 0 | D15: ='SO 15275'!F63 -> 0 | E15: ='SO 15275'!G63 -> 0 | F15: Ostatné náklady | P15: 0
B16: PSV | C16: ='SO 15275'!E67 -> 0 | D16: ='SO 15275'!F67 -> 0 | E16: ='SO 15275'!G67 -> 0 | F16: Komplet. činnosť | P16: =(SUM(Z84:Z163)) -> 0
B17: MONT | F17: HZS | P17: 0
B18: VRN
B19: Spolu | E19: =SUM(E15:E18) -> 0 | F19: Spolu | P19: =SUM(P15:P18) -> 0
B20: VRN | F20: VRN
B21: Zariadenie staveniska 0% | E21: =((E15*U22*0)+(E16*V22*0)+(E17*W22*0))/100 -> 0 | F21: Sťažené podmienky dopravy 0% | P21: =((E15*X22*0)+(E16*Y22*0)+(E17*Z22*0))/100 -> 0
B22: Sťažené výrobné podmienky 0% | E22: =((E15*U23*0)+(E16*V23*0)+(E17*W23*0))/100 -> 0 | F22: Horské oblasti 0% | P22: =((E15*X23*0)+(E16*Y23*0)+(E17*Z23*0))/100 -> 0 | U22: 1 | V22: 1 | W22: 1 | X22: 1 | Y22: 1 | Z22: 1
B23: Prevádzkové vplyvy 0% | E23: =((E15*U24*0)+(E16*V24*0)+(E17*W24*0))/100 -> 0 | F23: Mimostavenisková doprava 0% | P23: =((E15*X24*0)+(E16*Y24*0)+(E17*Z24*0))/100 -> 0 | U23: 1 | V23: 1 | W23: 0 | X23: 1 | Y23: 1 | Z23: 1
U24: 1 | V24: 1 | W24: 1 | X24: 1 | Y24: 1 | Z24: 0
F25: Spolu | P25: =SUM(E21:E24)+SUM(P21:P24) -> 0
B26: Projektant,rozpočtár | F26: Celkové náklady
F27: Celkové náklady bez DPH | P27: =E19+P19+E25+P25 -> 0
F28: DPH 20% z | H28: =P27-SUM('SO 15275'!K84:'SO 15275'!K163) -> 0 | P28: =ROUND(((ROUND(H28,2)*20)*1/100),2) -> 0
F29: DPH 0% z | H29: =SUM('SO 15275'!K84:'SO 15275'!K163) -> 0 | P29: =ROUND(((ROUND(H29,2)*0)/100),2) -> 0
F30: Spolu v EUR | P30: =SUM(P27:P29) -> 0
B32: Odberateľ | E32: Dodávateľ
B44: Rekapitulácia rozpočtu
B46: Odberateľ: Obec Vyšný Žipov | F46: Spracoval: Ing. Ján Halgaš
B47: Projektant: | F47: Ks:
B48: Dodávateľ: | F48: Dátum: 14. 3. 2021
B49: Stavba Zlepšenie technickej vybavenosti v obci Vyšný Žipov s prítomnosťou MRK
B50: Objekt Časť A - SO 01 Chodník I.etapa - oprava
B53: Prehľad rozpočtových nákladov
B54: Oddiel | E54: Montáž | F54: Materiál | G54: Spolu | H54: Hmotnosť (T) | I54: Suť (T)
B55: Práce HSV
B56: ZEMNÉ PRÁCE | E56: ='SO 15275'!L104 -> 0 | F56: ='SO 15275'!M104 -> 0 | G56: ='SO 15275'!I104 -> 0 | H56: ='SO 15275'!S104 -> 1.07 | I56: ='SO 15275'!V104 -> 0
B57: ZÁKLADY | E57: ='SO 15275'!L112 -> 0 | F57: ='SO 15275'!M112 -> 0 | G57: ='SO 15275'!I112 -> 0 | H57: ='SO 15275'!S112 -> 19.89 | I57: ='SO 15275'!V112 -> 0
B58: ZVISLÉ KONŠTRUKCIE | E58: ='SO 15275'!L118 -> 0 | F58: ='SO 15275'!M118 -> 0 | G58: ='SO 15275'!I118 -> 0 | H58: ='SO 15275'!S118 -> 0.92 | I58: ='SO 15275'!V118 -> 0
B59: SPEVNENÉ PLOCHY | E59: ='SO 15275'!L129 -> 0 | F59: ='SO 15275'!M129 -> 0 | G59: ='SO 15275'!I129 -> 0 | H59: ='SO 15275'!S129 -> 472.08 | I59: ='SO 15275'!V129 -> 0
B60: POTRUBNÉ ROZVODY | E60: ='SO 15275'!L136 -> 0 | F60: ='SO 15275'!M136 -> 0 | G60: ='SO 15275'!I136 -> 0 | H60: ='SO 15275'!S136 -> 0.7 | I60: ='SO 15275'!V136 -> 0
B61: OSTATNÉ PRÁCE | E61: ='SO 15275'!L148 -> 0 | F61: ='SO 15275'!M148 -> 0 | G61: ='SO 15275'!I148 -> 0 | H61: ='SO 15275'!S148 -> 146.3 | I61: ='SO 15275'!V148 -> 0
B62: PRESUNY HMÔT | E62: ='SO 15275'!L152 -> 0 | F62: ='SO 15275'!M152 -> 0 | G62: ='SO 15275'!I152 -> 0 | H62: ='SO 15275'!S152 -> 0 | I62: ='SO 15275'!V152 -> 0
B63: Práce HSV | E63: ='SO 15275'!L154 -> 0 | F63: ='SO 15275'!M154 -> 0 | G63: ='SO 15275'!I154 -> 0 | H63: ='SO 15275'!S154 -> 640.96 | I63: ='SO 15275'!V154 -> 0
B65: Práce PSV
B66: KOVOVÉ DOPLNKOVÉ KONŠTRUKCIE | E66: ='SO 15275'!L161 -> 0 | F66: ='SO 15275'!M161 -> 0 | G66: ='SO 15275'!I161 -> 0 | H66: ='SO 15275'!S161 -> 0.27 | I66: ='SO 15275'!V161 -> 0
B67: Práce PSV | E67: ='SO 15275'!L163 -> 0 | F67: ='SO 15275'!M163 -> 0 | G67: ='SO 15275'!I163 -> 0 | H67: ='SO 15275'!S163 -> 0.27 | I67: ='SO 15275'!V163 -> 0
B69: Celkom v EUR | E69: ='SO 15275'!L164 -> 0 | F69: ='SO 15275'!M164 -> 0 | G69: ='SO 15275'!I164 -> 0 | H69: ='SO 15275'!S164 -> 641.23 | I69: ='SO 15275'!V164 -> 0
B73: Rozpočet
B75: Odberateľ: Obec Vyšný Žipov | H75: Spracoval: | I75: Ing. Ján Halgaš
B76: Projektant: | H76: Ks:
B77: Dodávateľ: | H77: Dátum: | I77: 14. 3. 2021
B78: Zákazka Zlepšenie technickej vybavenosti v obci Vyšný Žipov s prítomnosťou MRK
B79: Objekt Časť A - SO 01 Chodník I.etapa - oprava
B82: Prehľad rozpočtových nákladov
B83: Por.č. | C83: Kód položky | D83: Názov | F83: Mj | G83: Množstvo | H83: Cena/Mj | I83: Cena celkom | P83: Hmotnosť/Mj | S83: Hmotnosť | V83: Suť
D84: Práce HSV
C85: 1 | D85: ZEMNÉ PRÁCE
B86: 1 | C86: 121101002 | D86: Odstránenie ornice ručne s vodorov. premiest., na hromady do 50 m hr. nad 150 mm | F86: m3 | G86: 194 | I86: =ROUND(G86*(H86),2) -> 0 | J86: =ROUND(G86*(N86),2) -> 3358.14 | K86: =ROUND(G86*(O86),2) -> 0 | M86: =ROUND(G86*(H86),2) -> 0 | N86: 17.31 | S86: =ROUND(G86*(P86),3) -> 0 | Z86: 0
B87: 2 | C87: 122201401 | D87: Výkop v zemníku na suchu v hornine 3, do 100 m3 | F87: m3 | G87: 85.445 | I87: =ROUND(G87*(H87),2) -> 0 | J87: =ROUND(G87*(N87),2) -> 320.42 | K87: =ROUND(G87*(O87),2) -> 0 | M87: =ROUND(G87*(H87),2) -> 0 | N87: 3.75 | S87: =ROUND(G87*(P87),3) -> 0 | Z87: 0
B88: 3 | C88: 122201409 | D88: Príplatok k cenám za lepivosť výkopu v zemníkoch na suchu v hornine 3 | F88: m3 | G88: 85.445 | I88: =ROUND(G88*(H88),2) -> 0 | J88: =ROUND(G88*(N88),2) -> 50.41 | K88: =ROUND(G88*(O88),2) -> 0 | M88: =ROUND(G88*(H88),2) -> 0 | N88: 0.59 | S88: =ROUND(G88*(P88),3) -> 0 | Z88: 0
B89: 4 | C89: 122202201 | D89: Odkopávka a prekopávka nezapažená pre cesty, v hornine 3 do 100 m3 | F89: m3 | G89: 56 | I89: =ROUND(G89*(H89),2) -> 0 | J89: =ROUND(G89*(N89),2) -> 294 | K89: =ROUND(G89*(O89),2) -> 0 | M89: =ROUND(G89*(H89),2) -> 0 | N89: 5.25 | S89: =ROUND(G89*(P89),3) -> 0 | Z89: 0
B90: 5 | C90: 122202209 | D90: Odkopávky a prekopávky nezapažené pre cesty. Príplatok za lepivosť horniny 3 | F90: m3 | G90: 56 | I90: =ROUND(G90*(H90),2) -> 0 | J90: =ROUND(G90*(N90),2) -> 53.76 | K90: =ROUND(G90*(O90),2) -> 0 | M90: =ROUND(G90*(H90),2) -> 0 | N90: 0.96 | S90: =ROUND(G90*(P90),3) -> 0 | Z90: 0
B91: 6 | C91: 130201001 | D91: Výkop jamy a ryhy v obmedzenom priestore horn. tr.3 ručne | F91: m3 | G91: 22.155 | I91: =ROUND(G91*(H91),2) -> 0 | J91: =ROUND(G91*(N91),2) -> 863.6 | K91: =ROUND(G91*(O91),2) -> 0 | M91: =ROUND(G91*(H91),2) -> 0 | N91: 38.98 | S91: =ROUND(G91*(P91),3) -> 0 | Z91: 0
B92: 7 | C92: 141701101 | D92: Pretláčanie rúry v hornina tr. 1-4 v hĺbky od 6 m dĺžky do 35 m priemeru do 200 mm | F92: m | G92: 51.5 | I92: =ROUND(G92*(H92),2) -> 0 | J92: =ROUND(G92*(N92),2) -> 15347 | K92: =ROUND(G92*(O92),2) -> 0 | M92: =ROUND(G92*(H92),2) -> 0 | N92: 298 | P92: 0.01473 | R92: 0.01473 | S92: =ROUND(G92*(P92),3) -> 0.759 | Z92: 0
B93: 8 | C93: 2860005000 | D93: PVC rúra 200x6,6/6m -QUANTUM SN12 rúry - hladký kanalizačný systém PIPELIFE alebo ekvivalent | F93: ks | G93: 9 | I93: =ROUND(G93*(H93),2) -> 0 | J93: =ROUND(G93*(N93),2) -> 894.78 | K93: =ROUND(G93*(O93),2) -> 0 | M93: =ROUND(G93*(H93),2) -> 0 | N93: 99.42 | P93: 0.0322 | R93: 0.0322 | S93: =ROUND(G93*(P93),3) -> 0.29 | Z93: 0
B94: 9 | C94: 162201102 | D94: Vodorovné premiestnenie výkopku z horniny 1-4 nad 20-50m | F94: m3 | G94: 76.255 | I94: =ROUND(G94*(H94),2) -> 0 | J94: =ROUND(G94*(N94),2) -> 152.51 | K94: =ROUND(G94*(O94),2) -> 0 | M94: =ROUND(G94*(H94),2) -> 0 | N94: 2 | S94: =ROUND(G94*(P94),3) -> 0 | Z94: 0
B95: 10 | C95: 162401102 | D95: Vodorovné premiestnenie výkopku po spevnenej ceste z horniny tr.1-4, do 100 m3 na vzdialenosť do 2000 m | F95: m3 | G95: 76.255 | I95: =ROUND(G95*(H95),2) -> 0 | J95: =ROUND(G95*(N95),2) -> 330.18 | K95: =ROUND(G95*(O95),2) -> 0 | M95: =ROUND(G95*(H95),2) -> 0 | N95: 4.33 | S95: =ROUND(G95*(P95),3) -> 0 | Z95: 0
B96: 11 | C96: 171101102 | D96: Uloženie sypaniny do násypu súdržnej horniny s mierou zhutnenia na 96 % podľa Proctor-Standard | F96: m3 | G96: 148 | I96: =ROUND(G96*(H96),2) -> 0 | J96: =ROUND(G96*(N96),2) -> 259 | K96: =ROUND(G96*(O96),2) -> 0 | M96: =ROUND(G96*(H96),2) -> 0 | N96: 1.75 | S96: =ROUND(G96*(P96),3) -> 0 | Z96: 0
B97: 12 | C97: 171201202 | D97: Uloženie sypaniny na skládky nad 100 do 1000 m3 | F97: m3 | G97: 76.255 | I97: =ROUND(G97*(H97),2) -> 0 | J97: =ROUND(G97*(N97),2) -> 59.48 | K97: =ROUND(G97*(O97),2) -> 0 | M97: =ROUND(G97*(H97),2) -> 0 | N97: 0.78 | S97: =ROUND(G97*(P97),3) -> 0 | Z97: 0
B98: 13 | C98: 174203303 | D98: Zásyp pre drény zberné a zvodné hĺbky nad 1, 30 m | F98: m | G98: 15.6 | I98: =ROUND(G98*(H98),2) -> 0 | J98: =ROUND(G98*(N98),2) -> 8.27 | K98: =ROUND(G98*(O98),2) -> 0 | M98: =ROUND(G98*(H98),2) -> 0 | N98: 0.53 | S98: =ROUND(G98*(P98),3) -> 0 | Z98: 0
B99: 14 | C99: 180402111 | D99: Založenie trávnika parkového výsevom v rovine do 1:5 | F99: m2 | G99: 323 | I99: =ROUND(G99*(H99),2) -> 0 | J99: =ROUND(G99*(N99),2) -> 245.48 | K99: =ROUND(G99*(O99),2) -> 0 | M99: =ROUND(G99*(H99),2) -> 0 | N99: 0.76 | S99: =ROUND(G99*(P99),3) -> 0 | Z99: 0
B100: 15 | C100: 0057211200 | D100: Trávové semeno - parková zmes | F100: kg | G100: 16.15 | I100: =ROUND(G100*(H100),2) -> 0 | J100: =ROUND(G100*(N100),2) -> 122.58 | K100: =ROUND(G100*(O100),2) -> 0 | M100: =ROUND(G100*(H100),2) -> 0 | N100: 7.59 | P100: 0.001 | R100: 0.001 | S100: =ROUND(G100*(P100),3) -> 0.016 | Z100: 0
B101: 16 | C101: 181101102 | D101: Úprava pláne v zárezoch v hornine 1-4 so zhutnením | F101: m2 | G101: 592.9 | I101: =ROUND(G101*(H101),2) -> 0 | J101: =ROUND(G101*(N101),2) -> 278.66 | K101: =ROUND(G101*(O101),2) -> 0 | M101: =ROUND(G101*(H101),2) -> 0 | N101: 0.47 | S101: =ROUND(G101*(P101),3) -> 0 | Z101: 0
B102: 17 | C102: 181301101 | D102: Rozprestretie ornice v rovine, plocha do 500 m2, hr.do 100 mm | F102: m2 | G102: 323 | I102: =ROUND(G102*(H102),2) -> 0 | J102: =ROUND(G102*(N102),2) -> 436.05 | K102: =ROUND(G102*(O102),2) -> 0 | M102: =ROUND(G102*(H102),2) -> 0 | N102: 1.35 | S102: =ROUND(G102*(P102),3) -> 0 | Z102: 0
B103: 18 | C103: 182201101 | D103: Svahovanie trvalých svahov v násype | F103: m2 | G103: 276 | I103: =ROUND(G103*(H103),2) -> 0 | J103: =ROUND(G103*(N103),2) -> 405.72 | K103: =ROUND(G103*(O103),2) -> 0 | M103: =ROUND(G103*(H103),2) -> 0 | N103: 1.47 | S103: =ROUND(G103*(P103),3) -> 0 | Z103: 0
C104: 1 | D104: ZEMNÉ PRÁCE | I104: =ROUND((SUM(I85:I103))/1,2) -> 0 | L104: =ROUND((SUM(L85:L103))/1,2) -> 0 | M104: =ROUND((SUM(M85:M103))/1,2) -> 0 | S104: =ROUND((SUM(S85:S103))/1,2) -> 1.07 | V104: =ROUND((SUM(V85:V103))/1,2) -> 0
C106: 2 | D106: ZÁKLADY
B107: 19 | C107: 274271310 | D107: Murovanie základových pásov (m3) 50x15x25 s betónovou výplňou C 16/20 hr. 150 mm | F107: m3 | G107: 3.915 | I107: =ROUND(G107*(H107),2) -> 0 | J107: =ROUND(G107*(N107),2) -> 628.71 | K107: =ROUND(G107*(O107),2) -> 0 | M107: =ROUND(G107*(H107),2) -> 0 | N107: 160.59 | S107: =ROUND(G107*(P107),3) -> 0 | Z107: 0
B108: 20 | C108: 5959411100 | D108: Tvárnica debniaca DT15, 50x15x25cm, | F108: ks | G108: 212.976 | I108: =ROUND(G108*(H108),2) -> 0 | J108: =ROUND(G108*(N108),2) -> 255.57 | K108: =ROUND(G108*(O108),2) -> 0 | M108: =ROUND(G108*(H108),2) -> 0 | N108: 1.2 | P108: 0.018 | R108: 0.018 | S108: =ROUND(G108*(P108),3) -> 3.834 | Z108: 0
B109: 21 | C109: 274326281 | D109: Zhotovenie základových pásov z betónu železového vodostavebného (bez výstuže) | F109: m3 | G109: 6.555 | I109: =ROUND(G109*(H109),2) -> 0 | J109: =ROUND(G109*(N109),2) -> 144.34 | K109: =ROUND(G109*(O109),2) -> 0 | M109: =ROUND(G109*(H109),2) -> 0 | N109: 22.02 | P109: 0.04554 | R109: 0.04554 | S109: =ROUND(G109*(P109),3) -> 0.299 | Z109: 0
B110: 22 | C110: 5893556600 | D110: Betón STN EN 206-1-C25/30-XC3 (SK)-Cl 0,4-Dmax 22, S2, priesak 50 mm, cementu troskoportlandského- vodostavebný | F110: m3 | G110: 6.901 | I110: =ROUND(G110*(H110),2) -> 0 | J110: =ROUND(G110*(N110),2) -> 873.05 | K110: =ROUND(G110*(O110),2) -> 0 | M110: =ROUND(G110*(H110),2) -> 0 | N110: 126.51 | P110: 2.2042 | R110: 2.2042 | S110: =ROUND(G110*(P110),3) -> 15.211 | Z110: 0
B111: 23 | C111: 274361825 | D111: Výstuž pre murivo základových pásov s betónovou výplňou z ocele 10505 | F111: t | G111: 0.546 | I111: =ROUND(G111*(H111),2) -> 0 | J111: =ROUND(G111*(N111),2) -> 408.88 | K111: =ROUND(G111*(O111),2) -> 0 | M111: =ROUND(G111*(H111),2) -> 0 | N111: 748.86 | P111: 1.002 | R111: 1.002 | S111: =ROUND(G111*(P111),3) -> 0.547 | Z111: 0
C112: 2 | D112: ZÁKLADY | I112: =ROUND((SUM(I106:I111))/1,2) -> 0 | L112: =ROUND((SUM(L106:L111))/1,2) -> 0 | M112: =ROUND((SUM(M106:M111))/1,2) -> 0 | S112: =ROUND((SUM(S106:S111))/1,2) -> 19.89 | V112: =ROUND((SUM(V106:V111))/1,2) -> 0
C114: 3 | D114: ZVISLÉ KONŠTRUKCIE
B115: 24 | C115: 338171121 | D115: Osadenie stĺpika oceľového plotového výšky 2.0m zaliatim cem.mal. | F115: ks | G115: 69 | I115: =ROUND(G115*(H115),2) -> 0 | J115: =ROUND(G115*(N115),2) -> 360.87 | K115: =ROUND(G115*(O115),2) -> 0 | M115: =ROUND(G115*(H115),2) -> 0 | N115: 5.23 | P115: 0.00634 | R115: 0.00634 | S115: =ROUND(G115*(P115),3) -> 0.437 | Z115: 0
D116: 51+18 | G116: 69
B117: 25 | C117: 1411536400 | D117: Rúrka hladká kruhová bezšvová D 51 mm, hrúbka steny 3,2mm ozn.11 353.0. | F117: m | G117: 129 | I117: =ROUND(G117*(H117),2) -> 0 | J117: =ROUND(G117*(N117),2) -> 603.72 | K117: =ROUND(G117*(O117),2) -> 0 | M117: =ROUND(G117*(H117),2) -> 0 | N117: 4.68 | P117: 0.00377 | R117: 0.00377 | S117: =ROUND(G117*(P117),3) -> 0.486 | Z117: 0
C118: 3 | D118: ZVISLÉ KONŠTRUKCIE | I118: =ROUND((SUM(I114:I117))/1,2) -> 0 | L118: =ROUND((SUM(L114:L117))/1,2) -> 0 | M118: =ROUND((SUM(M114:M117))/1,2) -> 0 | S118: =ROUND((SUM(S114:S117))/1,2) -> 0.92 | V118: =ROUND((SUM(V114:V117))/1,2) -> 0
C120: 5 | D120: SPEVNENÉ PLOCHY
B121: 26 | C121: 564732111 | D121: Podklad alebo kryt z kameniva hrubého drveného veľ. 32-63mm(vibr.štrk) po zhut.hr. 100 mm | F121: m2 | G121: 560.4 | I121: =ROUND(G121*(H121),2) -> 0 | J121: =ROUND(G121*(N121),2) -> 2645.09 | K121: =ROUND(G121*(O121),2) -> 0 | M121: =ROUND(G121*(H121),2) -> 0 | N121: 4.72 | P121: 0.25094 | R121: 0.25094 | S121: =ROUND(G121*(P121),3) -> 140.627 | Z121: 0
B122: 27 | C122: 564752111 | D122: Podklad alebo kryt z kameniva hrubého drveného veľ. 32-63mm(vibr.štrk) po zhut.hr. 150 mm | F122: m2 | G122: 32.5 | I122: =ROUND(G122*(H122),2) -> 0 | J122: =ROUND(G122*(N122),2) -> 210.28 | K122: =ROUND(G122*(O122),2) -> 0 | M122: =ROUND(G122*(H122),2) -> 0 | N122: 6.47 | P122: 0.36834 | R122: 0.36834 | S122: =ROUND(G122*(P122),3) -> 11.971 | Z122: 0
B123: 28 | C123: 564851111 | D123: Podklad zo štrkodrviny s rozprestretím a zhutnením, po zhutnení hr. 150 mm | F123: m2 | G123: 560.4 | I123: =ROUND(G123*(H123),2) -> 0 | J123: =ROUND(G123*(N123),2) -> 2533.01 | K123: =ROUND(G123*(O123),2) -> 0 | M123: =ROUND(G123*(H123),2) -> 0 | N123: 4.52 | P123: 0.27994 | R123: 0.27994 | S123: =ROUND(G123*(P123),3) -> 156.878 | Z123: 0
B124: 29 | C124: 564861111 | D124: Podklad zo štrkodrviny s rozprestretím a zhutnením, po zhutnení hr. 200 mm | F124: m2 | G124: 32.5 | I124: =ROUND(G124*(H124),2) -> 0 | J124: =ROUND(G124*(N124),2) -> 189.48 | K124: =ROUND(G124*(O124),2) -> 0 | M124: =ROUND(G124*(H124),2) -> 0 | N124: 5.83 | P124: 0.3708 | R124: 0.3708 | S124: =ROUND(G124*(P124),3) -> 12.051 | Z124: 0
B125: 30 | C125: 596911112 | D125: Kladenie zámkovej dlažby hr. 6 cm pre peších nad 20 m2 so zriadením lôžka z kameniva hr. 4 cm | F125: m2 | G125: 560.4 | I125: =ROUND(G125*(H125),2) -> 0 | J125: =ROUND(G125*(N125),2) -> 7985.7 | K125: =ROUND(G125*(O125),2) -> 0 | M125: =ROUND(G125*(H125),2) -> 0 | N125: 14.25 | P125: 0.112 | R125: 0.112 | S125: =ROUND(G125*(P125),3) -> 62.765 | Z125: 0
B126: 31 | C126: 5921952300 | D126: Dlažba Low value Premac HAKA 6N alebo ekvivalent -normál, sivá 20x16,5x6 cm | F126: m2 | G126: 566.004 | I126: =ROUND(G126*(H126),2) -> 0 | J126: =ROUND(G126*(N126),2) -> 8829.66 | K126: =ROUND(G126*(O126),2) -> 0 | M126: =ROUND(G126*(H126),2) -> 0 | N126: 15.6 | P126: 0.138 | R126: 0.138 | S126: =ROUND(G126*(P126),3) -> 78.109 | Z126: 0
B127: 32 | C127: 596911212 | D127: Kladenie zámkovej dlažby hr. 8 cm pre peších nad 20 m2 so zriadením lôžka z kameniva hr. 4 cm | F127: m2 | G127: 32.5 | I127: =ROUND(G127*(H127),2) -> 0 | J127: =ROUND(G127*(N127),2) -> 504.4 | K127: =ROUND(G127*(O127),2) -> 0 | M127: =ROUND(G127*(H127),2) -> 0 | N127: 15.52 | P127: 0.112 | R127: 0.112 | S127: =ROUND(G127*(P127),3) -> 3.64 | Z127: 0
...
