Workbook

Sheet Rekapitulácia
A2: Rekapitulácia rozpočtu | F2: Sadzby DPH
A3: Stavba Zlepšenie technickej vybavenosti v obci Vyšný Žipov s prítomnosťou MRK | F3: A | G3: B
F4: 0.2 | G4: 0
A6: Názov objektu | B6: ZRN | C6: VRN % | D6: HZS | E6: Kompl.čin. | F6: Ost. náklady | G6: Cena
A7: Časť A - SO 01 Chodník I.etapa - oprava | B7: ='SO 15275'!I164-Rekapitulácia!D7 -> 0 | C7: ='SO 15275'!P25 -> 0 | D7: 0 | E7: ='SO 15275'!P16 -> 0 | F7: 0 | G7: =B7+C7+D7+E7+F7 -> 0 | K7: ='SO 15275'!K164 -> 0 | Q7: 30.126
A8: Celkom bez DPH | B8: =SUM(B7:B7) -> 0 | C8: =SUM(C7:C7) -> 0 | D8: =SUM(D7:D7) -> 0 | E8: =SUM(E7:E7) -> 0 | F8: =SUM(F7:F7) -> 0 | G8: =SUM(G7:G7)-SUM(Z7:Z7) -> 0
A9: DPH 20% z | B9: =G8-SUM(Rekapitulácia!K7:'Rekapitulácia'!K7)*1 -> 0 | G9: =ROUND(((ROUND(B9,2)*20)/100),2)*1 -> 0
A10: DPH 0% z | B10: =(G8-B9) -> 0 | G10: =ROUND(((ROUND(B10,2)*0)/100),2) -> 0
A11: Celkom v EUR | G11: =SUM(G8:G10) -> 0

Sheet Krycí list stavby
W1: 30.126
B2: Krycí list stavby
B3: Stavba Zlepšenie technickej vybavenosti v obci Vyšný Žipov s prítomnosťou MRK
F4: Miesto:
F5: Ks:
B6: Zákazka: | D6: Spracoval: Ing. Ján Halgaš | F6: Dňa | G6: 14. 3. 2021
B7: Odberateľ: Obec Vyšný Žipov
B8: IČO: | F8: DIČ:
B9: Projektant:
B10: IČO: | F10: DIČ:
B11: Dodávateľ:
B12: IČO: | F12: DIČ:
B14: ZRN | C14: Montáž | D14: Materiál | E14: ZRN spolu | F14: Ďalšie náklady
B15: HSV | C15: ='SO 15275'!C15 -> 0 | D15: ='SO 15275'!D15 -> 0 | E15: ='SO 15275'!E15 -> 0 | F15: Ostatné náklady | I15: =Rekapitulácia!F8 -> 0
B16: PSV | C16: ='SO 15275'!C16 -> 0 | D16: ='SO 15275'!D16 -> 0 | E16: ='SO 15275'!E16 -> 0 | F16: Komplet. činnosť | I16: =Rekapitulácia!E8 -> 0
B17: MONT | C17: ='SO 15275'!C17 -> 0 | D17: ='SO 15275'!D17 -> 0 | E17: ='SO 15275'!E17 -> 0 | F17: HZS | I17: =Rekapitulácia!D8 -> 0
B18: VRN | C18: ='SO 15275'!C18 -> 0 | D18: ='SO 15275'!D18 -> 0 | E18: ='SO 15275'!E18 -> 0
B19: Spolu | E19: =SUM(E15:E18) -> 0 | F19: Spolu | I19: =SUM(I15:I18) -> 0
B20: VRN | F20: VRN
B21: Zariadenie staveniska | E21: ='SO 15275'!E21 -> 0 | F21: Sťažené podmienky dopravy | I21: ='SO 15275'!P21 -> 0
B22: Sťažené výrobné podmienky | E22: ='SO 15275'!E22 -> 0 | F22: Horské oblasti | I22: ='SO 15275'!P22 -> 0
B23: Prevádzkové vplyvy | E23: ='SO 15275'!E23 -> 0 | F23: Mimostavenisková doprava | I23: ='SO 15275'!P23 -> 0
F25: Spolu | I25: =SUM(E21:E24)+SUM(I21:I24) -> 0
B26: Projektant,rozpočtár | F26: Celkové náklady
F27: Celkové náklady bez DPH | I27: =E19+I19+I25 -> 0
F28: DPH 20% z | H28: =Rekapitulácia!B9 -> 0 | I28: =ROUND(((ROUND(H28,2)*20)/100),2)*1 -> 0
F29: DPH 0% z | H29: =Rekapitulácia!B10 -> 0 | I29: =ROUND(((ROUND(H29,2)*0)/100),2) -> 0
F30: Spolu v EUR | I30: =SUM(I27:I29) -> 0
B32: Odberateľ | E32: Dodávateľ

Sheet SO 15275
B1: Krycí list rozpočtu | E1: Rekapitulácia rozpočtu | H1: Rozpočet | W1: 30.126
B2: Krycí list rozpočtu
B3: Stavba Zlepšenie technickej vybavenosti v obci Vyšný Žipov s prítomnosťou MRK
B4: Objekt Časť A - SO 01 Chodník I.etapa - oprava | F4: Miesto:
F5: Ks:
B6: Zákazka: | D6: Spracoval: Ing. Ján Halgaš | F6: Dňa | G6: 14. 3. 2021
B7: Odberateľ: Obec Vyšný Žipov
B8: IČO: | F8: DIČ:
B9: Projektant:
B10: IČO: | F10: DIČ:
B11: Dodávateľ:
B12: IČO: | F12: DIČ:
B14: ZRN | C14: Montáž | D14: Materiál | E14: ZRN spolu | F14: Ďalšie náklady
B15: HSV | C15: ='SO 15275'!E63 -> 0 | D15: ='SO 15275'!F63 -> 0 | E15: ='SO 15275'!G63 -> 0 | F15: Ostatné náklady | P15: 0
B16: PSV | C16: ='SO 15275'!E67 -> 0 | D16: ='SO 15275'!F67 -> 0 | E16: ='SO 15275'!G67 -> 0 | F16: Komplet. činnosť | P16: =(SUM(Z84:Z163)) -> 0
B17: MONT | F17: HZS | P17: 0
B18: VRN
B19: Spolu | E19: =SUM(E15:E18) -> 0 | F19: Spolu | P19: =SUM(P15:P18) -> 0
B20: VRN | F20: VRN
B21: Zariadenie staveniska 0% | E21: =((E15*U22*0)+(E16*V22*0)+(E17*W22*0))/100 -> 0 | F21: Sťažené podmienky dopravy 0% | P21: =((E15*X22*0)+(E16*Y22*0)+(E17*Z22*0))/100 -> 0
B22: Sťažené výrobné podmienky 0% | E22: =((E15*U23*0)+(E16*V23*0)+(E17*W23*0))/100 -> 0 | F22: Horské oblasti 0% | P22: =((E15*X23*0)+(E16*Y23*0)+(E17*Z23*0))/100 -> 0 | U22: 1 | V22: 1 | W22: 1 | X22: 1 | Y22: 1 | Z22: 1
B23: Prevádzkové vplyvy 0% | E23: =((E15*U24*0)+(E16*V24*0)+(E17*W24*0))/100 -> 0 | F23: Mimostavenisková doprava 0% | P23: =((E15*X24*0)+(E16*Y24*0)+(E17*Z24*0))/100 -> 0 | U23: 1 | V23: 1 | W23: 0 | X23: 1 | Y23: 1 | Z23: 1
U24: 1 | V24: 1 | W24: 1 | X24: 1 | Y24: 1 | Z24: 0
F25: Spolu | P25: =SUM(E21:E24)+SUM(P21:P24) -> 0
B26: Projektant,rozpočtár | F26: Celkové náklady
F27: Celkové náklady bez DPH | P27: =E19+P19+E25+P25 -> 0
F28: DPH 20% z | H28: =P27-SUM('SO 15275'!K84:'SO 15275'!K163) -> 0 | P28: =ROUND(((ROUND(H28,2)*20)*1/100),2) -> 0
F29: DPH 0% z | H29: =SUM('SO 15275'!K84:'SO 15275'!K163) -> 0 | P29: =ROUND(((ROUND(H29,2)*0)/100),2) -> 0
F30: Spolu v EUR | P30: =SUM(P27:P29) -> 0
B32: Odberateľ | E32: Dodávateľ
B44: Rekapitulácia rozpočtu
B46: Odberateľ: Obec Vyšný Žipov | F46: Spracoval: Ing. Ján Halgaš
B47: Projektant: | F47: Ks:
B48: Dodávateľ: | F48: Dátum: 14. 3. 2021
B49: Stavba Zlepšenie technickej vybavenosti v obci Vyšný Žipov s prítomnosťou MRK
B50: Objekt Časť A - SO 01 Chodník I.etapa - oprava
B53: Prehľad rozpočtových nákladov
B54: Oddiel | E54: Montáž | F54: Materiál | G54: Spolu | H54: Hmotnosť (T) | I54: Suť (T)
B55: Práce HSV
B56: ZEMNÉ PRÁCE | E56: ='SO 15275'!L104 -> 0 | F56: ='SO 15275'!M104 -> 0 | G56: ='SO 15275'!I104 -> 0 | H56: ='SO 15275'!S104 -> 1.07 | I56: ='SO 15275'!V104 -> 0
...
