Workbook

Sheet Rekapitulácia
A2: Rekapitulácia rozpočtu | F2: Sadzby DPH
A3: Stavba Zlepšenie technickej vybavenosti v obci Vyšný Žipov s prítomnosťou MRK | F3: A | G3: B
F4: 0.2 | G4: 0
A6: Názov objektu | B6: ZRN | C6: VRN % | D6: HZS | E6: Kompl.čin. | F6: Ost. náklady | G6: Cena
A7: Časť A - SO 01 Chodník I.etapa | B7: ='SO 15241'!I155-Rekapitulácia!D7 -> 0 | C7: ='SO 15241'!P25 -> 0 | D7: 0 | E7: ='SO 15241'!P16 -> 0 | F7: 0 | G7: =B7+C7+D7+E7+F7 -> 0 | K7: ='SO 15241'!K155 -> 0 | Q7: 30.126
A8: Celkom bez DPH | B8: =SUM(B7:B7) -> 0 | C8: =SUM(C7:C7) -> 0 | D8: =SUM(D7:D7) -> 0 | E8: =SUM(E7:E7) -> 0 | F8: =SUM(F7:F7) -> 0 | G8: =SUM(G7:G7)-SUM(Z7:Z7) -> 0
A9: DPH 20% z | B9: =G8-SUM(Rekapitulácia!K7:'Rekapitulácia'!K7)*1 -> 0 | G9: =ROUND(((ROUND(B9,2)*20)/100),2)*1 -> 0
A10: DPH 0% z | B10: =(G8-B9) -> 0 | G10: =ROUND(((ROUND(B10,2)*0)/100),2) -> 0
A11: Celkom v EUR | G11: =SUM(G8:G10) -> 0

Sheet Krycí list stavby
W1: 30.126
B2: Krycí list stavby
B3: Stavba Zlepšenie technickej vybavenosti v obci Vyšný Žipov s prítomnosťou MRK
F4: Miesto:
F5: Ks:
B6: Zákazka: | D6: Spracoval: Ing. Ján Halgaš | F6: Dňa | G6: 1. 3. 2021
B7: Odberateľ: Obec Vyšný Žipov
B8: IČO: | F8: DIČ:
B9: Projektant:
B10: IČO: | F10: DIČ:
B11: Dodávateľ:
B12: IČO: | F12: DIČ:
B14: ZRN | C14: Montáž | D14: Materiál | E14: ZRN spolu | F14: Ďalšie náklady
B15: HSV | C15: ='SO 15241'!C15 -> 0 | D15: ='SO 15241'!D15 -> 0 | E15: ='SO 15241'!E15 -> 0 | F15: Ostatné náklady | I15: =Rekapitulácia!F8 -> 0
B16: PSV | C16: ='SO 15241'!C16 -> 0 | D16: ='SO 15241'!D16 -> 0 | E16: ='SO 15241'!E16 -> 0 | F16: Komplet. činnosť | I16: =Rekapitulácia!E8 -> 0
B17: MONT | C17: ='SO 15241'!C17 -> 0 | D17: ='SO 15241'!D17 -> 0 | E17: ='SO 15241'!E17 -> 0 | F17: HZS | I17: =Rekapitulácia!D8 -> 0
B18: VRN | C18: ='SO 15241'!C18 -> 0 | D18: ='SO 15241'!D18 -> 0 | E18: ='SO 15241'!E18 -> 0
B19: Spolu | E19: =SUM(E15:E18) -> 0 | F19: Spolu | I19: =SUM(I15:I18) -> 0
B20: VRN | F20: VRN
B21: Zariadenie staveniska | E21: ='SO 15241'!E21 -> 0 | F21: Sťažené podmienky dopravy | I21: ='SO 15241'!P21 -> 0
B22: Sťažené výrobné podmienky | E22: ='SO 15241'!E22 -> 0 | F22: Horské oblasti | I22: ='SO 15241'!P22 -> 0
B23: Prevádzkové vplyvy | E23: ='SO 15241'!E23 -> 0 | F23: Mimostavenisková doprava | I23: ='SO 15241'!P23 -> 0
F25: Spolu | I25: =SUM(E21:E24)+SUM(I21:I24) -> 0
B26: Projektant,rozpočtár | F26: Celkové náklady
F27: Celkové náklady bez DPH | I27: =E19+I19+I25 -> 0
F28: DPH 20% z | H28: =Rekapitulácia!B9 -> 0 | I28: =ROUND(((ROUND(H28,2)*20)/100),2)*1 -> 0
F29: DPH 0% z | H29: =Rekapitulácia!B10 -> 0 | I29: =ROUND(((ROUND(H29,2)*0)/100),2) -> 0
F30: Spolu v EUR | I30: =SUM(I27:I29) -> 0
B32: Odberateľ | E32: Dodávateľ

Sheet SO 15241
B1: Krycí list rozpočtu | E1: Rekapitulácia rozpočtu | H1: Rozpočet | W1: 30.126
B2: Krycí list rozpočtu
B3: Stavba Zlepšenie technickej vybavenosti v obci Vyšný Žipov s prítomnosťou MRK
B4: Objekt Časť A - SO 01 Chodník I.etapa | F4: Miesto:
F5: Ks:
B6: Zákazka: | D6: Spracoval: Ing. Ján Halgaš | F6: Dňa | G6: 1. 3. 2021
B7: Odberateľ: Obec Vyšný Žipov
B8: IČO: | F8: DIČ:
B9: Projektant:
B10: IČO: | F10: DIČ:
B11: Dodávateľ:
B12: IČO: | F12: DIČ:
B14: ZRN | C14: Montáž | D14: Materiál | E14: ZRN spolu | F14: Ďalšie náklady
B15: HSV | C15: ='SO 15241'!E63 -> 0 | D15: ='SO 15241'!F63 -> 0 | E15: ='SO 15241'!G63 -> 0 | F15: Ostatné náklady | P15: 0
B16: PSV | C16: ='SO 15241'!E67 -> 0 | D16: ='SO 15241'!F67 -> 0 | E16: ='SO 15241'!G67 -> 0 | F16: Komplet. činnosť | P16: =(SUM(Z84:Z154)) -> 0
B17: MONT | F17: HZS | P17: 0
B18: VRN
B19: Spolu | E19: =SUM(E15:E18) -> 0 | F19: Spolu | P19: =SUM(P15:P18) -> 0
B20: VRN | F20: VRN
B21: Zariadenie staveniska 0% | E21: =((E15*U22*0)+(E16*V22*0)+(E17*W22*0))/100 -> 0 | F21: Sťažené podmienky dopravy 0% | P21: =((E15*X22*0)+(E16*Y22*0)+(E17*Z22*0))/100 -> 0
B22: Sťažené výrobné podmienky 0% | E22: =((E15*U23*0)+(E16*V23*0)+(E17*W23*0))/100 -> 0 | F22: Horské oblasti 0% | P22: =((E15*X23*0)+(E16*Y23*0)+(E17*Z23*0))/100 -> 0 | U22: 1 | V22: 1 | W22: 1 | X22: 1 | Y22: 1 | Z22: 1
B23: Prevádzkové vplyvy 0% | E23: =((E15*U24*0)+(E16*V24*0)+(E17*W24*0))/100 -> 0 | F23: Mimostavenisková doprava 0% | P23: =((E15*X24*0)+(E16*Y24*0)+(E17*Z24*0))/100 -> 0 | U23: 1 | V23: 1 | W23: 0 | X23: 1 | Y23: 1 | Z23: 1
U24: 1 | V24: 1 | W24: 1 | X24: 1 | Y24: 1 | Z24: 0
F25: Spolu | P25: =SUM(E21:E24)+SUM(P21:P24) -> 0
B26: Projektant,rozpočtár | F26: Celkové náklady
F27: Celkové náklady bez DPH | P27: =E19+P19+E25+P25 -> 0
F28: DPH 20% z | H28: =P27-SUM('SO 15241'!K84:'SO 15241'!K154) -> 0 | P28: =ROUND(((ROUND(H28,2)*20)*1/100),2) -> 0
F29: DPH 0% z | H29: =SUM('SO 15241'!K84:'SO 15241'!K154) -> 0 | P29: =ROUND(((ROUND(H29,2)*0)/100),2) -> 0
F30: Spolu v EUR | P30: =SUM(P27:P29) -> 0
B32: Odberateľ | E32: Dodávateľ
B44: Rekapitulácia rozpočtu
B46: Odberateľ: Obec Vyšný Žipov | F46: Spracoval: Ing. Ján Halgaš
B47: Projektant: | F47: Ks:
B48: Dodávateľ: | F48: Dátum: 1. 3. 2021
B49: Stavba Zlepšenie technickej vybavenosti v obci Vyšný Žipov s prítomnosťou MRK
B50: Objekt Časť A - SO 01 Chodník I.etapa
B53: Prehľad rozpočtových nákladov
B54: Oddiel | E54: Montáž | F54: Materiál | G54: Spolu | H54: Hmotnosť (T) | I54: Suť (T)
B55: Práce HSV
B56: ZEMNÉ PRÁCE | E56: ='SO 15241'!L101 -> 0 | F56: ='SO 15241'!M101 -> 0 | G56: ='SO 15241'!I101 -> 0 | H56: ='SO 15241'!S101 -> 0.85 | I56: ='SO 15241'!V101 -> 0
B57: ZÁKLADY | E57: ='SO 15241'!L106 -> 0 | F57: ='SO 15241'!M106 -> 0 | G57: ='SO 15241'!I106 -> 0 | H57: ='SO 15241'!S106 -> 2.37 | I57: ='SO 15241'!V106 -> 0
B58: ZVISLÉ KONŠTRUKCIE | E58: ='SO 15241'!L111 -> 0 | F58: ='SO 15241'!M111 -> 0 | G58: ='SO 15241'!I111 -> 0 | H58: ='SO 15241'!S111 -> 0.32 | I58: ='SO 15241'!V111 -> 0
B59: SPEVNENÉ PLOCHY | E59: ='SO 15241'!L122 -> 0 | F59: ='SO 15241'!M122 -> 0 | G59: ='SO 15241'!I122 -> 0 | H59: ='SO 15241'!S122 -> 472.08 | I59: ='SO 15241'!V122 -> 0
B60: POTRUBNÉ ROZVODY | E60: ='SO 15241'!L127 -> 0 | F60: ='SO 15241'!M127 -> 0 | G60: ='SO 15241'!I127 -> 0 | H60: ='SO 15241'!S127 -> 0.21 | I60: ='SO 15241'!V127 -> 0
B61: OSTATNÉ PRÁCE | E61: ='SO 15241'!L139 -> 0 | F61: ='SO 15241'!M139 -> 0 | G61: ='SO 15241'!I139 -> 0 | H61: ='SO 15241'!S139 -> 146.3 | I61: ='SO 15241'!V139 -> 0
B62: PRESUNY HMÔT | E62: ='SO 15241'!L143 -> 0 | F62: ='SO 15241'!M143 -> 0 | G62: ='SO 15241'!I143 -> 0 | H62: ='SO 15241'!S143 -> 0 | I62: ='SO 15241'!V143 -> 0
B63: Práce HSV | E63: ='SO 15241'!L145 -> 0 | F63: ='SO 15241'!M145 -> 0 | G63: ='SO 15241'!I145 -> 0 | H63: ='SO 15241'!S145 -> 622.13 | I63: ='SO 15241'!V145 -> 0
B65: Práce PSV
B66: KOVOVÉ DOPLNKOVÉ KONŠTRUKCIE | E66: ='SO 15241'!L152 -> 0 | F66: ='SO 15241'!M152 -> 0 | G66: ='SO 15241'!I152 -> 0 | H66: ='SO 15241'!S152 -> 0.27 | I66: ='SO 15241'!V152 -> 0
B67: Práce PSV | E67: ='SO 15241'!L154 -> 0 | F67: ='SO 15241'!M154 -> 0 | G67: ='SO 15241'!I154 -> 0 | H67: ='SO 15241'!S154 -> 0.27 | I67: ='SO 15241'!V154 -> 0
B69: Celkom v EUR | E69: ='SO 15241'!L155 -> 0 | F69: ='SO 15241'!M155 -> 0 | G69: ='SO 15241'!I155 -> 0 | H69: ='SO 15241'!S155 -> 622.4 | I69: ='SO 15241'!V155 -> 0
B73: Rozpočet
B75: Odberateľ: Obec Vyšný Žipov | H75: Spracoval: | I75: Ing. Ján Halgaš
B76: Projektant: | H76: Ks:
B77: Dodávateľ: | H77: Dátum: | I77: 1. 3. 2021
B78: Zákazka Zlepšenie technickej vybavenosti v obci Vyšný Žipov s prítomnosťou MRK
B79: Objekt Časť A - SO 01 Chodník I.etapa
B82: Prehľad rozpočtových nákladov
B83: Por.č. | C83: Kód položky | D83: Názov | F83: Mj | G83: Množstvo | H83: Cena/Mj | I83: Cena celkom | P83: Hmotnosť/Mj | S83: Hmotnosť | V83: Suť
D84: Práce HSV
C85: 1 | D85: ZEMNÉ PRÁCE
B86: 1 | C86: 121101002 | D86: Odstránenie ornice ručne s vodorov. premiest., na hromady do 50 m hr. nad 150 mm | F86: m3 | G86: 194 | I86: =ROUND(G86*(H86),2) -> 0 | J86: =ROUND(G86*(N86),2) -> 3358.14 | K86: =ROUND(G86*(O86),2) -> 0 | M86: =ROUND(G86*(H86),2) -> 0 | N86: 17.31 | S86: =ROUND(G86*(P86),3) -> 0 | Z86: 0
B87: 2 | C87: 122201401 | D87: Výkop v zemníku na suchu v hornine 3, do 100 m3 | F87: m3 | G87: 86 | I87: =ROUND(G87*(H87),2) -> 0 | J87: =ROUND(G87*(N87),2) -> 322.5 | K87: =ROUND(G87*(O87),2) -> 0 | M87: =ROUND(G87*(H87),2) -> 0 | N87: 3.75 | S87: =ROUND(G87*(P87),3) -> 0 | Z87: 0
B88: 3 | C88: 122201409 | D88: Príplatok k cenám za lepivosť výkopu v zemníkoch na suchu v hornine 3 | F88: m3 | G88: 86 | I88: =ROUND(G88*(H88),2) -> 0 | J88: =ROUND(G88*(N88),2) -> 50.74 | K88: =ROUND(G88*(O88),2) -> 0 | M88: =ROUND(G88*(H88),2) -> 0 | N88: 0.59 | S88: =ROUND(G88*(P88),3) -> 0 | Z88: 0
B89: 4 | C89: 122202201 | D89: Odkopávka a prekopávka nezapažená pre cesty, v hornine 3 do 100 m3 | F89: m3 | G89: 56 | I89: =ROUND(G89*(H89),2) -> 0 | J89: =ROUND(G89*(N89),2) -> 294 | K89: =ROUND(G89*(O89),2) -> 0 | M89: =ROUND(G89*(H89),2) -> 0 | N89: 5.25 | S89: =ROUND(G89*(P89),3) -> 0 | Z89: 0
B90: 5 | C90: 122202209 | D90: Odkopávky a prekopávky nezapažené pre cesty. Príplatok za lepivosť horniny 3 | F90: m3 | G90: 56 | I90: =ROUND(G90*(H90),2) -> 0 | J90: =ROUND(G90*(N90),2) -> 53.76 | K90: =ROUND(G90*(O90),2) -> 0 | M90: =ROUND(G90*(H90),2) -> 0 | N90: 0.96 | S90: =ROUND(G90*(P90),3) -> 0 | Z90: 0
B91: 6 | C91: 130201001 | D91: Výkop jamy a ryhy v obmedzenom priestore horn. tr.3 ručne | F91: m3 | G91: 6 | I91: =ROUND(G91*(H91),2) -> 0 | J91: =ROUND(G91*(N91),2) -> 233.88 | K91: =ROUND(G91*(O91),2) -> 0 | M91: =ROUND(G91*(H91),2) -> 0 | N91: 38.98 | S91: =ROUND(G91*(P91),3) -> 0 | Z91: 0
B92: 7 | C92: 141701101 | D92: Pretláčanie rúry v hornina tr. 1-4 v hĺbky od 6 m dĺžky do 35 m vonkajšieho priemeru do 200 mm | F92: m | G92: 51.5 | I92: =ROUND(G92*(H92),2) -> 0 | J92: =ROUND(G92*(N92),2) -> 15347 | K92: =ROUND(G92*(O92),2) -> 0 | M92: =ROUND(G92*(H92),2) -> 0 | N92: 298 | P92: 0.01473 | R92: 0.01473 | S92: =ROUND(G92*(P92),3) -> 0.759 | Z92: 0
B93: 8 | C93: 1411089300 | D93: Rúrka hladká kruhová bezšvová D 21,3 mm, hrúbka steny 2,9mm ozn.11 353.0. | F93: m | G93: 56.65 | I93: =ROUND(G93*(H93),2) -> 0 | J93: =ROUND(G93*(N93),2) -> 112.73 | K93: =ROUND(G93*(O93),2) -> 0 | M93: =ROUND(G93*(H93),2) -> 0 | N93: 1.99 | P93: 0.00132 | R93: 0.00132 | S93: =ROUND(G93*(P93),3) -> 0.075 | Z93: 0
B94: 9 | C94: 171101102 | D94: Uloženie sypaniny do násypu súdržnej horniny s mierou zhutnenia na 96 % podľa Proctor-Standard | F94: m3 | G94: 148 | I94: =ROUND(G94*(H94),2) -> 0 | J94: =ROUND(G94*(N94),2) -> 259 | K94: =ROUND(G94*(O94),2) -> 0 | M94: =ROUND(G94*(H94),2) -> 0 | N94: 1.75 | S94: =ROUND(G94*(P94),3) -> 0 | Z94: 0
B95: 10 | C95: 171201202 | D95: Uloženie sypaniny na skládky nad 100 do 1000 m3 | F95: m3 | G95: 161.7 | I95: =ROUND(G95*(H95),2) -> 0 | J95: =ROUND(G95*(N95),2) -> 126.13 | K95: =ROUND(G95*(O95),2) -> 0 | M95: =ROUND(G95*(H95),2) -> 0 | N95: 0.78 | S95: =ROUND(G95*(P95),3) -> 0 | Z95: 0
B96: 11 | C96: 180402111 | D96: Založenie trávnika parkového výsevom v rovine do 1:5 | F96: m2 | G96: 323 | I96: =ROUND(G96*(H96),2) -> 0 | J96: =ROUND(G96*(N96),2) -> 245.48 | K96: =ROUND(G96*(O96),2) -> 0 | M96: =ROUND(G96*(H96),2) -> 0 | N96: 0.76 | S96: =ROUND(G96*(P96),3) -> 0 | Z96: 0
B97: 12 | C97: 0057211200 | D97: Trávové semeno - parková zmes | F97: kg | G97: 16.15 | I97: =ROUND(G97*(H97),2) -> 0 | J97: =ROUND(G97*(N97),2) -> 122.58 | K97: =ROUND(G97*(O97),2) -> 0 | M97: =ROUND(G97*(H97),2) -> 0 | N97: 7.59 | P97: 0.001 | R97: 0.001 | S97: =ROUND(G97*(P97),3) -> 0.016 | Z97: 0
B98: 13 | C98: 181101102 | D98: Úprava pláne v zárezoch v hornine 1-4 so zhutnením | F98: m2 | G98: 592.9 | I98: =ROUND(G98*(H98),2) -> 0 | J98: =ROUND(G98*(N98),2) -> 278.66 | K98: =ROUND(G98*(O98),2) -> 0 | M98: =ROUND(G98*(H98),2) -> 0 | N98: 0.47 | S98: =ROUND(G98*(P98),3) -> 0 | Z98: 0
B99: 14 | C99: 181301101 | D99: Rozprestretie ornice v rovine, plocha do 500 m2, hr.do 100 mm | F99: m2 | G99: 323 | I99: =ROUND(G99*(H99),2) -> 0 | J99: =ROUND(G99*(N99),2) -> 436.05 | K99: =ROUND(G99*(O99),2) -> 0 | M99: =ROUND(G99*(H99),2) -> 0 | N99: 1.35 | S99: =ROUND(G99*(P99),3) -> 0 | Z99: 0
B100: 15 | C100: 182201101 | D100: Svahovanie trvalých svahov v násype | F100: m2 | G100: 276 | I100: =ROUND(G100*(H100),2) -> 0 | J100: =ROUND(G100*(N100),2) -> 405.72 | K100: =ROUND(G100*(O100),2) -> 0 | M100: =ROUND(G100*(H100),2) -> 0 | N100: 1.47 | S100: =ROUND(G100*(P100),3) -> 0 | Z100: 0
C101: 1 | D101: ZEMNÉ PRÁCE | I101: =ROUND((SUM(I85:I100))/1,2) -> 0 | L101: =ROUND((SUM(L85:L100))/1,2) -> 0 | M101: =ROUND((SUM(M85:M100))/1,2) -> 0 | S101: =ROUND((SUM(S85:S100))/1,2) -> 0.85 | V101: =ROUND((SUM(V85:V100))/1,2) -> 0
C103: 2 | D103: ZÁKLADY
B104: 16 | C104: 274271310 | D104: Murovanie základových pásov (m3) z debniacich tvárnic 50x15x25 s betónovou výplňou C 16/20 hr. 150 mm | F104: m3 | G104: 3.915 | I104: =ROUND(G104*(H104),2) -> 0 | J104: =ROUND(G104*(N104),2) -> 628.71 | K104: =ROUND(G104*(O104),2) -> 0 | M104: =ROUND(G104*(H104),2) -> 0 | N104: 160.59 | S104: =ROUND(G104*(P104),3) -> 0 | Z104: 0
B105: 17 | C105: 5959411100 | D105: Tvárnica debniaca DT15, 50x15x25cm | F105: ks | G105: 131.805 | I105: =ROUND(G105*(H105),2) -> 0 | J105: =ROUND(G105*(N105),2) -> 158.17 | K105: =ROUND(G105*(O105),2) -> 0 | M105: =ROUND(G105*(H105),2) -> 0 | N105: 1.2 | P105: 0.018 | R105: 0.018 | S105: =ROUND(G105*(P105),3) -> 2.372 | Z105: 0
C106: 2 | D106: ZÁKLADY | I106: =ROUND((SUM(I103:I105))/1,2) -> 0 | L106: =ROUND((SUM(L103:L105))/1,2) -> 0 | M106: =ROUND((SUM(M103:M105))/1,2) -> 0 | S106: =ROUND((SUM(S103:S105))/1,2) -> 2.37 | V106: =ROUND((SUM(V103:V105))/1,2) -> 0
C108: 3 | D108: ZVISLÉ KONŠTRUKCIE
B109: 18 | C109: 338171121 | D109: Osadenie stĺpika oceľového plotového do výšky 2.60m zaliatim cem.mal. | F109: ks | G109: 51 | I109: =ROUND(G109*(H109),2) -> 0 | J109: =ROUND(G109*(N109),2) -> 266.73 | K109: =ROUND(G109*(O109),2) -> 0 | M109: =ROUND(G109*(H109),2) -> 0 | N109: 5.23 | P109: 0.00634 | R109: 0.00634 | S109: =ROUND(G109*(P109),3) -> 0.323 | Z109: 0
B110: 19 | C110: 5535850005 | D110: Stĺpik AXYLE alebo ekvivalent, výška:2,0 m, pre osadenie do betónových pätiek | F110: ks | G110: 51 | I110: =ROUND(G110*(H110),2) -> 0 | J110: =ROUND(G110*(N110),2) -> 2203.2 | K110: =ROUND(G110*(O110),2) -> 0 | M110: =ROUND(G110*(H110),2) -> 0 | N110: 43.2 | S110: =ROUND(G110*(P110),3) -> 0 | Z110: 0
C111: 3 | D111: ZVISLÉ KONŠTRUKCIE | I111: =ROUND((SUM(I108:I110))/1,2) -> 0 | L111: =ROUND((SUM(L108:L110))/1,2) -> 0 | M111: =ROUND((SUM(M108:M110))/1,2) -> 0 | S111: =ROUND((SUM(S108:S110))/1,2) -> 0.32 | V111: =ROUND((SUM(V108:V110))/1,2) -> 0
C113: 5 | D113: SPEVNENÉ PLOCHY
B114: 20 | C114: 564732111 | D114: Podklad alebo kryt z kameniva hrubého drveného veľ. 32-63mm(vibr.štrk) po zhut.hr. 100 mm | F114: m2 | G114: 560.4 | I114: =ROUND(G114*(H114),2) -> 0 | J114: =ROUND(G114*(N114),2) -> 2645.09 | K114: =ROUND(G114*(O114),2) -> 0 | M114: =ROUND(G114*(H114),2) -> 0 | N114: 4.72 | P114: 0.25094 | R114: 0.25094 | S114: =ROUND(G114*(P114),3) -> 140.627 | Z114: 0
B115: 21 | C115: 564752111 | D115: Podklad alebo kryt z kameniva hrubého drveného veľ. 32-63mm(vibr.štrk) po zhut.hr. 150 mm | F115: m2 | G115: 32.5 | I115: =ROUND(G115*(H115),2) -> 0 | J115: =ROUND(G115*(N115),2) -> 210.28 | K115: =ROUND(G115*(O115),2) -> 0 | M115: =ROUND(G115*(H115),2) -> 0 | N115: 6.47 | P115: 0.36834 | R115: 0.36834 | S115: =ROUND(G115*(P115),3) -> 11.971 | Z115: 0
B116: 22 | C116: 564851111 | D116: Podklad zo štrkodrviny s rozprestretím a zhutnením, po zhutnení hr. 150 mm | F116: m2 | G116: 560.4 | I116: =ROUND(G116*(H116),2) -> 0 | J116: =ROUND(G116*(N116),2) -> 2533.01 | K116: =ROUND(G116*(O116),2) -> 0 | M116: =ROUND(G116*(H116),2) -> 0 | N116: 4.52 | P116: 0.27994 | R116: 0.27994 | S116: =ROUND(G116*(P116),3) -> 156.878 | Z116: 0
B117: 23 | C117: 564861111 | D117: Podklad zo štrkodrviny s rozprestretím a zhutnením, po zhutnení hr. 200 mm | F117: m2 | G117: 32.5 | I117: =ROUND(G117*(H117),2) -> 0 | J117: =ROUND(G117*(N117),2) -> 189.48 | K117: =ROUND(G117*(O117),2) -> 0 | M117: =ROUND(G117*(H117),2) -> 0 | N117: 5.83 | P117: 0.3708 | R117: 0.3708 | S117: =ROUND(G117*(P117),3) -> 12.051 | Z117: 0
B118: 24 | C118: 596911112 | D118: Kladenie zámkovej dlažby hr. 6 cm pre peších nad 20 m2 so zriadením lôžka z kameniva hr. 4 cm | F118: m2 | G118: 560.4 | I118: =ROUND(G118*(H118),2) -> 0 | J118: =ROUND(G118*(N118),2) -> 7985.7 | K118: =ROUND(G118*(O118),2) -> 0 | M118: =ROUND(G118*(H118),2) -> 0 | N118: 14.25 | P118: 0.112 | R118: 0.112 | S118: =ROUND(G118*(P118),3) -> 62.765 | Z118: 0
B119: 25 | C119: 5921952300 | D119: Dlažba Low value Premac HAKA 6N- alebo ekvivalent normál, sivá 20x16,5x6 cm | F119: m2 | G119: 566.004 | I119: =ROUND(G119*(H119),2) -> 0 | J119: =ROUND(G119*(N119),2) -> 8829.66 | K119: =ROUND(G119*(O119),2) -> 0 | M119: =ROUND(G119*(H119),2) -> 0 | N119: 15.6 | P119: 0.138 | R119: 0.138 | S119: =ROUND(G119*(P119),3) -> 78.109 | Z119: 0
B120: 26 | C120: 596911212 | D120: Kladenie zámkovej dlažby hr. 8 cm pre peších nad 20 m2 so zriadením lôžka z kameniva hr. 4 cm | F120: m2 | G120: 32.5 | I120: =ROUND(G120*(H120),2) -> 0 | J120: =ROUND(G120*(N120),2) -> 504.4 | K120: =ROUND(G120*(O120),2) -> 0 | M120: =ROUND(G120*(H120),2) -> 0 | N120: 15.52 | P120: 0.112 | R120: 0.112 | S120: =ROUND(G120*(P120),3) -> 3.64 | Z120: 0
B121: 27 | C121: 5921952470 | D121: Dlažba Low value Premac HAKA 8N alebo ekvivalent -normál 20x16,5x8cm, červená | F121: m2 | G121: 32.825 | I121: =ROUND(G121*(H121),2) -> 0 | J121: =ROUND(G121*(N121),2) -> 528.48 | K121: =ROUND(G121*(O121),2) -> 0 | M121: =ROUND(G121*(H121),2) -> 0 | N121: 16.1 | P121: 0.184 | R121: 0.184 | S121: =ROUND(G121*(P121),3) -> 6.04 | Z121: 0
C122: 5 | D122: SPEVNENÉ PLOCHY | I122: =ROUND((SUM(I113:I121))/1,2) -> 0 | L122: =ROUND((SUM(L113:L121))/1,2) -> 0 | M122: =ROUND((SUM(M113:M121))/1,2) -> 0 | S122: =ROUND((SUM(S113:S121))/1,2) -> 472.08 | V122: =ROUND((SUM(V113:V121))/1,2) -> 0
C124: 8 | D124: POTRUBNÉ ROZVODY
B125: 28 | C125: 895991142 | D125: Osadenie polypropylénovej uličnej vpuste DN 300, vývod DN 200 | F125: ks | G125: 6 | I125: =ROUND(G125*(H125),2) -> 0 | J125: =ROUND(G125*(N125),2) -> 38.76 | K125: =ROUND(G125*(O125),2) -> 0 | M125: =ROUND(G125*(H125),2) -> 0 | N125: 6.46 | P125: 2e-05 | R125: 2e-05 | S125: =ROUND(G125*(P125),3) -> 0 | Z125: 0
B126: 29 | C126: 2860007230 | D126: Obrubníková vpusť | F126: ks | G126: 6 | I126: =ROUND(G126*(H126),2) -> 0 | J126: =ROUND(G126*(N126),2) -> 647.1 | K126: =ROUND(G126*(O126),2) -> 0 | M126: =ROUND(G126*(H126),2) -> 0 | N126: 107.85 | P126: 0.03493 | R126: 0.03493 | S126: =ROUND(G126*(P126),3) -> 0.21 | Z126: 0
C127: 8 | D127: POTRUBNÉ ROZVODY | I127: =ROUND((SUM(I124:I126))/1,2) -> 0 | L127: =ROUND((SUM(L124:L126))/1,2) -> 0 | M127: =ROUND((SUM(M124:M126))/1,2) -> 0 | S127: =ROUND((SUM(S124:S126))/1,2) -> 0.21 | V127: =ROUND((SUM(V124:V126))/1,2) -> 0
C129: 9 | D129: OSTATNÉ PRÁCE
...
